{"text_format":"1","workbook":"xlsx","n_sheets":18,"sheets":["Berech. Lagerraum flüssig+fest","Betriebe mit Separation","Abweichende Werte","Zu- und Abgang","Separierung","Tiere","Tiere orginal","org Dünger","Stroh","Erläuterungen","alt Tiere","Tabelle1","Tabelle2","Hinweise zum Programm","Tiere2","Lagerr. GL. rote Gebiete","Tabelle3","Niederschläge"],"not_rendered":{"charts":0,"images":3,"macros":1,"external_links":0,"defined_names":17,"comments":8,"pivot_tables":0},"unopened":[],"bounds":{"document_bytes":16777216,"sheet_cells":100000,"rows_first":2000,"rows_last":500,"rows_between":2000,"halvings":0,"cell_chars":16384,"cell_head_chars":4096},"cells_cut":0,"cells_raw":0,"read":"whole","date_system":"1900"}

{"sheet":"Berech. Lagerraum flüssig+fest","index":0,"n_rows":160,"n_cols":94,"rows_kept":160,"cut":false,"hidden":false,"merged":[[134,39,140,39],[134,37,140,37],[133,2,133,7],[134,38,140,38],[134,20,140,20],[134,17,140,17],[134,18,140,18],[119,0,119,1],[115,6,115,7],[121,0,121,1],[134,23,140,23],[118,0,118,1],[117,0,117,7],[134,19,140,19],[134,25,140,25],[1,0,1,5],[2,2,2,5],[121,2,121,7],[119,2,119,7],[120,2,120,7],[120,0,120,1],[118,2,118,7],[115,2,115,3],[108,6,108,7],[112,2,112,3],[107,2,107,3],[42,0,42,5],[40,0,40,5],[43,0,43,5],[30,0,30,2],[41,0,41,5],[106,6,106,7],[39,0,39,5],[1,7,1,9],[4,0,4,9],[5,0,6,9],[106,2,106,3],[134,42,140,42],[134,33,140,33],[134,34,140,34],[134,35,140,35],[134,36,140,36],[116,0,116,1],[114,6,114,7],[108,0,108,1],[114,2,114,3],[115,0,115,1],[110,6,110,7],[110,2,110,3],[113,2,113,3],[116,2,116,3],[110,4,110,5],[113,0,113,1],[110,0,110,1],[108,2,108,3],[116,6,116,7],[111,6,111,7],[114,0,114,1],[111,2,111,3],[112,6,112,7],[113,6,113,7],[134,41,140,41],[19,71,19,72],[109,4,109,5],[109,0,109,1],[109,6,109,7],[105,4,105,5],[48,0,48,9],[109,2,109,3],[107,0,107,1],[107,6,107,7],[105,8,105,9],[26,0,26,2],[31,0,31,2],[38,6,38,7],[36,0,36,2],[33,0,33,2],[34,0,34,7],[56,3,56,5],[106,4,106,5],[101,0,101,9],[108,4,108,5],[105,6,105,7],[105,2,105,3],[107,4,107,5],[18,98,18,99],[19,68,19,70],[27,0,27,2],[19,54,19,56],[29,0,29,2],[17,0,20,2],[19,92,19,93],[19,77,19,79],[19,74,19,76],[28,0,28,2],[19,82,19,83],[24,0,24,2],[19,46,19,48],[19,49,19,51],[22,0,22,2],[19,80,19,81],[18,4,18,5],[25,0,25,2],[18,63,18,65],[19,42,19,44],[18,22,18,25],[18,26,18,29],[18,46,18,51],[18,17,18,19],[18,39,18,44],[23,0,23,2],[78,8,78,9],[17,15,17,18],[18,15,18,16],[75,3,75,4],[75,7,75,8],[51,0,51,9],[17,3,17,7],[32,0,32,2],[35,0,35,2],[19,39,19,41],[19,35,19,37],[18,32,18,37],[19,32,19,34],[18,6,18,7],[17,8,17,9],[17,22,17,29],[37,0,37,2]]}
["Antragsteller (Name, Vorname bzw. Unternehmensbezeichnung)",null,null,null,null,null,"Betriebsnummer"]
[null,null,null,null,null,null,"09"]
[" Anlage zum Antrag vom "]
["nach Richtlinie vom XX. Mai 2023; Az. G4-7271-1/XXXX"]
["Berechnung Lagerraum für Gülle, Jauche und Festmist für tierhaltende Betriebe  "]
["Erhöhung der Lagerkapazität für flüssigen Wirtschaftsdünger auf 9 Monate / Festmist auf 4 Monate "]
[]
[null,null,null,null,null,null,null,null,null,null,null,null,null,null,null,"Landkreis aus Betriebsnummer"]
["Alle Eingaben aus der Ziellösung!",null,"Zieljahr:",null,null,null,null,null,null,null,null,null,null,null,null,{"$f":"+H2","v":0},{"$f":"LEFT(P9,3)","v":"0"},{"$f":"IF(Q9=Niederschläge!A2:A97,Niederschläge!D2:D97,0)","v":0}]
[null,{"$f":"IF(BG39=2,IF(B11<3000,\"Milchleistung nicht plausibel\",\" \"),\" \")","v":" "}]
["Milchleistung:",null,"kg/Kuh und Jahr",null,null,null,null,null,null,null,null,null,null,"Fläche im grünen Gebiet (%) ab 2020",null,null,null,null,null,{"$f":"IF(W11=1,0,100)","v":0},null,null,1,"nein",null,null,null,null,null,null,null,null,null,null,null,null,null,null,null,null,null,null,null,null,null,null,null,null,null,null,null,null,null,null,null,{"$f":"IF(F9=0,0,+(#REF!-#REF!)/(F9-#REF!-#REF!))","v":0},null,null,"% Grünlandanteil"]
["Niederschlag:",null,{"$f":"IF(B12>0,B12,+Niederschläge!L98)","v":0},"mm/Jahr (langj. Mittel)",null,null,null,null,null,null,null,null,null,null,null,null,null,null,null,null,null,null,null,"ja"]
[]
[]
["Anfall flüssiger und fester Wirtschaftsdünger (Gülle/Jauche/Stallmist) aus Tierhaltung",null,null,null,null,null,null,null,null,null,null,null,null,null,null,null,null,null,null,null,null,null,"Nährstoffanfall Betrieb"]
[]
[]
["Tierhaltung",null,null,"Ø Jahresbestand",null,null,null,null,"Anfall Betrieb",null,null,null,null,"Anfall",null,"Anfall Betrieb t/Jahr",null,null,null,null,null,null,"Gülle und Jauche"]
[null,null,null,"Gülle","Stallmist/Jauche",null,"Weide",null,"Gülle,","Stall-",null,null,null,"SM",null,"Sommer",null,"Winter",null,null,"Plaus. Tiere ohne Gülle",null,"Sommer",null,null,null,"Winter",null,null,null,"Gülle","Jauche","Festmist",null,null,null,null,null,"Festmist","Stroh",null,null,null,null,null,null,"Anzahl ohne Weide",null,null,null,null,null,"Anfall","Anfall",null,null,null,null,null,null,null,null,null,"Nährstoffauss. Anfall"]
[null,null,null,null,null,"Einstreu-","Apr-Sep","Okt-Mär","Jauche","mist",null,null,null,null,null,"Gülle","Stallmist","Gülle","Stallmist","Stallmist","Gülle","Mist","N","N","P205","K2O","N","N","P205","K2O","% TS","% TS","Sommer",null,null,"Winter",null,null,"% TS","Sommer",null,null,"Winter",null,null,null,"Sommer",null,null,"Winter",null,null,"Jauche","Mist","Jauche Nährstoffg.",null,null,null,null,null,"GV","GV","GV",null,null,null,"Gülle","Jauche","Mist",null,null,"Verluste",null,"spez.Gew.","Einstreu kg je GV und Tag",null,null,"Nähstoffgehalt Stroh kg/t",null,null,"Lager in Monate Stallmist",null,"Mistanfall im m³",null,"Anfall Gülle ","Anfall Jauche ",null,null,null,"NH4-N Anteil",null,null,"NH4 in kg N"]
[null,null,null,"Anzahl","Anzahl","menge","in %","in %","m³/Jahr","t/Jahr",null,null,null,"m³/Jahr",null,null,null,null,null,"m³","Anzahl","Anzahl",null,"Rind",null,null,null,"Rind",null,null,null,null,"N","P205","K2O","N","P205","K2O",null,"N","P205","K2O","N","P205","K2O",null,"Gülle ","Mist","Mist für Stroh Geflügel","Gülle","Mist","Mist für Stroh Geflügel",null,null,"N","P205","K2O","Tierart","Tiergruppe","Stroh",null,null,"Gesamt","N","P205","K2O","Anfall","Anfall","gering","mittel","hoch","Gülle","Mist,Jauche","Mist","ger.","mittel","hoch","N","P205","K2O","bis 2020","ab 2020","bis 2020","ab 2020","gesamt ","gesamt",null,null,null,"Gülle","Jauche","Mist","Gülle/Jauche","Mist"]
[]
[null,null,null,null,null,null,null,null,{"$f":"IF(P23+R23=0,\" \",(P23+R23)/2)","v":" "},{"$f":"IF(Q23+S23=0,\" \",(Q23+S23)/2)","v":" "},null,null,null,{"$f":"IF(J23=\" \",\" \",(J23*(1/BV23)))","v":" "},null,{"$f":"IF(CJ23=FALSE,0,IF(U23+V23=0,0,IF(AU23*BO23+AV23*BA23=0,0,AU23*BO23+AV23*BA23)))","v":0},{"$f":"IF(CJ23=FALSE,0,IF(V23=0,0,IF(AY23+AV23=0,0,IF(BF23=4,AV23*BB23-(D23*(1-G23/100)*BB23)*((1220/1000)/(2*11)),AV23*BB23))))","v":0},{"$f":"IF(CJ23=FALSE,0,IF(U23+V23=0,0,IF(AX23*BO23+AY23*BA23=0,0,AX23*BO23+AY23*BA23)))","v":0},{"$f":"IF(CJ23=FALSE,0,IF(V23=0,0,IF(AY23+AV23=0,0,IF(BF23=4,AY23*BB23-(D23*(1-H23/100)*BB23)*((1220/1000)/(2*11)),AY23*BB23))))","v":0},{"$f":"IF(S23=0,\" \",(S23*(1/BV23)))","v":" "},{"$f":"IF(BO23=0,0,D23)","v":0},{"$f":"IF(BO23=0,D23+E23,E23)","v":0},{"$f":"+(AU23*BL23*(100-BT23)/100)+(BA23*BC23*AV23)","v":0},{"$f":"IF(BF23=2,W23,0)","v":0},{"$f":"AU23*BM23+AV23*BA23*BD23","v":0},{"$f":"AU23*BN23+AV23*BA23*BE23","v":0},{"$f":"+(AX23*BL23*(100-BT23)/100)+(BA23*BC23*AY23)","v":0},{"$f":"IF(BF23=2,AA23,0)","v":0},{"$f":"AX23*BM23+AY23*BA23*BD23","v":0},{"$f":"AX23*BN23+AY23*BA23*BE23","v":0},{"$f":"INDEX(Tiere!K$30:K$79,'Berech. Lagerraum flüssig+fest'!$BG23)","v":0},{"$f":"INDEX(Tiere!S$30:S$79,'Berech. Lagerraum flüssig+fest'!BG23)","v":0},{"$f":"+(AV23*BL23*(100-BU23)/100)-BA23*AV23*BC23","v":0},{"$f":"AV23*BM23-AV23*BA23*BD23","v":0},{"$f":"AV23*BN23-AV23*BA23*BE23","v":0},{"$f":"+(AY23*BL23*(100-BU23)/100)-BA23*AY23*BC23","v":0},{"$f":"AY23*BM23-AY23*BA23*BD23","v":0},{"$f":"AY23*BN23-AY23*BA23*BE23","v":0},{"$f":"INDEX(Tiere!P$30:P$79,'Berech. Lagerraum flüssig+fest'!$BG23)","v":0},{"$f":"IF(BH23=1,AW23*BW23*BJ23*365/1000*BZ23,IF(BH23=2,AW23*BX23*BJ23*365/1000*BZ23,AW23*BY23*BJ23*365/1000*BZ23))","v":0},{"$f":"IF(BH23=1,AW23*BW23*BJ23*365/1000*CA23,IF(BH23=2,AW23*BX23*BJ23*365/1000*CA23,AW23*BY23*BJ23*365/1000*CA23))","v":0},{"$f":"IF(BH23=1,AW23*BW23*BJ23*365/1000*CB23,IF(BH23=2,AW23*BX23*BJ23*365/1000*CB23,AW23*BY23*BJ23*365/1000*CB23))","v":0},{"$f":"IF(BH23=1,AZ23*BW23*BJ23*365/1000*BZ23,IF(BH23=2,AZ23*BX23*BJ23*365/1000*BZ23,AZ23*BY23*BJ23*365/1000*BZ23))","v":0},{"$f":"IF(BH23=1,AZ23*BW23*BJ23*365/1000*CA23,IF(BH23=2,AZ23*BX23*BJ23*365/1000*CA23,AZ23*BY23*BJ23*365/1000*CA23))","v":0},{"$f":"IF(BH23=1,AZ23*BW23*BJ23*365/1000*CB23,IF(BH23=2,AZ23*BX23*BJ23*365/1000*CB23,AZ23*BY23*BJ23*365/1000*CB23))","v":0},null,{"$f":"+U23*(100-$G23)/100","v":0},{"$f":"+V23*(100-$G23)/100","v":0},{"$f":"+E23*(100-$G23)/100","v":0},{"$f":"+U23*(100-$H23)/100","v":0},{"$f":"+V23*(100-$H23)/100","v":0},{"$f":"+E23*(100-$H23)/100","v":0},{"$f":"IF(BH23=1,BP23,IF(BH23=2,BP23/2,0))","v":0},{"$f":"IF(BH23=1,BQ23,IF(BH23=2,BR23,BS23))","v":0},{"$f":"IF(BF23=2,3.2,IF(BF23=3,3.3,0))","v":0},{"$f":"IF(BF23=2,0,IF(BF23=3,0,0))","v":0},{"$f":"IF(BF23=2,7.9,IF(BF23=3,3.1,0))","v":0},{"$f":"IF(BG23<2,1,IF(BG23<11,2,IF(BG23<26,3,IF(BG23<40,4,5))))","v":1},1,1,{"$f":"INDEX(Tiere!C$30:C$79,'Berech. Lagerraum flüssig+fest'!$BG23)","v":0},{"$f":"IF(BI23>0.001,BI23,\"1\")","v":"1"},{"$f":"U23*BI23+V23*BI23","v":0},{"$f":"INDEX(Tiere!D$30:D$79,'Berech. Lagerraum flüssig+fest'!$BG23)","v":0},{"$f":"INDEX(Tiere!E$30:E$79,'Berech. Lagerraum flüssig+fest'!$BG23)","v":0},{"$f":"INDEX(Tiere!F$30:F$79,'Berech. Lagerraum flüssig+fest'!$BG23)","v":0},{"$f":"INDEX(Tiere!J$30:J$79,'Berech. Lagerraum flüssig+fest'!$BG23)","v":0},{"$f":"INDEX(Tiere!R$30:R$79,'Berech. Lagerraum flüssig+fest'!$BG23)","v":0},{"$f":"INDEX(Tiere!M$30:M$79,'Berech. Lagerraum flüssig+fest'!$BG23)","v":0},{"$f":"INDEX(Tiere!N$30:N$79,'Berech. Lagerraum flüssig+fest'!$BG23)","v":0},{"$f":"INDEX(Tiere!O$30:O$79,'Berech. Lagerraum flüssig+fest'!$BG23)","v":0},{"$f":"INDEX(Tiere!T$30:T$79,'Berech. Lagerraum flüssig+fest'!$BG23)","v":0},{"$f":"INDEX(Tiere!U$30:U$79,'Berech. Lagerraum flüssig+fest'!$BG23)","v":0},{"$f":"INDEX(Tiere!V$30:V$79,'Berech. Lagerraum flüssig+fest'!$BG23)","v":0},{"$f":"INDEX(Tiere!W$30:W$79,'Berech. Lagerraum flüssig+fest'!$BG23)","v":0},{"$f":"INDEX(Tiere!X$30:X$79,'Berech. Lagerraum flüssig+fest'!$BG23)","v":0},{"$f":"INDEX(Tiere!Y$30:Y$79,'Berech. Lagerraum flüssig+fest'!$BG23)","v":0},5,3,17,{"$f":"INDEX(Tiere!Z$30:Z$79,'Berech. Lagerraum flüssig+fest'!$BG23)","v":0},{"$f":"INDEX(Tiere!AA$30:AA$79,'Berech. Lagerraum flüssig+fest'!$BG23)","v":0},{"$f":"IF(N23=\" \",0,CC23*N23)","v":0},{"$f":"IF(N23=\" \",0,CD23*N23)","v":0},{"$f":"(AU23+AX23)/2*BO23","v":0},{"$f":"(AV23+AY23)/2*BA23","v":0},null,{"$f":"AND(BG23>1)","v":false},null,{"$f":"INDEX(Tiere!AB$30:AB$79,'Berech. Lagerraum flüssig+fest'!$BG23)","v":0},{"$f":"INDEX(Tiere!AC$30:AC$79,'Berech. Lagerraum flüssig+fest'!$BG23)","v":0},{"$f":"INDEX(Tiere!AD$30:AD$79,'Berech. Lagerraum flüssig+fest'!$BG23)","v":0},{"$f":"+((((AU23*BL23*(100-BT23)/100)*(CL23/100))+((BA23*BC23*AV23)*(CM23/100)))+(((AX23*BL23*(100-BT23)/100)*(CL23/100))+((BA23*BC23*AY23)*(CM23/100))))/2","v":0},{"$f":"+((AG23+AN23+AJ23+AQ23)/2)/100*CN23","v":0}]
[null,null,null,null,null,null,null,null,{"$f":"IF(P24+R24=0,\" \",(P24+R24)/2)","v":" "},{"$f":"IF(Q24+S24=0,\" \",(Q24+S24)/2)","v":" "},null,null,null," ",null,0,0,0,0," ",0,0,{"$f":"+(AU24*BL24*(100-BT24)/100)+(BA24*BC24*AV24)","v":0},{"$f":"IF(BF24=2,W24,0)","v":0},{"$f":"AU24*BM24+AV24*BA24*BD24","v":0},{"$f":"AU24*BN24+AV24*BA24*BE24","v":0},0,0,0,0,{"$f":"INDEX(Tiere!K$30:K$79,'Berech. Lagerraum flüssig+fest'!$BG24)","v":0},{"$f":"INDEX(Tiere!S$30:S$79,'Berech. Lagerraum flüssig+fest'!BG24)","v":0},{"$f":"+(AV24*BL24*(100-BU24)/100)-BA24*AV24*BC24","v":0},{"$f":"AV24*BM24-AV24*BA24*BD24","v":0},{"$f":"AV24*BN24-AV24*BA24*BE24","v":0},0,0,0,{"$f":"INDEX(Tiere!P$30:P$79,'Berech. Lagerraum flüssig+fest'!$BG24)","v":0},{"$f":"IF(BH24=1,AW24*BW24*BJ24*365/1000*BZ24,IF(BH24=2,AW24*BX24*BJ24*365/1000*BZ24,AW24*BY24*BJ24*365/1000*BZ24))","v":0},{"$f":"IF(BH24=1,AW24*BW24*BJ24*365/1000*CA24,IF(BH24=2,AW24*BX24*BJ24*365/1000*CA24,AW24*BY24*BJ24*365/1000*CA24))","v":0},{"$f":"IF(BH24=1,AW24*BW24*BJ24*365/1000*CB24,IF(BH24=2,AW24*BX24*BJ24*365/1000*CB24,AW24*BY24*BJ24*365/1000*CB24))","v":0},{"$f":"IF(BH24=1,AZ24*BW24*BJ24*365/1000*BZ24,IF(BH24=2,AZ24*BX24*BJ24*365/1000*BZ24,AZ24*BY24*BJ24*365/1000*BZ24))","v":0},{"$f":"IF(BH24=1,AZ24*BW24*BJ24*365/1000*CA24,IF(BH24=2,AZ24*BX24*BJ24*365/1000*CA24,AZ24*BY24*BJ24*365/1000*CA24))","v":0},{"$f":"IF(BH24=1,AZ24*BW24*BJ24*365/1000*CB24,IF(BH24=2,AZ24*BX24*BJ24*365/1000*CB24,AZ24*BY24*BJ24*365/1000*CB24))","v":0},null,0,0,0,0,0,0,{"$f":"IF(BH24=1,BP24,IF(BH24=2,BP24/2,0))","v":0},{"$f":"IF(BH24=1,BQ24,IF(BH24=2,BR24,BS24))","v":0},{"$f":"IF(BF24=2,3.2,IF(BF24=3,3.3,0))","v":0},{"$f":"IF(BF24=2,0,IF(BF24=3,0,0))","v":0},{"$f":"IF(BF24=2,7.9,IF(BF24=3,3.1,0))","v":0},{"$f":"IF(BG24<2,1,IF(BG24<11,2,IF(BG24<26,3,IF(BG24<40,4,5))))","v":1},1,1,{"$f":"INDEX(Tiere!C$30:C$79,'Berech. Lagerraum flüssig+fest'!$BG24)","v":0},{"$f":"IF(BI24>0.001,BI24,\"1\")","v":"1"},{"$f":"D24*BI24+E24*BI24","v":0},{"$f":"INDEX(Tiere!D$30:D$79,'Berech. Lagerraum flüssig+fest'!$BG24)","v":0},{"$f":"INDEX(Tiere!E$30:E$79,'Berech. Lagerraum flüssig+fest'!$BG24)","v":0},{"$f":"INDEX(Tiere!F$30:F$79,'Berech. Lagerraum flüssig+fest'!$BG24)","v":0},{"$f":"INDEX(Tiere!J$30:J$79,'Berech. Lagerraum flüssig+fest'!$BG24)","v":0},{"$f":"INDEX(Tiere!R$30:R$79,'Berech. Lagerraum flüssig+fest'!$BG24)","v":0},{"$f":"INDEX(Tiere!M$30:M$79,'Berech. Lagerraum flüssig+fest'!$BG24)","v":0},{"$f":"INDEX(Tiere!N$30:N$79,'Berech. Lagerraum flüssig+fest'!$BG24)","v":0},{"$f":"INDEX(Tiere!O$30:O$79,'Berech. Lagerraum flüssig+fest'!$BG24)","v":0},{"$f":"INDEX(Tiere!T$30:T$79,'Berech. Lagerraum flüssig+fest'!$BG24)","v":0},{"$f":"INDEX(Tiere!U$30:U$79,'Berech. Lagerraum flüssig+fest'!$BG24)","v":0},{"$f":"INDEX(Tiere!V$30:V$79,'Berech. Lagerraum flüssig+fest'!$BG24)","v":0},{"$f":"INDEX(Tiere!W$30:W$79,'Berech. Lagerraum flüssig+fest'!$BG24)","v":0},{"$f":"INDEX(Tiere!X$30:X$79,'Berech. Lagerraum flüssig+fest'!$BG24)","v":0},{"$f":"INDEX(Tiere!Y$30:Y$79,'Berech. Lagerraum flüssig+fest'!$BG24)","v":0},5,3,17,{"$f":"INDEX(Tiere!Z$30:Z$79,'Berech. Lagerraum flüssig+fest'!$BG24)","v":0},{"$f":"INDEX(Tiere!AA$30:AA$79,'Berech. Lagerraum flüssig+fest'!$BG24)","v":0},0,0,{"$f":"(AU24+AX24)/2*BO24","v":0},{"$f":"(AV24+AY24)/2*BA24","v":0},null,{"$f":"AND(BG24>1)","v":false},null,{"$f":"INDEX(Tiere!AB$30:AB$79,'Berech. Lagerraum flüssig+fest'!$BG24)","v":0},{"$f":"INDEX(Tiere!AC$30:AC$79,'Berech. Lagerraum flüssig+fest'!$BG24)","v":0},{"$f":"INDEX(Tiere!AD$30:AD$79,'Berech. Lagerraum flüssig+fest'!$BG24)","v":0},{"$f":"+((((AU24*BL24*(100-BT24)/100)*(CL24/100))+((BA24*BC24*AV24)*(CM24/100)))+(((AX24*BL24*(100-BT24)/100)*(CL24/100))+((BA24*BC24*AY24)*(CM24/100))))/2","v":0},{"$f":"+((AG24+AN24+AJ24+AQ24)/2)/100*CN24","v":0}]
[null,null,null,null,null,null,null,null," ",{"$f":"IF(Q25+S25=0,\" \",(Q25+S25)/2)","v":" "},null,null,null," ",null,0,0,0,0," ",0,0,0,0,0,0,0,0,0,0,{"$f":"INDEX(Tiere!K$30:K$79,'Berech. Lagerraum flüssig+fest'!$BG25)","v":0},{"$f":"INDEX(Tiere!S$30:S$79,'Berech. Lagerraum flüssig+fest'!BG25)","v":0},0,0,0,0,0,0,{"$f":"INDEX(Tiere!P$30:P$79,'Berech. Lagerraum flüssig+fest'!$BG25)","v":0},0,0,0,0,0,0,null,0,0,0,0,0,0,0,0,{"$f":"IF(BF25=2,3.2,IF(BF25=3,3.3,0))","v":0},0,0,1,1,1,{"$f":"INDEX(Tiere!C$30:C$79,'Berech. Lagerraum flüssig+fest'!$BG25)","v":0},"1",0,{"$f":"INDEX(Tiere!D$30:D$79,'Berech. Lagerraum flüssig+fest'!$BG25)","v":0},{"$f":"INDEX(Tiere!E$30:E$79,'Berech. Lagerraum flüssig+fest'!$BG25)","v":0},{"$f":"INDEX(Tiere!F$30:F$79,'Berech. Lagerraum flüssig+fest'!$BG25)","v":0},{"$f":"INDEX(Tiere!J$30:J$79,'Berech. Lagerraum flüssig+fest'!$BG25)","v":0},{"$f":"INDEX(Tiere!R$30:R$79,'Berech. Lagerraum flüssig+fest'!$BG25)","v":0},{"$f":"INDEX(Tiere!M$30:M$79,'Berech. Lagerraum flüssig+fest'!$BG25)","v":0},{"$f":"INDEX(Tiere!N$30:N$79,'Berech. Lagerraum flüssig+fest'!$BG25)","v":0},{"$f":"INDEX(Tiere!O$30:O$79,'Berech. Lagerraum flüssig+fest'!$BG25)","v":0},{"$f":"INDEX(Tiere!T$30:T$79,'Berech. Lagerraum flüssig+fest'!$BG25)","v":0},{"$f":"INDEX(Tiere!U$30:U$79,'Berech. Lagerraum flüssig+fest'!$BG25)","v":0},{"$f":"INDEX(Tiere!V$30:V$79,'Berech. Lagerraum flüssig+fest'!$BG25)","v":0},{"$f":"INDEX(Tiere!W$30:W$79,'Berech. Lagerraum flüssig+fest'!$BG25)","v":0},{"$f":"INDEX(Tiere!X$30:X$79,'Berech. Lagerraum flüssig+fest'!$BG25)","v":0},{"$f":"INDEX(Tiere!Y$30:Y$79,'Berech. Lagerraum flüssig+fest'!$BG25)","v":0},5,3,17,{"$f":"INDEX(Tiere!Z$30:Z$79,'Berech. Lagerraum flüssig+fest'!$BG25)","v":0},{"$f":"INDEX(Tiere!AA$30:AA$79,'Berech. Lagerraum flüssig+fest'!$BG25)","v":0},0,0,0,0,null,false,null,{"$f":"INDEX(Tiere!AB$30:AB$79,'Berech. Lagerraum flüssig+fest'!$BG25)","v":0},{"$f":"INDEX(Tiere!AC$30:AC$79,'Berech. Lagerraum flüssig+fest'!$BG25)","v":0},{"$f":"INDEX(Tiere!AD$30:AD$79,'Berech. Lagerraum flüssig+fest'!$BG25)","v":0},0,0]
[null,null,null,null,null,null,null,null," ",{"$f":"IF(Q26+S26=0,\" \",(Q26+S26)/2)","v":" "},null,null,null," ",null,0,0,0,0," ",0,0,0,0,0,0,0,0,0,0,{"$f":"INDEX(Tiere!K$30:K$79,'Berech. Lagerraum flüssig+fest'!$BG26)","v":0},{"$f":"INDEX(Tiere!S$30:S$79,'Berech. Lagerraum flüssig+fest'!BG26)","v":0},0,0,0,0,0,0,{"$f":"INDEX(Tiere!P$30:P$79,'Berech. Lagerraum flüssig+fest'!$BG26)","v":0},0,0,0,0,0,0,null,0,0,0,0,0,0,0,0,0,0,0,1,1,1,{"$f":"INDEX(Tiere!C$30:C$79,'Berech. Lagerraum flüssig+fest'!$BG26)","v":0},"1",0,{"$f":"INDEX(Tiere!D$30:D$79,'Berech. Lagerraum flüssig+fest'!$BG26)","v":0},{"$f":"INDEX(Tiere!E$30:E$79,'Berech. Lagerraum flüssig+fest'!$BG26)","v":0},{"$f":"INDEX(Tiere!F$30:F$79,'Berech. Lagerraum flüssig+fest'!$BG26)","v":0},{"$f":"INDEX(Tiere!J$30:J$79,'Berech. Lagerraum flüssig+fest'!$BG26)","v":0},{"$f":"INDEX(Tiere!R$30:R$79,'Berech. Lagerraum flüssig+fest'!$BG26)","v":0},{"$f":"INDEX(Tiere!M$30:M$79,'Berech. Lagerraum flüssig+fest'!$BG26)","v":0},{"$f":"INDEX(Tiere!N$30:N$79,'Berech. Lagerraum flüssig+fest'!$BG26)","v":0},{"$f":"INDEX(Tiere!O$30:O$79,'Berech. Lagerraum flüssig+fest'!$BG26)","v":0},{"$f":"INDEX(Tiere!T$30:T$79,'Berech. Lagerraum flüssig+fest'!$BG26)","v":0},{"$f":"INDEX(Tiere!U$30:U$79,'Berech. Lagerraum flüssig+fest'!$BG26)","v":0},{"$f":"INDEX(Tiere!V$30:V$79,'Berech. Lagerraum flüssig+fest'!$BG26)","v":0},{"$f":"INDEX(Tiere!W$30:W$79,'Berech. Lagerraum flüssig+fest'!$BG26)","v":0},{"$f":"INDEX(Tiere!X$30:X$79,'Berech. Lagerraum flüssig+fest'!$BG26)","v":0},{"$f":"INDEX(Tiere!Y$30:Y$79,'Berech. Lagerraum flüssig+fest'!$BG26)","v":0},5,3,17,{"$f":"INDEX(Tiere!Z$30:Z$79,'Berech. Lagerraum flüssig+fest'!$BG26)","v":0},{"$f":"INDEX(Tiere!AA$30:AA$79,'Berech. Lagerraum flüssig+fest'!$BG26)","v":0},0,0,0,0,null,false,null,{"$f":"INDEX(Tiere!AB$30:AB$79,'Berech. Lagerraum flüssig+fest'!$BG26)","v":0},{"$f":"INDEX(Tiere!AC$30:AC$79,'Berech. Lagerraum flüssig+fest'!$BG26)","v":0},{"$f":"INDEX(Tiere!AD$30:AD$79,'Berech. Lagerraum flüssig+fest'!$BG26)","v":0},0,0]
[null,null,null,null,null,null,null,null," ",{"$f":"IF(Q27+S27=0,\" \",(Q27+S27)/2)","v":" "},null,null,null," ",null,0,0,0,0," ",0,0,0,0,0,0,0,0,0,0,{"$f":"INDEX(Tiere!K$30:K$79,'Berech. Lagerraum flüssig+fest'!$BG27)","v":0},{"$f":"INDEX(Tiere!S$30:S$79,'Berech. Lagerraum flüssig+fest'!BG27)","v":0},0,0,0,0,0,0,{"$f":"INDEX(Tiere!P$30:P$79,'Berech. Lagerraum flüssig+fest'!$BG27)","v":0},0,0,0,0,0,0,null,0,0,0,0,0,0,0,0,0,0,0,1,1,1,{"$f":"INDEX(Tiere!C$30:C$79,'Berech. Lagerraum flüssig+fest'!$BG27)","v":0},"1",0,{"$f":"INDEX(Tiere!D$30:D$79,'Berech. Lagerraum flüssig+fest'!$BG27)","v":0},{"$f":"INDEX(Tiere!E$30:E$79,'Berech. Lagerraum flüssig+fest'!$BG27)","v":0},{"$f":"INDEX(Tiere!F$30:F$79,'Berech. Lagerraum flüssig+fest'!$BG27)","v":0},{"$f":"INDEX(Tiere!J$30:J$79,'Berech. Lagerraum flüssig+fest'!$BG27)","v":0},{"$f":"INDEX(Tiere!R$30:R$79,'Berech. Lagerraum flüssig+fest'!$BG27)","v":0},{"$f":"INDEX(Tiere!M$30:M$79,'Berech. Lagerraum flüssig+fest'!$BG27)","v":0},{"$f":"INDEX(Tiere!N$30:N$79,'Berech. Lagerraum flüssig+fest'!$BG27)","v":0},{"$f":"INDEX(Tiere!O$30:O$79,'Berech. Lagerraum flüssig+fest'!$BG27)","v":0},{"$f":"INDEX(Tiere!T$30:T$79,'Berech. Lagerraum flüssig+fest'!$BG27)","v":0},{"$f":"INDEX(Tiere!U$30:U$79,'Berech. Lagerraum flüssig+fest'!$BG27)","v":0},{"$f":"INDEX(Tiere!V$30:V$79,'Berech. Lagerraum flüssig+fest'!$BG27)","v":0},{"$f":"INDEX(Tiere!W$30:W$79,'Berech. Lagerraum flüssig+fest'!$BG27)","v":0},{"$f":"INDEX(Tiere!X$30:X$79,'Berech. Lagerraum flüssig+fest'!$BG27)","v":0},{"$f":"INDEX(Tiere!Y$30:Y$79,'Berech. Lagerraum flüssig+fest'!$BG27)","v":0},5,3,17,{"$f":"INDEX(Tiere!Z$30:Z$79,'Berech. Lagerraum flüssig+fest'!$BG27)","v":0},{"$f":"INDEX(Tiere!AA$30:AA$79,'Berech. Lagerraum flüssig+fest'!$BG27)","v":0},0,0,0,0,null,false,null,{"$f":"INDEX(Tiere!AB$30:AB$79,'Berech. Lagerraum flüssig+fest'!$BG27)","v":0},{"$f":"INDEX(Tiere!AC$30:AC$79,'Berech. Lagerraum flüssig+fest'!$BG27)","v":0},{"$f":"INDEX(Tiere!AD$30:AD$79,'Berech. Lagerraum flüssig+fest'!$BG27)","v":0},0,0]
[null,null,null,null,null,null,null,null," "," ",null,null,null," ",null,0,0,0,0," ",0,0,0,0,0,0,0,0,0,0,{"$f":"INDEX(Tiere!K$30:K$79,'Berech. Lagerraum flüssig+fest'!$BG28)","v":0},{"$f":"INDEX(Tiere!S$30:S$79,'Berech. Lagerraum flüssig+fest'!BG28)","v":0},0,0,0,0,0,0,{"$f":"INDEX(Tiere!P$30:P$79,'Berech. Lagerraum flüssig+fest'!$BG28)","v":0},0,0,0,0,0,0,null,0,0,0,0,0,0,0,0,0,0,0,1,1,1,{"$f":"INDEX(Tiere!C$30:C$79,'Berech. Lagerraum flüssig+fest'!$BG28)","v":0},"1",0,{"$f":"INDEX(Tiere!D$30:D$79,'Berech. Lagerraum flüssig+fest'!$BG28)","v":0},{"$f":"INDEX(Tiere!E$30:E$79,'Berech. Lagerraum flüssig+fest'!$BG28)","v":0},{"$f":"INDEX(Tiere!F$30:F$79,'Berech. Lagerraum flüssig+fest'!$BG28)","v":0},{"$f":"INDEX(Tiere!J$30:J$79,'Berech. Lagerraum flüssig+fest'!$BG28)","v":0},{"$f":"INDEX(Tiere!R$30:R$79,'Berech. Lagerraum flüssig+fest'!$BG28)","v":0},{"$f":"INDEX(Tiere!M$30:M$79,'Berech. Lagerraum flüssig+fest'!$BG28)","v":0},{"$f":"INDEX(Tiere!N$30:N$79,'Berech. Lagerraum flüssig+fest'!$BG28)","v":0},{"$f":"INDEX(Tiere!O$30:O$79,'Berech. Lagerraum flüssig+fest'!$BG28)","v":0},{"$f":"INDEX(Tiere!T$30:T$79,'Berech. Lagerraum flüssig+fest'!$BG28)","v":0},{"$f":"INDEX(Tiere!U$30:U$79,'Berech. Lagerraum flüssig+fest'!$BG28)","v":0},{"$f":"INDEX(Tiere!V$30:V$79,'Berech. Lagerraum flüssig+fest'!$BG28)","v":0},{"$f":"INDEX(Tiere!W$30:W$79,'Berech. Lagerraum flüssig+fest'!$BG28)","v":0},{"$f":"INDEX(Tiere!X$30:X$79,'Berech. Lagerraum flüssig+fest'!$BG28)","v":0},{"$f":"INDEX(Tiere!Y$30:Y$79,'Berech. Lagerraum flüssig+fest'!$BG28)","v":0},5,3,17,{"$f":"INDEX(Tiere!Z$30:Z$79,'Berech. Lagerraum flüssig+fest'!$BG28)","v":0},{"$f":"INDEX(Tiere!AA$30:AA$79,'Berech. Lagerraum flüssig+fest'!$BG28)","v":0},0,0,0,0,null,false,null,{"$f":"INDEX(Tiere!AB$30:AB$79,'Berech. Lagerraum flüssig+fest'!$BG28)","v":0},{"$f":"INDEX(Tiere!AC$30:AC$79,'Berech. Lagerraum flüssig+fest'!$BG28)","v":0},{"$f":"INDEX(Tiere!AD$30:AD$79,'Berech. Lagerraum flüssig+fest'!$BG28)","v":0},0,0]
[null,null,null,null,null,null,null,null," "," ",null,null,null," ",null,0,0,0,0," ",0,0,0,0,0,0,0,0,0,0,{"$f":"INDEX(Tiere!K$30:K$79,'Berech. Lagerraum flüssig+fest'!$BG29)","v":0},{"$f":"INDEX(Tiere!S$30:S$79,'Berech. Lagerraum flüssig+fest'!BG29)","v":0},0,0,0,0,0,0,{"$f":"INDEX(Tiere!P$30:P$79,'Berech. Lagerraum flüssig+fest'!$BG29)","v":0},0,0,0,0,0,0,null,0,0,0,0,0,0,0,0,0,0,0,1,1,1,{"$f":"INDEX(Tiere!C$30:C$79,'Berech. Lagerraum flüssig+fest'!$BG29)","v":0},"1",0,{"$f":"INDEX(Tiere!D$30:D$79,'Berech. Lagerraum flüssig+fest'!$BG29)","v":0},{"$f":"INDEX(Tiere!E$30:E$79,'Berech. Lagerraum flüssig+fest'!$BG29)","v":0},{"$f":"INDEX(Tiere!F$30:F$79,'Berech. Lagerraum flüssig+fest'!$BG29)","v":0},{"$f":"INDEX(Tiere!J$30:J$79,'Berech. Lagerraum flüssig+fest'!$BG29)","v":0},{"$f":"INDEX(Tiere!R$30:R$79,'Berech. Lagerraum flüssig+fest'!$BG29)","v":0},{"$f":"INDEX(Tiere!M$30:M$79,'Berech. Lagerraum flüssig+fest'!$BG29)","v":0},{"$f":"INDEX(Tiere!N$30:N$79,'Berech. Lagerraum flüssig+fest'!$BG29)","v":0},{"$f":"INDEX(Tiere!O$30:O$79,'Berech. Lagerraum flüssig+fest'!$BG29)","v":0},{"$f":"INDEX(Tiere!T$30:T$79,'Berech. Lagerraum flüssig+fest'!$BG29)","v":0},{"$f":"INDEX(Tiere!U$30:U$79,'Berech. Lagerraum flüssig+fest'!$BG29)","v":0},{"$f":"INDEX(Tiere!V$30:V$79,'Berech. Lagerraum flüssig+fest'!$BG29)","v":0},{"$f":"INDEX(Tiere!W$30:W$79,'Berech. Lagerraum flüssig+fest'!$BG29)","v":0},{"$f":"INDEX(Tiere!X$30:X$79,'Berech. Lagerraum flüssig+fest'!$BG29)","v":0},{"$f":"INDEX(Tiere!Y$30:Y$79,'Berech. Lagerraum flüssig+fest'!$BG29)","v":0},5,3,17,{"$f":"INDEX(Tiere!Z$30:Z$79,'Berech. Lagerraum flüssig+fest'!$BG29)","v":0},{"$f":"INDEX(Tiere!AA$30:AA$79,'Berech. Lagerraum flüssig+fest'!$BG29)","v":0},0,0,0,0,null,false,null,{"$f":"INDEX(Tiere!AB$30:AB$79,'Berech. Lagerraum flüssig+fest'!$BG29)","v":0},{"$f":"INDEX(Tiere!AC$30:AC$79,'Berech. Lagerraum flüssig+fest'!$BG29)","v":0},{"$f":"INDEX(Tiere!AD$30:AD$79,'Berech. Lagerraum flüssig+fest'!$BG29)","v":0},0,0]
[null,null,null,null,null,null,null,null," "," ",null,null,null," ",null,0,0,0,0," ",0,0,0,0,0,0,0,0,0,0,{"$f":"INDEX(Tiere!K$30:K$79,'Berech. Lagerraum flüssig+fest'!$BG30)","v":0},{"$f":"INDEX(Tiere!S$30:S$79,'Berech. Lagerraum flüssig+fest'!BG30)","v":0},0,0,0,0,0,0,{"$f":"INDEX(Tiere!P$30:P$79,'Berech. Lagerraum flüssig+fest'!$BG30)","v":0},0,0,0,0,0,0,null,0,0,0,0,0,0,0,0,0,0,0,1,1,1,{"$f":"INDEX(Tiere!C$30:C$79,'Berech. Lagerraum flüssig+fest'!$BG30)","v":0},"1",0,{"$f":"INDEX(Tiere!D$30:D$79,'Berech. Lagerraum flüssig+fest'!$BG30)","v":0},{"$f":"INDEX(Tiere!E$30:E$79,'Berech. Lagerraum flüssig+fest'!$BG30)","v":0},{"$f":"INDEX(Tiere!F$30:F$79,'Berech. Lagerraum flüssig+fest'!$BG30)","v":0},{"$f":"INDEX(Tiere!J$30:J$79,'Berech. Lagerraum flüssig+fest'!$BG30)","v":0},{"$f":"INDEX(Tiere!R$30:R$79,'Berech. Lagerraum flüssig+fest'!$BG30)","v":0},{"$f":"INDEX(Tiere!M$30:M$79,'Berech. Lagerraum flüssig+fest'!$BG30)","v":0},{"$f":"INDEX(Tiere!N$30:N$79,'Berech. Lagerraum flüssig+fest'!$BG30)","v":0},{"$f":"INDEX(Tiere!O$30:O$79,'Berech. Lagerraum flüssig+fest'!$BG30)","v":0},{"$f":"INDEX(Tiere!T$30:T$79,'Berech. Lagerraum flüssig+fest'!$BG30)","v":0},{"$f":"INDEX(Tiere!U$30:U$79,'Berech. Lagerraum flüssig+fest'!$BG30)","v":0},{"$f":"INDEX(Tiere!V$30:V$79,'Berech. Lagerraum flüssig+fest'!$BG30)","v":0},{"$f":"INDEX(Tiere!W$30:W$79,'Berech. Lagerraum flüssig+fest'!$BG30)","v":0},{"$f":"INDEX(Tiere!X$30:X$79,'Berech. Lagerraum flüssig+fest'!$BG30)","v":0},{"$f":"INDEX(Tiere!Y$30:Y$79,'Berech. Lagerraum flüssig+fest'!$BG30)","v":0},5,3,17,{"$f":"INDEX(Tiere!Z$30:Z$79,'Berech. Lagerraum flüssig+fest'!$BG30)","v":0},{"$f":"INDEX(Tiere!AA$30:AA$79,'Berech. Lagerraum flüssig+fest'!$BG30)","v":0},0,0,0,0,null,false,null,{"$f":"INDEX(Tiere!AB$30:AB$79,'Berech. Lagerraum flüssig+fest'!$BG30)","v":0},{"$f":"INDEX(Tiere!AC$30:AC$79,'Berech. Lagerraum flüssig+fest'!$BG30)","v":0},{"$f":"INDEX(Tiere!AD$30:AD$79,'Berech. Lagerraum flüssig+fest'!$BG30)","v":0},0,0]
[null,null,null,null,null,null,null,null," "," ",null,null,null," ",null,0,0,0,0," ",0,0,0,0,0,0,0,0,0,0,{"$f":"INDEX(Tiere!K$30:K$79,'Berech. Lagerraum flüssig+fest'!$BG31)","v":0},{"$f":"INDEX(Tiere!S$30:S$79,'Berech. Lagerraum flüssig+fest'!BG31)","v":0},0,0,0,0,0,0,{"$f":"INDEX(Tiere!P$30:P$79,'Berech. Lagerraum flüssig+fest'!$BG31)","v":0},0,0,0,0,0,0,null,0,0,0,0,0,0,0,0,0,0,0,1,1,1,{"$f":"INDEX(Tiere!C$30:C$79,'Berech. Lagerraum flüssig+fest'!$BG31)","v":0},"1",0,{"$f":"INDEX(Tiere!D$30:D$79,'Berech. Lagerraum flüssig+fest'!$BG31)","v":0},{"$f":"INDEX(Tiere!E$30:E$79,'Berech. Lagerraum flüssig+fest'!$BG31)","v":0},{"$f":"INDEX(Tiere!F$30:F$79,'Berech. Lagerraum flüssig+fest'!$BG31)","v":0},{"$f":"INDEX(Tiere!J$30:J$79,'Berech. Lagerraum flüssig+fest'!$BG31)","v":0},{"$f":"INDEX(Tiere!R$30:R$79,'Berech. Lagerraum flüssig+fest'!$BG31)","v":0},{"$f":"INDEX(Tiere!M$30:M$79,'Berech. Lagerraum flüssig+fest'!$BG31)","v":0},{"$f":"INDEX(Tiere!N$30:N$79,'Berech. Lagerraum flüssig+fest'!$BG31)","v":0},{"$f":"INDEX(Tiere!O$30:O$79,'Berech. Lagerraum flüssig+fest'!$BG31)","v":0},{"$f":"INDEX(Tiere!T$30:T$79,'Berech. Lagerraum flüssig+fest'!$BG31)","v":0},{"$f":"INDEX(Tiere!U$30:U$79,'Berech. Lagerraum flüssig+fest'!$BG31)","v":0},{"$f":"INDEX(Tiere!V$30:V$79,'Berech. Lagerraum flüssig+fest'!$BG31)","v":0},{"$f":"INDEX(Tiere!W$30:W$79,'Berech. Lagerraum flüssig+fest'!$BG31)","v":0},{"$f":"INDEX(Tiere!X$30:X$79,'Berech. Lagerraum flüssig+fest'!$BG31)","v":0},{"$f":"INDEX(Tiere!Y$30:Y$79,'Berech. Lagerraum flüssig+fest'!$BG31)","v":0},5,3,17,{"$f":"INDEX(Tiere!Z$30:Z$79,'Berech. Lagerraum flüssig+fest'!$BG31)","v":0},{"$f":"INDEX(Tiere!AA$30:AA$79,'Berech. Lagerraum flüssig+fest'!$BG31)","v":0},0,0,0,0,null,false,null,{"$f":"INDEX(Tiere!AB$30:AB$79,'Berech. Lagerraum flüssig+fest'!$BG31)","v":0},{"$f":"INDEX(Tiere!AC$30:AC$79,'Berech. Lagerraum flüssig+fest'!$BG31)","v":0},{"$f":"INDEX(Tiere!AD$30:AD$79,'Berech. Lagerraum flüssig+fest'!$BG31)","v":0},0,0]
[null,null,null,null,null,null,null,null," "," ",null,null,null," ",null,0,0,0,0," ",0,0,0,0,0,0,0,0,0,0,{"$f":"INDEX(Tiere!K$30:K$79,'Berech. Lagerraum flüssig+fest'!$BG32)","v":0},{"$f":"INDEX(Tiere!S$30:S$79,'Berech. Lagerraum flüssig+fest'!BG32)","v":0},0,0,0,0,0,0,{"$f":"INDEX(Tiere!P$30:P$79,'Berech. Lagerraum flüssig+fest'!$BG32)","v":0},0,0,0,0,0,0,null,0,0,0,0,0,0,0,0,0,0,0,1,1,1,{"$f":"INDEX(Tiere!C$30:C$79,'Berech. Lagerraum flüssig+fest'!$BG32)","v":0},"1",0,{"$f":"INDEX(Tiere!D$30:D$79,'Berech. Lagerraum flüssig+fest'!$BG32)","v":0},{"$f":"INDEX(Tiere!E$30:E$79,'Berech. Lagerraum flüssig+fest'!$BG32)","v":0},{"$f":"INDEX(Tiere!F$30:F$79,'Berech. Lagerraum flüssig+fest'!$BG32)","v":0},{"$f":"INDEX(Tiere!J$30:J$79,'Berech. Lagerraum flüssig+fest'!$BG32)","v":0},{"$f":"INDEX(Tiere!R$30:R$79,'Berech. Lagerraum flüssig+fest'!$BG32)","v":0},{"$f":"INDEX(Tiere!M$30:M$79,'Berech. Lagerraum flüssig+fest'!$BG32)","v":0},{"$f":"INDEX(Tiere!N$30:N$79,'Berech. Lagerraum flüssig+fest'!$BG32)","v":0},{"$f":"INDEX(Tiere!O$30:O$79,'Berech. Lagerraum flüssig+fest'!$BG32)","v":0},{"$f":"INDEX(Tiere!T$30:T$79,'Berech. Lagerraum flüssig+fest'!$BG32)","v":0},{"$f":"INDEX(Tiere!U$30:U$79,'Berech. Lagerraum flüssig+fest'!$BG32)","v":0},{"$f":"INDEX(Tiere!V$30:V$79,'Berech. Lagerraum flüssig+fest'!$BG32)","v":0},{"$f":"INDEX(Tiere!W$30:W$79,'Berech. Lagerraum flüssig+fest'!$BG32)","v":0},{"$f":"INDEX(Tiere!X$30:X$79,'Berech. Lagerraum flüssig+fest'!$BG32)","v":0},{"$f":"INDEX(Tiere!Y$30:Y$79,'Berech. Lagerraum flüssig+fest'!$BG32)","v":0},5,3,17,{"$f":"INDEX(Tiere!Z$30:Z$79,'Berech. Lagerraum flüssig+fest'!$BG32)","v":0},{"$f":"INDEX(Tiere!AA$30:AA$79,'Berech. Lagerraum flüssig+fest'!$BG32)","v":0},0,0,0,0,null,false,null,{"$f":"INDEX(Tiere!AB$30:AB$79,'Berech. Lagerraum flüssig+fest'!$BG32)","v":0},{"$f":"INDEX(Tiere!AC$30:AC$79,'Berech. Lagerraum flüssig+fest'!$BG32)","v":0},{"$f":"INDEX(Tiere!AD$30:AD$79,'Berech. Lagerraum flüssig+fest'!$BG32)","v":0},0,0]
[null,null,null,null,null,null,null,null," "," ",null,null,null," ",null,0,0,0,0," ",0,0,0,0,0,0,0,0,0,0,{"$f":"INDEX(Tiere!K$30:K$79,'Berech. Lagerraum flüssig+fest'!$BG33)","v":0},{"$f":"INDEX(Tiere!S$30:S$79,'Berech. Lagerraum flüssig+fest'!BG33)","v":0},0,0,0,0,0,0,{"$f":"INDEX(Tiere!P$30:P$79,'Berech. Lagerraum flüssig+fest'!$BG33)","v":0},0,0,0,0,0,0,null,0,0,0,0,0,0,0,0,0,{"$f":"IF(BF33=2,0,IF(BF33=3,0,0))","v":0},0,1,1,1,{"$f":"INDEX(Tiere!C$30:C$79,'Berech. Lagerraum flüssig+fest'!$BG33)","v":0},"1",0,{"$f":"INDEX(Tiere!D$30:D$79,'Berech. Lagerraum flüssig+fest'!$BG33)","v":0},{"$f":"INDEX(Tiere!E$30:E$79,'Berech. Lagerraum flüssig+fest'!$BG33)","v":0},{"$f":"INDEX(Tiere!F$30:F$79,'Berech. Lagerraum flüssig+fest'!$BG33)","v":0},{"$f":"INDEX(Tiere!J$30:J$79,'Berech. Lagerraum flüssig+fest'!$BG33)","v":0},{"$f":"INDEX(Tiere!R$30:R$79,'Berech. Lagerraum flüssig+fest'!$BG33)","v":0},{"$f":"INDEX(Tiere!M$30:M$79,'Berech. Lagerraum flüssig+fest'!$BG33)","v":0},{"$f":"INDEX(Tiere!N$30:N$79,'Berech. Lagerraum flüssig+fest'!$BG33)","v":0},{"$f":"INDEX(Tiere!O$30:O$79,'Berech. Lagerraum flüssig+fest'!$BG33)","v":0},{"$f":"INDEX(Tiere!T$30:T$79,'Berech. Lagerraum flüssig+fest'!$BG33)","v":0},{"$f":"INDEX(Tiere!U$30:U$79,'Berech. Lagerraum flüssig+fest'!$BG33)","v":0},{"$f":"INDEX(Tiere!V$30:V$79,'Berech. Lagerraum flüssig+fest'!$BG33)","v":0},{"$f":"INDEX(Tiere!W$30:W$79,'Berech. Lagerraum flüssig+fest'!$BG33)","v":0},{"$f":"INDEX(Tiere!X$30:X$79,'Berech. Lagerraum flüssig+fest'!$BG33)","v":0},{"$f":"INDEX(Tiere!Y$30:Y$79,'Berech. Lagerraum flüssig+fest'!$BG33)","v":0},5,3,17,{"$f":"INDEX(Tiere!Z$30:Z$79,'Berech. Lagerraum flüssig+fest'!$BG33)","v":0},{"$f":"INDEX(Tiere!AA$30:AA$79,'Berech. Lagerraum flüssig+fest'!$BG33)","v":0},0,0,0,0,null,false,null,{"$f":"INDEX(Tiere!AB$30:AB$79,'Berech. Lagerraum flüssig+fest'!$BG33)","v":0},{"$f":"INDEX(Tiere!AC$30:AC$79,'Berech. Lagerraum flüssig+fest'!$BG33)","v":0},{"$f":"INDEX(Tiere!AD$30:AD$79,'Berech. Lagerraum flüssig+fest'!$BG33)","v":0},0,0]
[null,null,null,null,null,null,null,null," "," ",null,null,null," ",null,0,0,0,0," ",0,0,0,0,0,0,0,0,0,0,{"$f":"INDEX(Tiere!K$30:K$79,'Berech. Lagerraum flüssig+fest'!$BG34)","v":0},{"$f":"INDEX(Tiere!S$30:S$79,'Berech. Lagerraum flüssig+fest'!BG34)","v":0},0,0,0,0,0,0,{"$f":"INDEX(Tiere!P$30:P$79,'Berech. Lagerraum flüssig+fest'!$BG34)","v":0},0,0,0,0,0,0,null,0,0,0,0,0,0,0,0,0,0,0,1,1,1,{"$f":"INDEX(Tiere!C$30:C$79,'Berech. Lagerraum flüssig+fest'!$BG34)","v":0},"1",0,{"$f":"INDEX(Tiere!D$30:D$79,'Berech. Lagerraum flüssig+fest'!$BG34)","v":0},{"$f":"INDEX(Tiere!E$30:E$79,'Berech. Lagerraum flüssig+fest'!$BG34)","v":0},{"$f":"INDEX(Tiere!F$30:F$79,'Berech. Lagerraum flüssig+fest'!$BG34)","v":0},{"$f":"INDEX(Tiere!J$30:J$79,'Berech. Lagerraum flüssig+fest'!$BG34)","v":0},{"$f":"INDEX(Tiere!R$30:R$79,'Berech. Lagerraum flüssig+fest'!$BG34)","v":0},{"$f":"INDEX(Tiere!M$30:M$79,'Berech. Lagerraum flüssig+fest'!$BG34)","v":0},{"$f":"INDEX(Tiere!N$30:N$79,'Berech. Lagerraum flüssig+fest'!$BG34)","v":0},{"$f":"INDEX(Tiere!O$30:O$79,'Berech. Lagerraum flüssig+fest'!$BG34)","v":0},{"$f":"INDEX(Tiere!T$30:T$79,'Berech. Lagerraum flüssig+fest'!$BG34)","v":0},{"$f":"INDEX(Tiere!U$30:U$79,'Berech. Lagerraum flüssig+fest'!$BG34)","v":0},{"$f":"INDEX(Tiere!V$30:V$79,'Berech. Lagerraum flüssig+fest'!$BG34)","v":0},{"$f":"INDEX(Tiere!W$30:W$79,'Berech. Lagerraum flüssig+fest'!$BG34)","v":0},{"$f":"INDEX(Tiere!X$30:X$79,'Berech. Lagerraum flüssig+fest'!$BG34)","v":0},{"$f":"INDEX(Tiere!Y$30:Y$79,'Berech. Lagerraum flüssig+fest'!$BG34)","v":0},5,3,17,{"$f":"INDEX(Tiere!Z$30:Z$79,'Berech. Lagerraum flüssig+fest'!$BG34)","v":0},{"$f":"INDEX(Tiere!AA$30:AA$79,'Berech. Lagerraum flüssig+fest'!$BG34)","v":0},0,0,0,0,null,false,null,{"$f":"INDEX(Tiere!AB$30:AB$79,'Berech. Lagerraum flüssig+fest'!$BG34)","v":0},{"$f":"INDEX(Tiere!AC$30:AC$79,'Berech. Lagerraum flüssig+fest'!$BG34)","v":0},{"$f":"INDEX(Tiere!AD$30:AD$79,'Berech. Lagerraum flüssig+fest'!$BG34)","v":0},0,0]
[{"$f":"IF(M36+M37+M38>=1,\"Bitte Tierart im Arbeitsblatt 'Abweichende Werte' auswählen\",\"Eingabemöglichkeit für andere Haltungsverfahren; siehe Blatt 'Abweichende Werte' \")","v":"Eingabemöglichkeit für andere Haltungsverfahren; siehe Blatt 'Abweichende Werte' "},null,null,null,null,null,null,null,null,null,null,null,null,null,null,null,null,null,null,null,null,null,0,0,0,0,null,null,null,null,null,null,null,null,null,null,null,null,null,null,null,null,null,null,null,null,null,null,0,null,null,0,null,null,null,null,null,null,1,1,null,null,null,null,null,null,null,null,null,null,null,null,null,null,null,null,null,null,null,null,null,null,null,null,null,null,null,null,null,null,null,null,0,0]
[{"$f":"+'Abweichende Werte'!V7","v":" -- - "},null,null,null,null,null,null,null,{"$f":"IF(P36+R36=0,\" \",(P36+R36)/2)","v":" "}," ",null,null,{"$f":"IF(D36+E36>=1,IF(BF36=1,1,0),0)","v":0},{"$f":"IF(J36=\" \",\" \",(J36*(1/BV36)))","v":" "},null,{"$f":"IF(CJ36=FALSE,0,IF(U36+V36=0,0,IF(AU36*BO36+AV36*BA36=0,0,AU36*BO36+AV36*BA36)))","v":0},{"$f":"IF(CJ36=FALSE,0,IF(V36=0,0,IF(AY36+AV36=0,0,IF(BF36=4,AV36*BB36-(D36*(1-G36/100)*BB36)*((1220/1000)/(2*11)),AV36*BB36))))","v":0},{"$f":"IF(CJ36=FALSE,0,IF(U36+V36=0,0,IF(AX36*BO36+AY36*BA36=0,0,AX36*BO36+AY36*BA36)))","v":0},{"$f":"IF(CJ36=FALSE,0,IF(V36=0,0,IF(AY36+AV36=0,0,IF(BF36=4,AY36*BB36-(D36*(1-H36/100)*BB36)*((1220/1000)/(2*11)),AY36*BB36))))","v":0},{"$f":"IF(S36=0,\" \",(S36*(1/BV36)))","v":" "},{"$f":"IF(BO36=0,0,D36)","v":0},{"$f":"IF(BO36=0,D36+E36,E36)","v":0},0,0,0,0,{"$f":"+(AX36*BL36*(100-BT36)/100)+(BA36*BC36*AY36)","v":0},{"$f":"IF(BF36=2,AA36,0)","v":0},{"$f":"AX36*BM36+AY36*BA36*BD36","v":0},{"$f":"AX36*BN36+AY36*BA36*BE36","v":0},{"$f":"'Abweichende Werte'!L7","v":0},{"$f":"'Abweichende Werte'!M7","v":0},0,0,0,{"$f":"+(AY36*BL36*(100-BU36)/100)-BA36*AY36*BC36","v":0},{"$f":"AY36*BM36-AY36*BA36*BD36","v":0},{"$f":"AY36*BN36-AY36*BA36*BE36","v":0},{"$f":"'Abweichende Werte'!N7","v":0},0,0,0,0,0,0,null,{"$f":"+U36*(100-$G36)/100","v":0},0,0,{"$f":"+U36*(100-$H36)/100","v":0},0,0,{"$f":"IF(BH36=1,BP36,IF(BH36=2,BP36/2,0))","v":0},{"$f":"IF(BH36=1,BQ36,IF(BH36=2,BR36,BS36))","v":0},{"$f":"IF(BF36=2,3.2,IF(BF36=3,3.3,0))","v":0},{"$f":"IF(BF36=2,0,IF(BF36=3,0,0))","v":0},{"$f":"IF(BF36=2,7.9,IF(BF36=3,3.1,0))","v":0},{"$f":"'Abweichende Werte'!T7","v":1},1,1,{"$f":"'Abweichende Werte'!C7","v":0},{"$f":"IF(BI36>0.001,BI36,\"1\")","v":"1"},{"$f":"D36*BI36+E36*BI36","v":0},{"$f":"'Abweichende Werte'!D7","v":0},{"$f":"'Abweichende Werte'!E7","v":0},{"$f":"'Abweichende Werte'!F7","v":0},{"$f":"'Abweichende Werte'!G7","v":0},{"$f":"'Abweichende Werte'!H7","v":0},{"$f":"'Abweichende Werte'!I7","v":0},{"$f":"'Abweichende Werte'!J7","v":0},{"$f":"'Abweichende Werte'!K7","v":0},{"$f":"IF(BF36=2,15,IF(BF36=3,20,IF(BF36=4,40,IF(BF36=5,45,0))))","v":0},{"$f":"IF(BF36=2,30,IF(BF36=3,30,IF(BF36=4,40,IF(BF36=5,45,0))))","v":0},{"$f":"'Abweichende Werte'!R7","v":0},{"$f":"'Abweichende Werte'!O7","v":0},{"$f":"'Abweichende Werte'!P7","v":0},{"$f":"'Abweichende Werte'!Q7","v":0},5,3,17,{"$f":"IF(BF36=1,0,IF(BF36=2,1,IF(BF36=3,1,5)))","v":0},{"$f":"IF(BF36=1,0,IF(BF36=2,2,IF(BF36=3,2,5)))","v":0},{"$f":"IF(N36=\" \",0,CC36*N36)","v":0},{"$f":"IF(N36=\" \",0,CD36*N36)","v":0},0,0,null,{"$f":"AND(BF36>1)","v":false},null,{"$f":"INDEX(Tiere!F$83:F$87,'Berech. Lagerraum flüssig+fest'!$BF36)","v":0},{"$f":"INDEX(Tiere!G$83:G$87,'Berech. Lagerraum flüssig+fest'!$BF36)","v":0},{"$f":"INDEX(Tiere!H$83:H$87,'Berech. Lagerraum flüssig+fest'!$BF36)","v":0},0,0]
[{"$f":"+'Abweichende Werte'!V8","v":" -- - "},null,null,null,null,null,null,null," "," ",null,null,{"$f":"IF(D37+E37>=1,IF(BF37=1,1,0),0)","v":0},{"$f":"IF(J37=\" \",\" \",(J37*(1/BV37)))","v":" "},null,{"$f":"IF(CJ37=FALSE,0,IF(U37+V37=0,0,IF(AU37*BO37+AV37*BA37=0,0,AU37*BO37+AV37*BA37)))","v":0},{"$f":"IF(CJ37=FALSE,0,IF(V37=0,0,IF(AY37+AV37=0,0,IF(BF37=4,AV37*BB37-(D37*(1-G37/100)*BB37)*((1220/1000)/(2*11)),AV37*BB37))))","v":0},{"$f":"IF(CJ37=FALSE,0,IF(U37+V37=0,0,IF(AX37*BO37+AY37*BA37=0,0,AX37*BO37+AY37*BA37)))","v":0},{"$f":"IF(CJ37=FALSE,0,IF(V37=0,0,IF(AY37+AV37=0,0,IF(BF37=4,AY37*BB37-(D37*(1-H37/100)*BB37)*((1220/1000)/(2*11)),AY37*BB37))))","v":0},{"$f":"IF(S37=0,\" \",(S37*(1/BV37)))","v":" "},{"$f":"IF(BO37=0,0,D37)","v":0},{"$f":"IF(BO37=0,D37+E37,E37)","v":0},0,0,0,0,{"$f":"+(AX37*BL37*(100-BT37)/100)+(BA37*BC37*AY37)","v":0},{"$f":"IF(BF37=2,AA37,0)","v":0},{"$f":"AX37*BM37+AY37*BA37*BD37","v":0},{"$f":"AX37*BN37+AY37*BA37*BE37","v":0},{"$f":"'Abweichende Werte'!L8","v":0},{"$f":"'Abweichende Werte'!M8","v":0},0,0,0,{"$f":"+(AY37*BL37*(100-BU37)/100)-BA37*AY37*BC37","v":0},{"$f":"AY37*BM37-AY37*BA37*BD37","v":0},{"$f":"AY37*BN37-AY37*BA37*BE37","v":0},{"$f":"'Abweichende Werte'!N8","v":0},0,0,0,0,0,0,null,0,0,0,0,0,0,{"$f":"IF(BH37=1,BP37,IF(BH37=2,BP37/2,0))","v":0},{"$f":"IF(BH37=1,BQ37,IF(BH37=2,BR37,BS37))","v":0},{"$f":"IF(BF37=2,3.2,IF(BF37=3,3.3,0))","v":0},{"$f":"IF(BF37=2,0,IF(BF37=3,0,0))","v":0},{"$f":"IF(BF37=2,7.9,IF(BF37=3,3.1,0))","v":0},{"$f":"'Abweichende Werte'!T8","v":1},null,1,{"$f":"'Abweichende Werte'!C8","v":0},"1",{"$f":"D37*BI37+E37*BI37","v":0},{"$f":"'Abweichende Werte'!D8","v":0},{"$f":"'Abweichende Werte'!E8","v":0},{"$f":"'Abweichende Werte'!F8","v":0},{"$f":"'Abweichende Werte'!G8","v":0},{"$f":"'Abweichende Werte'!H8","v":0},{"$f":"'Abweichende Werte'!I8","v":0},{"$f":"'Abweichende Werte'!J8","v":0},{"$f":"'Abweichende Werte'!K8","v":0},{"$f":"IF(BF37=2,15,IF(BF37=3,20,IF(BF37=4,40,IF(BF37=5,45,0))))","v":0},{"$f":"IF(BF37=2,30,IF(BF37=3,30,IF(BF37=4,40,IF(BF37=5,45,0))))","v":0},{"$f":"'Abweichende Werte'!R8","v":0},{"$f":"'Abweichende Werte'!O8","v":0},{"$f":"'Abweichende Werte'!P8","v":0},{"$f":"'Abweichende Werte'!Q8","v":0},5,3,17,{"$f":"IF(BF37=1,0,IF(BF37=2,1,IF(BF37=3,1,5)))","v":0},{"$f":"IF(BF37=1,0,IF(BF37=2,2,IF(BF37=3,2,5)))","v":0},{"$f":"IF(N37=\" \",0,CC37*N37)","v":0},{"$f":"IF(N37=\" \",0,CD37*N37)","v":0},0,0,null,{"$f":"AND(BF37>1)","v":false},null,{"$f":"INDEX(Tiere!F$83:F$87,'Berech. Lagerraum flüssig+fest'!$BF37)","v":0},{"$f":"INDEX(Tiere!G$83:G$87,'Berech. Lagerraum flüssig+fest'!$BF37)","v":0},{"$f":"INDEX(Tiere!H$83:H$87,'Berech. Lagerraum flüssig+fest'!$BF37)","v":0},0,0]
[{"$f":"+'Abweichende Werte'!V9","v":" -- - "},null,null,null,null,null,null,null," "," ",null,null,{"$f":"IF(D38+E38>=1,IF(BF38=1,1,0),0)","v":0},{"$f":"IF(J38=\" \",\" \",(J38*(1/BV38)))","v":" "},null,{"$f":"IF(CJ38=FALSE,0,IF(U38+V38=0,0,IF(AU38*BO38+AV38*BA38=0,0,AU38*BO38+AV38*BA38)))","v":0},{"$f":"IF(CJ38=FALSE,0,IF(V38=0,0,IF(AY38+AV38=0,0,IF(BF38=4,AV38*BB38-(D38*(1-G38/100)*BB38)*((1220/1000)/(2*11)),AV38*BB38))))","v":0},{"$f":"IF(CJ38=FALSE,0,IF(U38+V38=0,0,IF(AX38*BO38+AY38*BA38=0,0,AX38*BO38+AY38*BA38)))","v":0},{"$f":"IF(CJ38=FALSE,0,IF(V38=0,0,IF(AY38+AV38=0,0,IF(BF38=4,AY38*BB38-(D38*(1-H38/100)*BB38)*((1220/1000)/(2*11)),AY38*BB38))))","v":0},{"$f":"IF(S38=0,\" \",(S38*(1/BV38)))","v":" "},{"$f":"IF(BO38=0,0,D38)","v":0},{"$f":"IF(BO38=0,D38+E38,E38)","v":0},0,0,0,0,{"$f":"+(AX38*BL38*(100-BT38)/100)+(BA38*BC38*AY38)","v":0},{"$f":"IF(BF38=2,AA38,0)","v":0},{"$f":"AX38*BM38+AY38*BA38*BD38","v":0},{"$f":"AX38*BN38+AY38*BA38*BE38","v":0},{"$f":"'Abweichende Werte'!L9","v":0},{"$f":"'Abweichende Werte'!M9","v":0},0,0,0,{"$f":"+(AY38*BL38*(100-BU38)/100)-BA38*AY38*BC38","v":0},{"$f":"AY38*BM38-AY38*BA38*BD38","v":0},{"$f":"AY38*BN38-AY38*BA38*BE38","v":0},{"$f":"'Abweichende Werte'!N9","v":0},0,0,0,0,0,0,null,0,0,0,0,0,0,{"$f":"IF(BH38=1,BP38,IF(BH38=2,BP38/2,0))","v":0},{"$f":"IF(BH38=1,BQ38,IF(BH38=2,BR38,BS38))","v":0},{"$f":"IF(BF38=2,3.2,IF(BF38=3,3.3,0))","v":0},{"$f":"IF(BF38=2,0,IF(BF38=3,0,0))","v":0},{"$f":"IF(BF38=2,7.9,IF(BF38=3,3.1,0))","v":0},{"$f":"'Abweichende Werte'!T9","v":1},null,1,{"$f":"'Abweichende Werte'!C9","v":0},"1",{"$f":"D38*BI38+E38*BI38","v":0},{"$f":"'Abweichende Werte'!D9","v":0},{"$f":"'Abweichende Werte'!E9","v":0},{"$f":"'Abweichende Werte'!F9","v":0},{"$f":"'Abweichende Werte'!G9","v":0},{"$f":"'Abweichende Werte'!H9","v":0},{"$f":"'Abweichende Werte'!I9","v":0},{"$f":"'Abweichende Werte'!J9","v":0},{"$f":"'Abweichende Werte'!K9","v":0},{"$f":"IF(BF38=2,15,IF(BF38=3,20,IF(BF38=4,40,IF(BF38=5,45,0))))","v":0},{"$f":"IF(BF38=2,30,IF(BF38=3,30,IF(BF38=4,40,IF(BF38=5,45,0))))","v":0},{"$f":"'Abweichende Werte'!R9","v":0},{"$f":"'Abweichende Werte'!O9","v":0},{"$f":"'Abweichende Werte'!P9","v":0},{"$f":"'Abweichende Werte'!Q9","v":0},5,3,17,{"$f":"IF(BF38=1,0,IF(BF38=2,1,IF(BF38=3,1,5)))","v":0},{"$f":"IF(BF38=1,0,IF(BF38=2,2,IF(BF38=3,2,5)))","v":0},{"$f":"IF(N38=\" \",0,CC38*N38)","v":0},{"$f":"IF(N38=\" \",0,CD38*N38)","v":0},0,0,null,{"$f":"AND(BF38>1)","v":false},null,{"$f":"INDEX(Tiere!F$83:F$87,'Berech. Lagerraum flüssig+fest'!$BF38)","v":0},{"$f":"INDEX(Tiere!G$83:G$87,'Berech. Lagerraum flüssig+fest'!$BF38)","v":0},{"$f":"INDEX(Tiere!H$83:H$87,'Berech. Lagerraum flüssig+fest'!$BF38)","v":0},0,0]
["Niederschlagswasser und sonstige Abwässer, wenn eingeleitet wird",null,null,null,null,null,null,null,null,null,null,"Zwiz.","Silosaft","Wasser",null,null,null,null,null,null,null,null,null,null,null,null,null,null,null,null,null,null,null,null,null,null,null,null,null,null,null,null,null,null,null,null,null,null,null,null,null,null,null,null,null,null,null,null,{"$f":"IF(OR(BG23=2,BG24=2,BG25=2,BG26=2,BG27=2,BG28=2,BG29=2,BG30=2,BG31=2,BG32=2,BG33=2,BG34=2,),2,1)","v":1},1]
["Flächen nicht abgedeckter Gülle- und Jaucheläger",null,null,null,null,null,null,"m²",{"$f":"IF(G40>0.1,IF($C$12<1,\"Fehler\",L40),\" \")","v":" "},null,null,{"$f":"IF(($C$12*G40*0.7)/1000=0,\" \",($C$12*G40*0.7)/1000)","v":" "},{"$f":"+M41+M42+M44","v":0},{"$f":"IF(L40=\" \",0,L40)","v":0},null,null,null,null,null,null,null,null,null,null,null,null,null,null,null,null,null,null,null,null,null,null,null,null,null,null,null,null,null,null,null,null,null,null,null,null,null,null,null,null,null,null,null,null,null,1,null,null,null,null,null,null,null,null,null,null,null,null,null,null,null,null,null,null,null,null,null,null,null,null,{"$f":"SUM(CG23:CG38)","v":0},{"$f":"SUM(CH23:CH38)","v":0},null,null,null,null,null,null,{"$f":"SUM(CO23:CO39)","v":0},{"$f":"SUM(CP23:CP39)","v":0}]
["Fläche verunreinigtes Wasser z.B. ungereinigte Silofläche oder Ladefläche oder Laufhöfe",null,null,null,null,null,null,"m²",{"$f":"IF(G41>0.1,IF($C$12<1,\"Fehler\",L41),\" \")","v":" "},null,null,{"$f":"IF(($C$12*G41*0.85)/1000=0,\" \",($C$12*G41*0.85)/1000)","v":" "},{"$f":"IF(L41=\" \",0,L41)","v":0},{"$f":"IF(L41=\" \",0,L41)","v":0},null,null,null,null,null,null,null,null,null,null,null,null,null,null,null,null,null,null,null,null,null,null,null,null,null,null,null,null,null,null,null,null,null,null,null,null,null,null,null,null,null,null,null,null,null,null,null,null,null,null,null,null,null,null,null,null,null,null,null,null,null,null,null,null,null,null,null,null,null,null,{"$f":"IF(CG40=0,\"1\",SUM(CG23:CG38))","v":"1"},{"$f":"IF(CH40=0,\"1\",SUM(CH23:CH38))","v":"1"}]
["Sonstige Flächen (gereinigte Siloflächen, Stallmistläger, abgedeckte Silo- und Gülleläger)",null,null,null,null,null,null,"m²",{"$f":"IF(G42>0.1,IF($C$12<1,\"Fehler\",L42),\" \")","v":" "},null,null,{"$f":"IF(($C$12*G42*0.85)/1000=0,\" \",($C$12*G42*0.85)/1000)","v":" "},{"$f":"IF(L42=\" \",0,L42)","v":0},{"$f":"IF(L42=\" \",0,L42)","v":0},null,null,null,null,null,null,null,null,null,null,null,null,null,null,null,null,null,null,null,null,null,null,null,null,null,null,null,null,null,null,null,null,null,null,null,null,null,null,null,null,null,null,null,null,null,{"$f":"SUM(G40:G42)","v":0}]
["Hausabwässer Anzahl Personen",null,null,null,null,null,null,"Pers.",{"$f":"+IF(G43>0.1,G43*33.2,\" \")","v":" "},null,null,null,null,{"$f":"IF(I43=\" \",0,I43)","v":0}]
["Mindestanfall für Gärsaft  - mind. 3 % des Volumens des größten Silos",null,null,null,null,null,null,"m³",{"$f":"IF(G44>0.1,G44,\" \")","v":" "},null,null,null,{"$f":"IF(I44=\" \",0,I44)","v":0},{"$f":"IF(I44=\" \",0,I44)","v":0}]
["Sonstige Wasserzugabe im Jahr (z.B. Dachrinnenwasser, Reinigungswasser)",null,null,null,null,null,null,"m³",{"$f":"IF(G45>0.1,G45,\" \")","v":" "},null,null,null,null,{"$f":"IF(I45=\" \",0,I45)","v":0}]
["Anfall  Wirtschaftsdünger im Jahr in t",null,null,null,null,null,null,null,null,{"$f":"IF(N46=0,\" \",N46)","v":" "},null,null,{"$f":"SUM(I23:I45)","v":0},{"$f":"SUM(J23:J45)","v":0},null,null,null,null,null,null,null,null,{"$f":"SUM(W23:W45)","v":0},0,0,0,0,0,0,0,null,null,{"$f":"SUM(AG23:AG45)","v":0},0,0,0,0,0,null,{"$f":"SUM(AN23:AN45)","v":0},0,0,0,0,0,null,null,null,null,null,null,null,null,null,null,null,null,null,null,null,null,null,{"$f":"SUM(BK23:BK38)","v":0}]
["Anfall  Wirtschaftsdünger im Jahr in m³",null,null,null,null,null,null,null,{"$f":"IF(M46=0,\" \",M46)","v":" "},{"$f":"IF(N47=0,\" \",N47)","v":" "},null,null,null,{"$f":"SUM(N23:N38)","v":0},null,{"$f":"SUM(P23:P38)+SUM(I40:I45)","v":0},null,{"$f":"SUM(R23:R38)+SUM(I40:I45)","v":0},null,{"$f":"SUM(T23:T38)","v":0}]
[null,null,null,null,null,null,null,null,null,null,null,null,null,null,null,{"$f":"+P47/M46","v":{"$error":"#DIV/0!"}},"%",{"$f":"+R47/M46","v":{"$error":"#DIV/0!"}}]
["Lagerbehälter im Betrieb für flüssige (Gülle, Jauche) und feste (Mist) Wirtschaftsdünger",null,null,null,null,null,null,null,null,null,null,null,null,{"$f":"IF($M46=0,\" \",IF(AE52+AF52=0,\"0,00\",(AE52*CG40+AF52*CH40)/(CG40+CH40+N40+N41+N42+N43+N44+N45)))","v":" "}]
[]
[]
[null,null,null,null,null,null,null,null,null,null,null,null,null,null,null,null,null,null,null,null,null,null,{"$f":"+W46/$M46","v":{"$error":"#DIV/0!"}},null,{"$f":"+Y46/$M46","v":{"$error":"#DIV/0!"}},{"$f":"+Z46/$M46","v":{"$error":"#DIV/0!"}},{"$f":"+AA46/$M46","v":{"$error":"#DIV/0!"}},null,{"$f":"+AC46/$M46","v":{"$error":"#DIV/0!"}},{"$f":"+AD46/$M46","v":{"$error":"#DIV/0!"}},{"$f":"SUMPRODUCT(AE23:AE38,$CG23:$CG38)/CG41","v":0},{"$f":"SUMPRODUCT(AF23:AF38,$CH23:$CH38)/CH41","v":0},{"$f":"+(AG46+AN46)/$N46","v":{"$error":"#DIV/0!"}},{"$error":"#DIV/0!"},{"$error":"#DIV/0!"},{"$error":"#DIV/0!"},{"$error":"#DIV/0!"},{"$error":"#DIV/0!"},{"$f":"SUMPRODUCT(AM23:AM38,$J23:$J38)/J46","v":{"$error":"#VALUE!"}},null,null,null,null,null,null,"Nährstoffgehalt/t"]
[]
["Separierung flüssiger Wirtschaftsdünger "]
[]
[null,"Menge","TS","N","P2O5","K2O"]
[null,"m³","%","kg/t bzw. m³"]
["org. Dünger",{"$f":"M46","v":0},{"$f":"IF(C50=\" \",0,C50)","v":0},{"$f":"IF(D50=\" \",0,D50)","v":0},{"$f":"IF(F50=\" \",0,F50)","v":0},{"$f":"IF(G50=\" \",0,G50)","v":0}]
[]
[]
[]
[null,null,{"$f":"100-D62","v":100},0," welcher Anteil in % wird separiert"]
[]
[]
[]
[]
[]
[]
[]
[]
[]
[null,null,null,null,null,null,null,null,null,null,null,null,null,null,null,null,null,null,"Mist m³"]
[null,null,null,null,null,null,null,null,null,null,null,null,null,null,null,null,null,null,"Sommer","Winter"]
[null,null,null,null,null,null,null,null,null,null,null,null,null,null,null,"fest in t","fest in m³"]
["Menge in m³",{"$f":"M75","v":0},null,"Menge in m³",null,{"$f":"B58-B75-J75","v":0},null,"Menge in t",null,{"$f":"P75","v":"0"},null,null,{"$f":"B58*C62/100","v":0},{"$f":"B58-B75-J75","v":0},null,{"$f":"IF(F76+J76=0,\"0\",B58*D62/100*((C58-F76)/(J76-F76)))","v":"0"},{"$f":"P75*(1/0.9)","v":0},null,{"$f":"IF(Q75=0,0,Q75*P48)","v":0},{"$f":"IF(Q75=0,0,Q75*R48)","v":0},null,null,null,null,null,null,null,null,null,null,null,null,null,null,null,null,null,null,null,null,null,null,null,null,null,null,null,null,null,null,null,null,null,null,null,null,null,null,null,null,null,null,null,null,null,null,null,null,null,null,null,null,null,null,null,null,null,null,null,null,6,6,{"$f":"IF(Q75=\" \",0,CC75*Q75)","v":0},{"$f":"IF(Q75=\" \",0,CD75*Q75)","v":0}]
["TS in %",{"$f":"C58","v":0},null,"TS in %",null,0,null,"TS in %",null,0]
[]
[]
[null,null,null,null,null,null,null,null,"Anfall Betrieb"]
[null,null,null,null,null,null,null,null,"flüssig","fest",null,null,null,null,null,null,null,null,"Gülle m³"]
[null,null,null,null,null,null,null,null,"pro Jahr","pro Jahr",null,null,null,null,null,null,null,null,"Sommer","Winter"]
["Anfall  Wirtschaftsdünger im Jahr in t",null,null,null,null,null,null,null,null,{"$f":"IF(N82=0,\" \",N82)","v":" "},null,null,{"$f":"B75+F75","v":0},{"$f":"N46+J75","v":0},null,null,null,null,{"$f":"IF(M82=0,0,M82*P48)","v":0},{"$f":"IF(M82=0,0,M82*R48)","v":0}]
["Anfall  Wirtschaftsdünger im Jahr in m³",null,null,null,null,null,null,null,{"$f":"IF(M82=0,\" \",M82)","v":" "},{"$f":"IF(N83=0,\" \",N83)","v":" "},null,null,null,{"$f":"N47+J75*(1/0.9)","v":0}]
[null,null,null,null,null,null,null,null,null,null,null,null,null,null,null,null,null,null,null,null,null,null,null,null,null,null,null,null,null,null,null,null,null,null,null,null,null,null,null,null,null,null,null,null,null,null,null,null,null,null,null,null,null,null,null,null,null,null,null,null,null,null,null,null,null,null,null,null,null,null,null,null,null,null,null,null,null,null,null,null,null,null,{"$f":"SUM(CE23:CE83)","v":0},{"$f":"SUM(CF23:CF83)","v":0}]
[null,null,null,null,null,null,null,null,null,null,null,null,null,null,null,null,null,null,null,null,null,null,null,null,null,null,null,null,null,null,null,null,null,null,null,null,null,null,null,null,null,null,null,null,null,null,null,null,null,null,null,null,null,null,null,null,null,null,null,null,null,null,null,null,null,null,null,null,null,null,null,null,null,null,null,null,null,null,null,null,null,null,{"$f":"IF(N83=0,0,CE84/(N47+Q75))","v":0},{"$f":"IF(N83=0,0,CF84/(N47+Q75))","v":0}]
[]
[]
[]
[]
[]
[]
[]
[]
[]
[]
[]
[]
[]
[]
[]
[]
["© Bayerische Landesanstalt für Landwirtschaft, Institut für Agrarökologie - Düngung (Of, We, Sp, Ka, Br); Stand: 04.02.20"]
[]
[]
[]
["Runde Behälter (flüssig) ",null,"Lager",null,"Durchmesser",null,"Höhe1)",null,"Lagerraum m³"]
[null,null,"für Wirtschaftsdünger",null,"m",null,"m",null,"flüssig","fest"]
["Behälter 1 Bestand",null,"flüssig",null,null,null,null,null,{"$f":"IF(M108=TRUE,E108/2*E108/2*3.1415926*G108,\" \")","v":" "},null,null,null,{"$f":"AND(E108>0.1,G108>0.1)","v":false}]
["Behälter 2 Bestand",null,"flüssig",null,null,null,null,null,{"$f":"IF(M109=TRUE,E109/2*E109/2*3.1415926*G109,\" \")","v":" "},null,null,null,{"$f":"AND(E109>0.1,G109>0.1)","v":false}]
["Behälter 3 Neubau",null,"flüssig",null,null,null,null,null,{"$f":"IF(M110=TRUE,E110/2*E110/2*3.1415926*G110,\" \")","v":" "},null,null,null,{"$f":"AND(E110>0.1,G110>0.1)","v":false}]
["Behälter 4 Neubau",null,"flüssig",null,null,null,null,null,{"$f":"IF(M111=TRUE,E111/2*E111/2*3.1415926*G111,\" \")","v":" "},null,null,null,{"$f":"AND(E111>0.1,G111>0.1)","v":false}]
["Rechteckige Behälter (flüssig)",null,"Lager"]
["bzw. Lagerflächen (fest)",null,"für Wirtschaftsdünger",null,null,null,null,null,null,null,null,null,null,null,null,null,null," --"]
["Behälter/Lagerfläche 1 Bestand",null,null,null,null,null,null,null,{"$f":"IF(M114=TRUE,IF(U114=2,E114*F114*G114,\" \"),\" \")","v":" "},{"$f":"IF(M114=TRUE,IF(U114=3,E114*F114*G114,\" \"),\" \")","v":" "},null,null,{"$f":"AND(E114>0.1,F114>0.1,G114>0.1)","v":false},null,null,null,null,"flüssig",null,null,1]
["Behälter/Lagerfläche 2 Bestand",null,null,null,null,null,null,null,{"$f":"IF(M115=TRUE,IF(U115=2,E115*F115*G115,\" \"),\" \")","v":" "},{"$f":"IF(M115=TRUE,IF(U115=3,E115*F115*G115,\" \"),\" \")","v":" "},null,null,{"$f":"AND(E115>0.1,F115>0.1,G115>0.1)","v":false},null,null,null,null,"fest",null,null,1]
["Behälter/Lagerfläche 3 Neubau",null,null,null,null,null,null,null,{"$f":"IF(M116=TRUE,IF(U116=2,E116*F116*G116,\" \"),\" \")","v":" "},{"$f":"IF(M116=TRUE,IF(U116=3,E116*F116*G116,\" \"),\" \")","v":" "},null,null,{"$f":"AND(E116>0.1,F116>0.1,G116>0.1)","v":false},null,null,null,null,null,null,null,1]
["Behälter/Lagerfläche 4 Neubau",null,null,null,null,null,null,null,{"$f":"IF(M117=TRUE,IF(U117=2,E117*F117*G117,\" \"),\" \")","v":" "},{"$f":"IF(M117=TRUE,IF(U117=3,E117*F117*G117,\" \"),\" \")","v":" "},null,null,{"$f":"AND(E117>0.1,F117>0.1,G117>0.1)","v":false},null,null,null,null,null,null,null,1]
["Sonstige Lagerkapazitäten im Betrieb "]
["Lager 1"]
["Lager 2"]
["Lager 3"]
["Lager 4"]
[null,null,null,{"$f":"IF(X129>1,\"Verpacht mit Vorzeichen minus\",\" \")","v":" "}]
[]
[null,null,null,null,null,null,null,null,null,null,null,null,null,null,null,null,null," --",null,null,1,null,null,{"$f":"IF(U125=3,IF(I125>0,99,IF(J125>0,99,0)),0)","v":0},{"$f":"IF(U125=1,IF(I125>0,99,IF(J125>0,99,0)),0)","v":0},{"$f":"IF(U125=1,IF(I125<0,99,IF(J125<0,99,0)),0)","v":0}]
[null,null,null,null,null,null,null,null,null,null,null,null,null,null,null,null,null,"Zupacht",null,null,1,null,null,{"$f":"IF(U126=3,IF(I126>0,99,IF(J126>0,99,0)),0)","v":0},{"$f":"IF(U126=1,IF(I126>0,99,IF(J126>0,99,0)),0)","v":0},{"$f":"IF(U126=1,IF(I126<0,99,IF(J126<0,99,0)),0)","v":0}]
[null,null,null,null,null,null,null,null,null,null,null,null,null,null,null,null,null,"Verpacht",null,null,1,null,null,{"$f":"IF(U127=3,IF(I127>0,99,IF(J127>0,99,0)),0)","v":0},{"$f":"IF(U127=1,IF(I127>0,99,IF(J127>0,99,0)),0)","v":0},{"$f":"IF(U127=1,IF(I127<0,99,IF(J127<0,99,0)),0)","v":0}]
[null,null,null,null,null,null,null,null,null,null,null,null,null,null,null,null,null,null,null,null,1,null,null,{"$f":"IF(U128=3,IF(I128>0,99,IF(J128>0,99,0)),0)","v":0},{"$f":"IF(U128=1,IF(I128>0,99,IF(J128>0,99,0)),0)","v":0},{"$f":"IF(U128=1,IF(I128<0,99,IF(J128<0,99,0)),0)","v":0}]
["Lagerraum der dem Betrieb zur Verfügung steht in m³",null,null,null,null,null,null,null,{"$f":"IF(M129=0,\" \",IF(AA129>1,\"Fehler\",M129))","v":" "},{"$f":"IF(N129=0,\" \",IF(AA129>0,\"Fehler\",N129))","v":" "},null,null,{"$f":"+M130+M131","v":0},{"$f":"+N130+N131","v":0},null,null,null,null,null,null,null,null,null,{"$f":"SUM(X125:X128)","v":0},{"$f":"SUM(Y125:Y128)","v":0},{"$f":"SUM(Z125:Z128)","v":0},{"$f":"+X129+Y129+Z129","v":0}]
["Summe Lagerbehälter im Betrieb für flüssige und feste Wirtschaftsdünger m³",null,null,null,null,null,null,null,{"$f":"IF(M130=0,\" \",M130)","v":" "},{"$f":"IF(N130=0,\" \",N130)","v":" "},null,null,{"$f":"SUM(I108:I122)","v":0},{"$f":"SUM(J108:J122)","v":0}]
[null,null,null,null,null,null,null,null,{"$f":"IF(M131=0,\" \",M131)","v":" "},{"$f":"IF(N131=0,\" \",N131)","v":" "},null,null,{"$f":"SUM(I125:I128)","v":0},{"$f":"SUM(J125:J128)","v":0},null,null,null,"rote Flächen",null,null,null,null,null,null,null,"grünes Gebiet",null,null,null,null,null,null,null,null,null,null,null,null,null,null,null,"bei Anteil"]
[]
[]
["Ergebnis 2019",null,null,null,null,null,null,null,"flüssig","fest",null,null,{"$f":"IF(I83=0,\"0\",6)","v":6},{"$f":"ROUND(N135,1)","v":0}]
["Notwendiger Lagerraum nach DüV in Monate:",null,null,null,null,null,null,null,{"$f":"CONCATENATE(M134,\" Mo.\")","v":"6 Mo."},{"$f":"CONCATENATE(N134,\" Mo.\")","v":"0 Mo."},null,null,6,{"$f":"+CE85","v":0},null,null,null,"LF","GV/ha","Gülle/Jauche notwendige ha","% der Gülle reichen 6 Mo Lagerraum",null,null,"% der Gülle benötigen wir 9 Mo Lagerraum",null,"LF",null,null,null,null,null,null,null,"GV/ha","GL/ha","ha notwendig bei Rind und Grünlad (255)","Fläche eigen Grünland max. ha 255","Max. Ausbringung Betrieb","% der Gülle für 6 Mo Lagerraum","% der Gülle die 9 Mo gelagert werden muss",null,"%6Mo","%9Mo"]
["Anfall in dieser Zeit (bzw. mindestens benötigter Lagerraum) in m³",null,null,null,null,null,null,null,{"$f":"IF(M136=0,\" \",M136)","v":" "},{"$f":"IF(N136=0,\" \",N136)","v":" "},null,null,{"$f":"+T82/12*M135","v":0},{"$f":"+(T47+T75)/12*N135","v":0}]
["Lagerraum der dem Betrieb zur Verfügung steht in m³",null,null,null,null,null,null,null,{"$f":"IF(M137=0,\" \",M137)","v":" "},{"$f":"IF(N137=0,\" \",N137)","v":" "},null,null,{"$f":"IF(I129=\" \",0,I129)","v":0},{"$f":"IF(J129=\" \",0,J129)","v":0}]
["Mindestanforderung nach DüV wird eingehalten: ",null,null,null,null,null,null,null,{"$f":"IF(I137=\"Fehler\",\"Fehler\",IF(M136>0.1,IF(M136<M137,\"ja\",\"nein\"),\" \"))","v":" "},{"$f":"IF(J137=\"Fehler\",\"Fehler\",IF(N136>0.1,IF(N136<N137,\"ja\",\"nein\"),\" \"))","v":" "},null,null,null,null,null,"ja","nein"]
[]
["Notwendiger Lagerraum Zieljahr",null,null,null,null,null,null,null,"flüssig","fest",null,null,9,4]
["Notwendiger Lagerraum in Monate",null,null,null,null,null,null,null,{"$f":"CONCATENATE(M140,\" Mo.\")","v":"9 Mo."},{"$f":"CONCATENATE(N140,\" Mo.\")","v":"4 Mo."},null,null,9,4]
["Anfall in dieser Zeit (bzw. mindestens benötigter Lagerraum) in m³",null,null,null,null,null,null,null,{"$f":"IF(M142=0,\" \",M142)","v":" "},{"$f":"IF(N142=0,\" \",N142)","v":" "},null,null,{"$f":"+IF(S82+T82=0,0,M136+((M141-M135)*S82/12))","v":0},{"$f":"(T47+T75)/12*N141","v":0},null,null,null,{"$f":"+#REF!-#REF!+#REF!-#REF!","v":{"$error":"#REF!"}},{"$f":"IF(R142=0,100,BK46/R142)","v":{"$error":"#REF!"}},{"$f":"(W46+AA46)/2/170","v":0},{"$f":"IF(R142+#REF!>T142,100,(1-(T142-R142-#REF!)/T142)*100)","v":{"$error":"#REF!"}},null,null,{"$f":"100-U142","v":{"$error":"#REF!"}},null,{"$f":"+R142","v":{"$error":"#REF!"}},null,null,null,null,null,null,null,{"$f":"+S142","v":{"$error":"#REF!"}},{"$f":"+#REF!-#REF!","v":{"$error":"#REF!"}},{"$f":"+(X46+AB46)/2/255","v":0},{"$f":"IF(AI142<AJ142,AI142,AJ142)","v":{"$error":"#REF!"}},{"$f":"+AK142*255+(R142+#REF!-AK142)*170","v":{"$error":"#REF!"}},{"$f":"IF((W46+AA46)/2=0,100,(AL142/((W46+AA46)/2))*100)","v":100},{"$f":"100-AM142","v":0},null,{"$f":"IF(AM142>100,100,(AM142*T11+U142*(100-T11))/100)","v":{"$error":"#REF!"}},{"$f":"100-AP142","v":{"$error":"#REF!"}}]
["Lagerraum der dem Betrieb im Ziel zur Verfügung steht in m³",null,null,null,null,null,null,null,{"$f":"+I137","v":" "},{"$f":"+J137","v":" "},null,null,{"$f":"+M137","v":0},{"$f":"+N137","v":0}]
["Anforderung für EIF-Förderung (Lagerung Wirtschaftsdünger) eingehalten: ",null,null,null,null,null,null,null,{"$f":"IF(I143=\"Fehler\",\"Fehler\",IF(M142>0.1,IF(M142<M143,\"ja\",\"nein\"),\" \"))","v":" "},{"$f":"IF(J143=\"Fehler\",\"Fehler\",IF(N142>0.1,IF(N142<N143,\"ja\",\"nein\"),\" \"))","v":" "}]
[]
["1) Bei offenen Behältern sind von der Höhe 20 cm (Freiraum) und bei geschlossenen Behältern 10 cm abzuziehen. ",null,null,null,null,null,null,null,null,null,null,null,{"$f":"((M44+M41)/I47)*100","v":{"$error":"#VALUE!"}}]
["    Zusätzlich sind für nicht abpumpfähige Mengen 10 cm zu berücksichtigen und von der Höhe abzuziehen. "]
[]
["Berechnung durch:"]
[]
[]
[]
["Ort, Datum","AELF/Firma",null,null,null,null,"Betreuer"]
[]
[]
["Die Angaben sind richtig"]
[]
[]
[]
["Ort, Datum",null,null,null,null,null,"Antragsteller"]

{"sheet":"Betriebe mit Separation","index":1,"n_rows":154,"n_cols":71,"rows_kept":154,"cut":false,"hidden":true,"merged":[[0,0,0,7],[5,1,5,3],[6,1,6,3],[7,1,7,3],[8,1,8,3],[10,5,11,5],[10,6,11,9],[19,3,19,7],[19,8,19,9],[20,4,20,5],[20,6,20,7],[20,15,20,16],[20,17,20,20],[20,23,20,25],[20,27,20,29],[20,46,20,48],[20,81,20,82],[21,37,21,39],[21,51,21,53],[21,54,21,55],[21,57,21,59],[21,60,21,62],[21,65,21,66],[22,31,22,34],[24,0,24,2],[25,0,25,2],[26,0,26,2],[27,0,27,2],[28,0,28,2],[29,0,29,2],[30,0,30,2],[31,0,31,2],[32,0,32,2],[33,0,33,2],[34,0,34,2],[35,0,35,2],[36,0,36,7],[37,0,37,2],[38,0,38,2],[39,0,39,2],[40,6,40,7],[41,0,41,5],[42,0,42,5],[43,0,43,5],[53,0,53,9],[58,3,58,5],[80,8,80,9],[105,0,105,9],[107,2,107,3],[107,4,107,5],[107,6,107,7],[107,8,107,9],[108,2,108,3],[108,4,108,5],[108,6,108,7],[109,0,109,1],[109,2,109,3],[109,4,109,5],[109,6,109,7],[110,0,110,1],[110,2,110,3],[110,4,110,5],[110,6,110,7],[111,0,111,1],[111,2,111,3],[111,4,111,5],[111,6,111,7],[112,0,112,1],[112,2,112,3],[112,4,112,5],[112,6,112,7],[113,2,113,3],[113,6,113,7],[114,2,114,3],[114,6,114,7],[115,0,115,1],[115,2,115,3],[115,6,115,7],[116,0,116,1],[116,2,116,3],[116,6,116,7],[117,0,117,1],[117,2,117,3],[117,6,117,7],[118,0,118,1],[118,2,118,3],[118,6,118,7],[119,5,119,7],[120,0,120,1],[120,2,120,7],[121,0,121,1],[121,2,121,7],[122,0,122,1],[122,2,122,7],[136,19,142,19],[136,20,142,20],[136,23,142,23],[136,25,142,25],[136,30,142,30],[104,0,104,9],[136,38,142,38],[136,39,142,39],[152,0,152,9],[136,31,142,31],[136,32,142,32],[136,33,142,33],[136,34,142,34],[136,35,142,35],[136,36,142,36],[123,0,123,1],[123,2,123,7],[126,1,126,7],[127,1,127,7],[128,1,128,7],[129,1,129,7],[135,2,135,7],[136,17,142,17],[136,18,142,18]]}
["Berechnung Lagerraum für Gülle/Jauche und Stallmist"]
[null,null,"für tierhaltende Betriebe  (ohne Biogas, mit Separierung)"]
["Mindestanforderungen nach Düngeverordnung 1) Entwurf Stand: 17.10.18"]
[]
["Betriebsnummer:",null,"Kalenderjahr:",2018,null,null,"ha LF"]
["Vorname/Name:",null,null,null,null,null,"ha gesamte Ackerfläche"]
["Straße:",null,null,null,null,null,null,"davon Stillleg. Acker"]
["PLZ/Ort:",null,null,null,null,null,"ha gesamte Grünlandfläche"]
["Telefon:",null,null,null,null,null,null,"davon Stillleg. GL"]
[null,null,null,null,null,{"$f":"IF(F6+F8<>F5,\"Flächenangaben nicht plausibel\",IF(G7>F6,\"Flächenangaben nicht plausibel\",IF(G9>F8,\"Flächenangaben nicht plausibel\",\" \")))","v":" "}]
[null,{"$f":"IF(AP41=2,IF(F5<0.001,\"Flächenangaben nicht plausibel\",\" \"),\" \")","v":" "},null,null,null,null,"zusätzliche Ausbringfläche"]
[null,{"$f":"IF(AP41=2,IF(B13<3000,\"Milchleistung nicht plausibel\",\" \"),\" \")","v":" "}]
["Milchleistung:",10000,"kg/Kuh und Jahr",null,null,null,"grüner Betrieb?",null,null,null,null,null,null,"Fläche im grünen Gebiet (%) ab 2020",null,null,null,null,null,{"$f":"IF(W13=1,0,100)","v":100},null,null,2,"nein",null,null,null,null,null,null,null,null,null,null,null,null,null,null,null,null,null,null,null,null,null,null,{"$f":"IF(F5=0,0,+(F8-G9)/(F5-G7-G9))","v":0},null,null,"% Grünlandanteil"]
["Niederschlag:",null,"mm im Jahr (langjähriges Mittel)",null,null,null,null,null,null,null,null,null,null,null,null,null,null,null,null,null,null,null,null,"ja"]
[]
[null,{"$f":"IF((G42+G43+G44)>1,IF(B14<10,\"Bitte Niederschlag eingeben\",\" \"),\" \")","v":" "}]
["Anfall flüssiger und fester Wirtschaftsdünger (Gülle/Jauche/Stallmist) aus Tierhaltung"]
[]
[]
["Tierhaltung",null,null,"Ø Jahresbestand",null,null,null,null,"Anfall Betrieb",null,null,null,null,"Anfall",null,null,null,"Nährstoffanfall Betrieb"]
[null,null,null,"Gülle","Stallmist/Jauche",null,"Weide",null,"Gülle,","Stall-",null,null,null,"SM",null,"Plaus. Tiere ohne Gülle",null,"Gülle und Jauche",null,null,null,"Gülle","Jauche","Festmist",null,null,"Festmist","Stroh",null,null,null,"t","t",170,170,"Anfall","Anfall",null,null,null,null,null,null,null,null,null,"Nährstoffauss. Anfall"]
[null,null,null,null,null,"Einstreu-","Apr-Sep","Okt-Mär","Jauche","mist",null,null,null,null,null,"Gülle","Mist","N","N","P205","K2O","% TS","% TS","N","P205","K2O","% TS","N","P205","K2O",null,"Gülle","Mist","Gülle","Mist","Jauche","Mist","Jauche Nährstoffg.",null,null,null,null,null,"GV","GV","GV",null,null,null,"Gülle","Jauche","Mist",null,null,"Verluste",null,"spez.Gew.","Einstreu kg je GV und Tag",null,null,"Nähstoffgehalt Stroh kg/t",null,null,"Lager in Monate Stallmist",null,"Mistanfall im m³",null,"Anfall Gülle ","Anfall Jauche "]
[null,null,null,"Anzahl","Anzahl","menge","in %","in %","m³/Jahr","t/Jahr",null,null,null,"m³/Jahr",null,"Anzahl","Anzahl",null,"Rind",null,null,null,null,null,null,null,null,null,null,null,null,"Anzahl ohne Weide",null,null,null,null,null,"N","P205","K2O","Tierart","Tiergruppe","Stroh",null,null,"Gesamt","N","P205","K2O","Anfall","Anfall","gering","mittel","hoch","Gülle","Mist,Jauche","Mist","ger.","mittel","hoch","N","P205","K2O","bis 2020","ab 2020","bis 2020","ab 2020","gesamt ","gesamt"]
[]
[null,null,null,null,null,null,null,null,{"$f":"IF(BS25=FALSE,\" \",IF(P25+Q25=0,\" \",IF(AF25*AX25+AG25*AJ25=0,\" \",AF25*AX25+AG25*AJ25)))","v":" "},{"$f":"IF(BS25=FALSE,\" \",IF(Q25=0,\" \",IF(AG25*AK25=0,\" \",IF(AO25=4,AG25*AK25-(D25*(1-H25/100)*AK25)*0.3,AG25*AK25))))","v":" "},null,null,null,{"$f":"IF(J25=\" \",\" \",(J25*(1/BE25)))","v":" "},null,{"$f":"IF(AX25=0,0,D25)","v":0},{"$f":"IF(AX25=0,D25+E25,E25)","v":0},{"$f":"+(AF25*AU25*(100-BC25)/100)+(AJ25*AL25*AG25*(100-BD25)/100)","v":0},{"$f":"IF(AO25=2,R25,0)","v":0},{"$f":"AF25*AV25+AG25*AJ25*AM25","v":0},{"$f":"AF25*AW25+AG25*AJ25*AN25","v":0},{"$f":"INDEX(Tiere2!K$30:K$79,'Betriebe mit Separation'!$AP25)","v":0},{"$f":"INDEX(Tiere2!S$30:S$79,'Betriebe mit Separation'!AP25)","v":0},{"$f":"+(AG25*AU25*(100-BD25)/100)-AJ25*AG25*AL25","v":0},{"$f":"AG25*AV25-AG25*AJ25*AM25","v":0},{"$f":"AG25*AW25-AG25*AJ25*AN25","v":0},{"$f":"INDEX(Tiere2!P$30:P$79,'Betriebe mit Separation'!$AP25)","v":0},{"$f":"IF(AQ25=1,AG25*BF25*AS25*365/1000*BI25,IF(AQ25=2,AG25*BG25*AS25*365/1000*BI25,AG25*BH25*AS25*365/1000*BI25))","v":0},{"$f":"IF(AQ25=1,AG25*BF25*AS25*365/1000*BJ25,IF(AQ25=2,AG25*BG25*AS25*365/1000*BJ25,AG25*BH25*AS25*365/1000*BJ25))","v":0},{"$f":"IF(AQ25=1,AG25*BF25*AS25*365/1000*BK25,IF(AQ25=2,AG25*BG25*AS25*365/1000*BK25,AG25*BH25*AS25*365/1000*BK25))","v":0},null,{"$f":"+P25*(100-$H25)/100","v":0},{"$f":"+Q25*(100-$H25)/100","v":0},{"$f":"+P25-(P25*((G25+H25)/2))/100","v":0},{"$f":"+Q25+P25-AH25","v":0},{"$f":"IF(AQ25=1,AY25,IF(AQ25=2,AY25/2,0))","v":0},{"$f":"IF(AQ25=1,AZ25,IF(AQ25=2,BA25,BB25))","v":0},{"$f":"IF(AO25=2,3.2,IF(AO25=3,3.3,0))","v":0},{"$f":"IF(AO25=2,0,IF(AO25=3,0,0))","v":0},{"$f":"IF(AO25=2,7.9,IF(AO25=3,3.1,0))","v":0},{"$f":"IF(AP25<2,1,IF(AP25<11,2,IF(AP25<26,3,IF(AP25<40,4,5))))","v":1},1,1,{"$f":"INDEX(Tiere2!C$30:C$79,'Betriebe mit Separation'!$AP25)","v":0},{"$f":"IF(AR25>0.001,AR25,\"1\")","v":"1"},{"$f":"P25*AR25+Q25*AR25","v":0},{"$f":"INDEX(Tiere2!D$30:D$79,'Betriebe mit Separation'!$AP25)","v":0},{"$f":"INDEX(Tiere2!E$30:E$79,'Betriebe mit Separation'!$AP25)","v":0},{"$f":"INDEX(Tiere2!F$30:F$79,'Betriebe mit Separation'!$AP25)","v":0},{"$f":"INDEX(Tiere2!J$30:J$79,'Betriebe mit Separation'!$AP25)","v":0},{"$f":"INDEX(Tiere2!R$30:R$79,'Betriebe mit Separation'!$AP25)","v":0},{"$f":"INDEX(Tiere2!M$30:M$79,'Betriebe mit Separation'!$AP25)","v":0},{"$f":"INDEX(Tiere2!N$30:N$79,'Betriebe mit Separation'!$AP25)","v":0},{"$f":"INDEX(Tiere2!O$30:O$79,'Betriebe mit Separation'!$AP25)","v":0},{"$f":"INDEX(Tiere2!T$30:T$79,'Betriebe mit Separation'!$AP25)","v":0},{"$f":"INDEX(Tiere2!U$30:U$79,'Betriebe mit Separation'!$AP25)","v":0},{"$f":"INDEX(Tiere2!V$30:V$79,'Betriebe mit Separation'!$AP25)","v":0},{"$f":"INDEX(Tiere2!W$30:W$79,'Betriebe mit Separation'!$AP25)","v":0},{"$f":"INDEX(Tiere2!X$30:X$79,'Betriebe mit Separation'!$AP25)","v":0},{"$f":"INDEX(Tiere2!Y$30:Y$79,'Betriebe mit Separation'!$AP25)","v":0},5,3,17,{"$f":"INDEX(Tiere2!Z$30:Z$79,'Betriebe mit Separation'!$AP25)","v":0},{"$f":"INDEX(Tiere2!AA$30:AA$79,'Betriebe mit Separation'!$AP25)","v":0},{"$f":"IF(N25=\" \",0,BL25*N25)","v":0},{"$f":"IF(N25=\" \",0,BM25*N25)","v":0},{"$f":"AF25*AX25","v":0},{"$f":"AG25*AJ25","v":0},null,{"$f":"AND(AP25>1)","v":false}]
[null,null,null,null,null,null,null,null,{"$f":"IF(BS26=FALSE,\" \",IF(P26+Q26=0,\" \",IF(AF26*AX26+AG26*AJ26=0,\" \",AF26*AX26+AG26*AJ26)))","v":" "},{"$f":"IF(BS26=FALSE,\" \",IF(Q26=0,\" \",IF(AG26*AK26=0,\" \",IF(AO26=4,AG26*AK26-(D26*(1-H26/100)*AK26)*0.3,AG26*AK26))))","v":" "},null,null,null,{"$f":"IF(J26=\" \",\" \",(J26*(1/BE26)))","v":" "},null,{"$f":"IF(AX26=0,0,D26)","v":0},{"$f":"IF(AX26=0,D26+E26,E26)","v":0},{"$f":"+(AF26*AU26*(100-BC26)/100)+(AJ26*AL26*AG26*(100-BD26)/100)","v":0},{"$f":"IF(AO26=2,R26,0)","v":0},{"$f":"AF26*AV26+AG26*AJ26*AM26","v":0},{"$f":"AF26*AW26+AG26*AJ26*AN26","v":0},{"$f":"INDEX(Tiere2!K$30:K$79,'Betriebe mit Separation'!$AP26)","v":0},{"$f":"INDEX(Tiere2!S$30:S$79,'Betriebe mit Separation'!AP26)","v":0},{"$f":"+(AG26*AU26*(100-BD26)/100)-AJ26*AG26*AL26*(100-BD26)/100","v":0},{"$f":"AG26*AV26-AG26*AJ26*AM26","v":0},{"$f":"AG26*AW26-AG26*AJ26*AN26","v":0},{"$f":"INDEX(Tiere2!P$30:P$79,'Betriebe mit Separation'!$AP26)","v":0},{"$f":"IF(AQ26=1,AG26*BF26*AS26*365/1000*BI26,IF(AQ26=2,AG26*BG26*AS26*365/1000*BI26,AG26*BH26*AS26*365/1000*BI26))","v":0},{"$f":"IF(AQ26=1,AG26*BF26*AS26*365/1000*BJ26,IF(AQ26=2,AG26*BG26*AS26*365/1000*BJ26,AG26*BH26*AS26*365/1000*BJ26))","v":0},{"$f":"IF(AQ26=1,AG26*BF26*AS26*365/1000*BK26,IF(AQ26=2,AG26*BG26*AS26*365/1000*BK26,AG26*BH26*AS26*365/1000*BK26))","v":0},null,{"$f":"+P26*(100-$H26)/100","v":0},{"$f":"+Q26*(100-$H26)/100","v":0},0,0,{"$f":"IF(AQ26=1,AY26,IF(AQ26=2,AY26/2,0))","v":0},{"$f":"IF(AQ26=1,AZ26,IF(AQ26=2,BA26,BB26))","v":0},{"$f":"IF(AO26=2,3.2,IF(AO26=3,3.3,0))","v":0},{"$f":"IF(AO26=2,0,IF(AO26=3,0,0))","v":0},{"$f":"IF(AO26=2,7.9,IF(AO26=3,3.1,0))","v":0},{"$f":"IF(AP26<2,1,IF(AP26<11,2,IF(AP26<26,3,IF(AP26<40,4,5))))","v":1},1,1,{"$f":"INDEX(Tiere2!C$30:C$79,'Betriebe mit Separation'!$AP26)","v":0},{"$f":"IF(AR26>0.001,AR26,\"1\")","v":"1"},{"$f":"D26*AR26+E26*AR26","v":0},{"$f":"INDEX(Tiere2!D$30:D$79,'Betriebe mit Separation'!$AP26)","v":0},{"$f":"INDEX(Tiere2!E$30:E$79,'Betriebe mit Separation'!$AP26)","v":0},{"$f":"INDEX(Tiere2!F$30:F$79,'Betriebe mit Separation'!$AP26)","v":0},{"$f":"INDEX(Tiere2!J$30:J$79,'Betriebe mit Separation'!$AP26)","v":0},{"$f":"INDEX(Tiere2!R$30:R$79,'Betriebe mit Separation'!$AP26)","v":0},{"$f":"INDEX(Tiere2!M$30:M$79,'Betriebe mit Separation'!$AP26)","v":0},{"$f":"INDEX(Tiere2!N$30:N$79,'Betriebe mit Separation'!$AP26)","v":0},{"$f":"INDEX(Tiere2!O$30:O$79,'Betriebe mit Separation'!$AP26)","v":0},{"$f":"INDEX(Tiere2!T$30:T$79,'Betriebe mit Separation'!$AP26)","v":0},{"$f":"INDEX(Tiere2!U$30:U$79,'Betriebe mit Separation'!$AP26)","v":0},{"$f":"INDEX(Tiere2!V$30:V$79,'Betriebe mit Separation'!$AP26)","v":0},{"$f":"INDEX(Tiere2!W$30:W$79,'Betriebe mit Separation'!$AP26)","v":0},{"$f":"INDEX(Tiere2!X$30:X$79,'Betriebe mit Separation'!$AP26)","v":0},{"$f":"INDEX(Tiere2!Y$30:Y$79,'Betriebe mit Separation'!$AP26)","v":0},5,3,17,{"$f":"INDEX(Tiere2!Z$30:Z$79,'Betriebe mit Separation'!$AP26)","v":0},{"$f":"INDEX(Tiere2!AA$30:AA$79,'Betriebe mit Separation'!$AP26)","v":0},{"$f":"IF(N26=\" \",0,BL26*N26)","v":0},0,{"$f":"AF26*AX26","v":0},{"$f":"AG26*AJ26","v":0},null,{"$f":"AND(AP26>1)","v":false}]
[null,null,null,null,null,null,null,null," "," ",null,null,null," ",null,0,{"$f":"IF(AX27=0,D27+E27,E27)","v":0},0,0,0,0,{"$f":"INDEX(Tiere2!K$30:K$79,'Betriebe mit Separation'!$AP27)","v":0},{"$f":"INDEX(Tiere2!S$30:S$79,'Betriebe mit Separation'!AP27)","v":0},0,0,0,{"$f":"INDEX(Tiere2!P$30:P$79,'Betriebe mit Separation'!$AP27)","v":0},0,0,0,null,0,0,0,0,0,0,{"$f":"IF(AO27=2,3.2,IF(AO27=3,3.3,0))","v":0},0,0,1,1,1,{"$f":"INDEX(Tiere2!C$30:C$79,'Betriebe mit Separation'!$AP27)","v":0},"1",0,{"$f":"INDEX(Tiere2!D$30:D$79,'Betriebe mit Separation'!$AP27)","v":0},{"$f":"INDEX(Tiere2!E$30:E$79,'Betriebe mit Separation'!$AP27)","v":0},{"$f":"INDEX(Tiere2!F$30:F$79,'Betriebe mit Separation'!$AP27)","v":0},{"$f":"INDEX(Tiere2!J$30:J$79,'Betriebe mit Separation'!$AP27)","v":0},{"$f":"INDEX(Tiere2!R$30:R$79,'Betriebe mit Separation'!$AP27)","v":0},{"$f":"INDEX(Tiere2!M$30:M$79,'Betriebe mit Separation'!$AP27)","v":0},{"$f":"INDEX(Tiere2!N$30:N$79,'Betriebe mit Separation'!$AP27)","v":0},{"$f":"INDEX(Tiere2!O$30:O$79,'Betriebe mit Separation'!$AP27)","v":0},{"$f":"INDEX(Tiere2!T$30:T$79,'Betriebe mit Separation'!$AP27)","v":0},{"$f":"INDEX(Tiere2!U$30:U$79,'Betriebe mit Separation'!$AP27)","v":0},{"$f":"INDEX(Tiere2!V$30:V$79,'Betriebe mit Separation'!$AP27)","v":0},{"$f":"INDEX(Tiere2!W$30:W$79,'Betriebe mit Separation'!$AP27)","v":0},{"$f":"INDEX(Tiere2!X$30:X$79,'Betriebe mit Separation'!$AP27)","v":0},{"$f":"INDEX(Tiere2!Y$30:Y$79,'Betriebe mit Separation'!$AP27)","v":0},5,3,17,{"$f":"INDEX(Tiere2!Z$30:Z$79,'Betriebe mit Separation'!$AP27)","v":0},{"$f":"INDEX(Tiere2!AA$30:AA$79,'Betriebe mit Separation'!$AP27)","v":0},0,0,0,0,null,false]
[null,null,null,null,null,null,null,null," "," ",null,null,null," ",null,0,0,0,0,0,0,{"$f":"INDEX(Tiere2!K$30:K$79,'Betriebe mit Separation'!$AP28)","v":0},{"$f":"INDEX(Tiere2!S$30:S$79,'Betriebe mit Separation'!AP28)","v":0},0,0,0,{"$f":"INDEX(Tiere2!P$30:P$79,'Betriebe mit Separation'!$AP28)","v":0},0,0,0,null,0,0,0,0,0,0,0,0,0,1,1,1,{"$f":"INDEX(Tiere2!C$30:C$79,'Betriebe mit Separation'!$AP28)","v":0},"1",0,{"$f":"INDEX(Tiere2!D$30:D$79,'Betriebe mit Separation'!$AP28)","v":0},{"$f":"INDEX(Tiere2!E$30:E$79,'Betriebe mit Separation'!$AP28)","v":0},{"$f":"INDEX(Tiere2!F$30:F$79,'Betriebe mit Separation'!$AP28)","v":0},{"$f":"INDEX(Tiere2!J$30:J$79,'Betriebe mit Separation'!$AP28)","v":0},{"$f":"INDEX(Tiere2!R$30:R$79,'Betriebe mit Separation'!$AP28)","v":0},{"$f":"INDEX(Tiere2!M$30:M$79,'Betriebe mit Separation'!$AP28)","v":0},{"$f":"INDEX(Tiere2!N$30:N$79,'Betriebe mit Separation'!$AP28)","v":0},{"$f":"INDEX(Tiere2!O$30:O$79,'Betriebe mit Separation'!$AP28)","v":0},{"$f":"INDEX(Tiere2!T$30:T$79,'Betriebe mit Separation'!$AP28)","v":0},{"$f":"INDEX(Tiere2!U$30:U$79,'Betriebe mit Separation'!$AP28)","v":0},{"$f":"INDEX(Tiere2!V$30:V$79,'Betriebe mit Separation'!$AP28)","v":0},{"$f":"INDEX(Tiere2!W$30:W$79,'Betriebe mit Separation'!$AP28)","v":0},{"$f":"INDEX(Tiere2!X$30:X$79,'Betriebe mit Separation'!$AP28)","v":0},{"$f":"INDEX(Tiere2!Y$30:Y$79,'Betriebe mit Separation'!$AP28)","v":0},5,3,17,{"$f":"INDEX(Tiere2!Z$30:Z$79,'Betriebe mit Separation'!$AP28)","v":0},{"$f":"INDEX(Tiere2!AA$30:AA$79,'Betriebe mit Separation'!$AP28)","v":0},0,0,0,0,null,false]
[null,null,null,null,null,null,null,null," "," ",null,null,null," ",null,{"$f":"IF(AX29=0,0,D29)","v":0},0,0,0,0,0,{"$f":"INDEX(Tiere2!K$30:K$79,'Betriebe mit Separation'!$AP29)","v":0},{"$f":"INDEX(Tiere2!S$30:S$79,'Betriebe mit Separation'!AP29)","v":0},0,0,0,{"$f":"INDEX(Tiere2!P$30:P$79,'Betriebe mit Separation'!$AP29)","v":0},0,0,0,null,0,0,0,0,0,0,0,0,0,1,1,1,{"$f":"INDEX(Tiere2!C$30:C$79,'Betriebe mit Separation'!$AP29)","v":0},"1",0,{"$f":"INDEX(Tiere2!D$30:D$79,'Betriebe mit Separation'!$AP29)","v":0},{"$f":"INDEX(Tiere2!E$30:E$79,'Betriebe mit Separation'!$AP29)","v":0},{"$f":"INDEX(Tiere2!F$30:F$79,'Betriebe mit Separation'!$AP29)","v":0},{"$f":"INDEX(Tiere2!J$30:J$79,'Betriebe mit Separation'!$AP29)","v":0},{"$f":"INDEX(Tiere2!R$30:R$79,'Betriebe mit Separation'!$AP29)","v":0},{"$f":"INDEX(Tiere2!M$30:M$79,'Betriebe mit Separation'!$AP29)","v":0},{"$f":"INDEX(Tiere2!N$30:N$79,'Betriebe mit Separation'!$AP29)","v":0},{"$f":"INDEX(Tiere2!O$30:O$79,'Betriebe mit Separation'!$AP29)","v":0},{"$f":"INDEX(Tiere2!T$30:T$79,'Betriebe mit Separation'!$AP29)","v":0},{"$f":"INDEX(Tiere2!U$30:U$79,'Betriebe mit Separation'!$AP29)","v":0},{"$f":"INDEX(Tiere2!V$30:V$79,'Betriebe mit Separation'!$AP29)","v":0},{"$f":"INDEX(Tiere2!W$30:W$79,'Betriebe mit Separation'!$AP29)","v":0},{"$f":"INDEX(Tiere2!X$30:X$79,'Betriebe mit Separation'!$AP29)","v":0},{"$f":"INDEX(Tiere2!Y$30:Y$79,'Betriebe mit Separation'!$AP29)","v":0},5,3,17,{"$f":"INDEX(Tiere2!Z$30:Z$79,'Betriebe mit Separation'!$AP29)","v":0},{"$f":"INDEX(Tiere2!AA$30:AA$79,'Betriebe mit Separation'!$AP29)","v":0},0,0,0,0,null,false]
[null,null,null,null,null,null,null,null," "," ",null,null,null," ",null,0,0,0,0,0,0,{"$f":"INDEX(Tiere2!K$30:K$79,'Betriebe mit Separation'!$AP30)","v":0},{"$f":"INDEX(Tiere2!S$30:S$79,'Betriebe mit Separation'!AP30)","v":0},0,0,0,{"$f":"INDEX(Tiere2!P$30:P$79,'Betriebe mit Separation'!$AP30)","v":0},0,0,0,null,0,0,0,0,0,0,0,0,0,1,1,1,{"$f":"INDEX(Tiere2!C$30:C$79,'Betriebe mit Separation'!$AP30)","v":0},"1",0,{"$f":"INDEX(Tiere2!D$30:D$79,'Betriebe mit Separation'!$AP30)","v":0},{"$f":"INDEX(Tiere2!E$30:E$79,'Betriebe mit Separation'!$AP30)","v":0},{"$f":"INDEX(Tiere2!F$30:F$79,'Betriebe mit Separation'!$AP30)","v":0},{"$f":"INDEX(Tiere2!J$30:J$79,'Betriebe mit Separation'!$AP30)","v":0},{"$f":"INDEX(Tiere2!R$30:R$79,'Betriebe mit Separation'!$AP30)","v":0},{"$f":"INDEX(Tiere2!M$30:M$79,'Betriebe mit Separation'!$AP30)","v":0},{"$f":"INDEX(Tiere2!N$30:N$79,'Betriebe mit Separation'!$AP30)","v":0},{"$f":"INDEX(Tiere2!O$30:O$79,'Betriebe mit Separation'!$AP30)","v":0},{"$f":"INDEX(Tiere2!T$30:T$79,'Betriebe mit Separation'!$AP30)","v":0},{"$f":"INDEX(Tiere2!U$30:U$79,'Betriebe mit Separation'!$AP30)","v":0},{"$f":"INDEX(Tiere2!V$30:V$79,'Betriebe mit Separation'!$AP30)","v":0},{"$f":"INDEX(Tiere2!W$30:W$79,'Betriebe mit Separation'!$AP30)","v":0},{"$f":"INDEX(Tiere2!X$30:X$79,'Betriebe mit Separation'!$AP30)","v":0},{"$f":"INDEX(Tiere2!Y$30:Y$79,'Betriebe mit Separation'!$AP30)","v":0},5,3,17,{"$f":"INDEX(Tiere2!Z$30:Z$79,'Betriebe mit Separation'!$AP30)","v":0},{"$f":"INDEX(Tiere2!AA$30:AA$79,'Betriebe mit Separation'!$AP30)","v":0},0,0,0,0,null,false]
[null,null,null,null,null,null,null,null," "," ",null,null,null," ",null,0,0,0,0,0,0,{"$f":"INDEX(Tiere2!K$30:K$79,'Betriebe mit Separation'!$AP31)","v":0},{"$f":"INDEX(Tiere2!S$30:S$79,'Betriebe mit Separation'!AP31)","v":0},0,0,0,{"$f":"INDEX(Tiere2!P$30:P$79,'Betriebe mit Separation'!$AP31)","v":0},0,0,0,null,0,0,0,0,0,0,0,0,0,1,1,1,{"$f":"INDEX(Tiere2!C$30:C$79,'Betriebe mit Separation'!$AP31)","v":0},"1",0,{"$f":"INDEX(Tiere2!D$30:D$79,'Betriebe mit Separation'!$AP31)","v":0},{"$f":"INDEX(Tiere2!E$30:E$79,'Betriebe mit Separation'!$AP31)","v":0},{"$f":"INDEX(Tiere2!F$30:F$79,'Betriebe mit Separation'!$AP31)","v":0},{"$f":"INDEX(Tiere2!J$30:J$79,'Betriebe mit Separation'!$AP31)","v":0},{"$f":"INDEX(Tiere2!R$30:R$79,'Betriebe mit Separation'!$AP31)","v":0},{"$f":"INDEX(Tiere2!M$30:M$79,'Betriebe mit Separation'!$AP31)","v":0},{"$f":"INDEX(Tiere2!N$30:N$79,'Betriebe mit Separation'!$AP31)","v":0},{"$f":"INDEX(Tiere2!O$30:O$79,'Betriebe mit Separation'!$AP31)","v":0},{"$f":"INDEX(Tiere2!T$30:T$79,'Betriebe mit Separation'!$AP31)","v":0},{"$f":"INDEX(Tiere2!U$30:U$79,'Betriebe mit Separation'!$AP31)","v":0},{"$f":"INDEX(Tiere2!V$30:V$79,'Betriebe mit Separation'!$AP31)","v":0},{"$f":"INDEX(Tiere2!W$30:W$79,'Betriebe mit Separation'!$AP31)","v":0},{"$f":"INDEX(Tiere2!X$30:X$79,'Betriebe mit Separation'!$AP31)","v":0},{"$f":"INDEX(Tiere2!Y$30:Y$79,'Betriebe mit Separation'!$AP31)","v":0},5,3,17,{"$f":"INDEX(Tiere2!Z$30:Z$79,'Betriebe mit Separation'!$AP31)","v":0},{"$f":"INDEX(Tiere2!AA$30:AA$79,'Betriebe mit Separation'!$AP31)","v":0},0,0,0,0,null,false]
[null,null,null,null,null,null,null,null," "," ",null,null,null," ",null,0,0,0,0,0,0,{"$f":"INDEX(Tiere2!K$30:K$79,'Betriebe mit Separation'!$AP32)","v":0},{"$f":"INDEX(Tiere2!S$30:S$79,'Betriebe mit Separation'!AP32)","v":0},0,0,0,{"$f":"INDEX(Tiere2!P$30:P$79,'Betriebe mit Separation'!$AP32)","v":0},0,0,0,null,0,0,0,0,0,0,0,0,0,1,1,1,{"$f":"INDEX(Tiere2!C$30:C$79,'Betriebe mit Separation'!$AP32)","v":0},"1",0,{"$f":"INDEX(Tiere2!D$30:D$79,'Betriebe mit Separation'!$AP32)","v":0},{"$f":"INDEX(Tiere2!E$30:E$79,'Betriebe mit Separation'!$AP32)","v":0},{"$f":"INDEX(Tiere2!F$30:F$79,'Betriebe mit Separation'!$AP32)","v":0},{"$f":"INDEX(Tiere2!J$30:J$79,'Betriebe mit Separation'!$AP32)","v":0},{"$f":"INDEX(Tiere2!R$30:R$79,'Betriebe mit Separation'!$AP32)","v":0},{"$f":"INDEX(Tiere2!M$30:M$79,'Betriebe mit Separation'!$AP32)","v":0},{"$f":"INDEX(Tiere2!N$30:N$79,'Betriebe mit Separation'!$AP32)","v":0},{"$f":"INDEX(Tiere2!O$30:O$79,'Betriebe mit Separation'!$AP32)","v":0},{"$f":"INDEX(Tiere2!T$30:T$79,'Betriebe mit Separation'!$AP32)","v":0},{"$f":"INDEX(Tiere2!U$30:U$79,'Betriebe mit Separation'!$AP32)","v":0},{"$f":"INDEX(Tiere2!V$30:V$79,'Betriebe mit Separation'!$AP32)","v":0},{"$f":"INDEX(Tiere2!W$30:W$79,'Betriebe mit Separation'!$AP32)","v":0},{"$f":"INDEX(Tiere2!X$30:X$79,'Betriebe mit Separation'!$AP32)","v":0},{"$f":"INDEX(Tiere2!Y$30:Y$79,'Betriebe mit Separation'!$AP32)","v":0},5,3,17,{"$f":"INDEX(Tiere2!Z$30:Z$79,'Betriebe mit Separation'!$AP32)","v":0},{"$f":"INDEX(Tiere2!AA$30:AA$79,'Betriebe mit Separation'!$AP32)","v":0},0,0,0,0,null,false]
[null,null,null,null,null,null,null,null," "," ",null,null,null," ",null,0,0,0,0,0,0,{"$f":"INDEX(Tiere2!K$30:K$79,'Betriebe mit Separation'!$AP33)","v":0},{"$f":"INDEX(Tiere2!S$30:S$79,'Betriebe mit Separation'!AP33)","v":0},0,0,0,{"$f":"INDEX(Tiere2!P$30:P$79,'Betriebe mit Separation'!$AP33)","v":0},0,0,0,null,0,0,0,0,0,0,0,0,0,1,1,1,{"$f":"INDEX(Tiere2!C$30:C$79,'Betriebe mit Separation'!$AP33)","v":0},"1",0,{"$f":"INDEX(Tiere2!D$30:D$79,'Betriebe mit Separation'!$AP33)","v":0},{"$f":"INDEX(Tiere2!E$30:E$79,'Betriebe mit Separation'!$AP33)","v":0},{"$f":"INDEX(Tiere2!F$30:F$79,'Betriebe mit Separation'!$AP33)","v":0},{"$f":"INDEX(Tiere2!J$30:J$79,'Betriebe mit Separation'!$AP33)","v":0},{"$f":"INDEX(Tiere2!R$30:R$79,'Betriebe mit Separation'!$AP33)","v":0},{"$f":"INDEX(Tiere2!M$30:M$79,'Betriebe mit Separation'!$AP33)","v":0},{"$f":"INDEX(Tiere2!N$30:N$79,'Betriebe mit Separation'!$AP33)","v":0},{"$f":"INDEX(Tiere2!O$30:O$79,'Betriebe mit Separation'!$AP33)","v":0},{"$f":"INDEX(Tiere2!T$30:T$79,'Betriebe mit Separation'!$AP33)","v":0},{"$f":"INDEX(Tiere2!U$30:U$79,'Betriebe mit Separation'!$AP33)","v":0},{"$f":"INDEX(Tiere2!V$30:V$79,'Betriebe mit Separation'!$AP33)","v":0},{"$f":"INDEX(Tiere2!W$30:W$79,'Betriebe mit Separation'!$AP33)","v":0},{"$f":"INDEX(Tiere2!X$30:X$79,'Betriebe mit Separation'!$AP33)","v":0},{"$f":"INDEX(Tiere2!Y$30:Y$79,'Betriebe mit Separation'!$AP33)","v":0},5,3,17,{"$f":"INDEX(Tiere2!Z$30:Z$79,'Betriebe mit Separation'!$AP33)","v":0},{"$f":"INDEX(Tiere2!AA$30:AA$79,'Betriebe mit Separation'!$AP33)","v":0},0,0,0,0,null,false]
[null,null,null,null,null,null,null,null," "," ",null,null,null," ",null,0,0,0,0,0,0,{"$f":"INDEX(Tiere2!K$30:K$79,'Betriebe mit Separation'!$AP34)","v":0},{"$f":"INDEX(Tiere2!S$30:S$79,'Betriebe mit Separation'!AP34)","v":0},0,0,0,{"$f":"INDEX(Tiere2!P$30:P$79,'Betriebe mit Separation'!$AP34)","v":0},0,0,0,null,0,0,0,0,0,0,0,0,0,1,1,1,{"$f":"INDEX(Tiere2!C$30:C$79,'Betriebe mit Separation'!$AP34)","v":0},"1",0,{"$f":"INDEX(Tiere2!D$30:D$79,'Betriebe mit Separation'!$AP34)","v":0},{"$f":"INDEX(Tiere2!E$30:E$79,'Betriebe mit Separation'!$AP34)","v":0},{"$f":"INDEX(Tiere2!F$30:F$79,'Betriebe mit Separation'!$AP34)","v":0},{"$f":"INDEX(Tiere2!J$30:J$79,'Betriebe mit Separation'!$AP34)","v":0},{"$f":"INDEX(Tiere2!R$30:R$79,'Betriebe mit Separation'!$AP34)","v":0},{"$f":"INDEX(Tiere2!M$30:M$79,'Betriebe mit Separation'!$AP34)","v":0},{"$f":"INDEX(Tiere2!N$30:N$79,'Betriebe mit Separation'!$AP34)","v":0},{"$f":"INDEX(Tiere2!O$30:O$79,'Betriebe mit Separation'!$AP34)","v":0},{"$f":"INDEX(Tiere2!T$30:T$79,'Betriebe mit Separation'!$AP34)","v":0},{"$f":"INDEX(Tiere2!U$30:U$79,'Betriebe mit Separation'!$AP34)","v":0},{"$f":"INDEX(Tiere2!V$30:V$79,'Betriebe mit Separation'!$AP34)","v":0},{"$f":"INDEX(Tiere2!W$30:W$79,'Betriebe mit Separation'!$AP34)","v":0},{"$f":"INDEX(Tiere2!X$30:X$79,'Betriebe mit Separation'!$AP34)","v":0},{"$f":"INDEX(Tiere2!Y$30:Y$79,'Betriebe mit Separation'!$AP34)","v":0},5,3,17,{"$f":"INDEX(Tiere2!Z$30:Z$79,'Betriebe mit Separation'!$AP34)","v":0},{"$f":"INDEX(Tiere2!AA$30:AA$79,'Betriebe mit Separation'!$AP34)","v":0},0,0,0,0,null,false]
[null,null,null,null,null,null,null,null,{"$f":"IF(BS35=FALSE,\" \",IF(P35+Q35=0,\" \",IF(AF35*AX35+AG35*AJ35=0,\" \",AF35*AX35+AG35*AJ35)))","v":" "}," ",null,null,null," ",null,0,0,0,0,0,0,{"$f":"INDEX(Tiere2!K$30:K$79,'Betriebe mit Separation'!$AP35)","v":0},{"$f":"INDEX(Tiere2!S$30:S$79,'Betriebe mit Separation'!AP35)","v":0},0,0,0,{"$f":"INDEX(Tiere2!P$30:P$79,'Betriebe mit Separation'!$AP35)","v":0},0,0,0,null,0,0,0,0,0,0,0,{"$f":"IF(AO35=2,0,IF(AO35=3,0,0))","v":0},0,1,1,1,{"$f":"INDEX(Tiere2!C$30:C$79,'Betriebe mit Separation'!$AP35)","v":0},"1",0,{"$f":"INDEX(Tiere2!D$30:D$79,'Betriebe mit Separation'!$AP35)","v":0},{"$f":"INDEX(Tiere2!E$30:E$79,'Betriebe mit Separation'!$AP35)","v":0},{"$f":"INDEX(Tiere2!F$30:F$79,'Betriebe mit Separation'!$AP35)","v":0},{"$f":"INDEX(Tiere2!J$30:J$79,'Betriebe mit Separation'!$AP35)","v":0},{"$f":"INDEX(Tiere2!R$30:R$79,'Betriebe mit Separation'!$AP35)","v":0},{"$f":"INDEX(Tiere2!M$30:M$79,'Betriebe mit Separation'!$AP35)","v":0},{"$f":"INDEX(Tiere2!N$30:N$79,'Betriebe mit Separation'!$AP35)","v":0},{"$f":"INDEX(Tiere2!O$30:O$79,'Betriebe mit Separation'!$AP35)","v":0},{"$f":"INDEX(Tiere2!T$30:T$79,'Betriebe mit Separation'!$AP35)","v":0},{"$f":"INDEX(Tiere2!U$30:U$79,'Betriebe mit Separation'!$AP35)","v":0},{"$f":"INDEX(Tiere2!V$30:V$79,'Betriebe mit Separation'!$AP35)","v":0},{"$f":"INDEX(Tiere2!W$30:W$79,'Betriebe mit Separation'!$AP35)","v":0},{"$f":"INDEX(Tiere2!X$30:X$79,'Betriebe mit Separation'!$AP35)","v":0},{"$f":"INDEX(Tiere2!Y$30:Y$79,'Betriebe mit Separation'!$AP35)","v":0},5,3,17,{"$f":"INDEX(Tiere2!Z$30:Z$79,'Betriebe mit Separation'!$AP35)","v":0},{"$f":"INDEX(Tiere2!AA$30:AA$79,'Betriebe mit Separation'!$AP35)","v":0},0,0,0,0,null,false]
[null,null,null,null,null,null,null,null," "," ",null,null,null," ",null,0,{"$f":"IF(AX36=0,D36+E36,E36)","v":0},0,0,0,0,{"$f":"INDEX(Tiere2!K$30:K$79,'Betriebe mit Separation'!$AP36)","v":0},{"$f":"INDEX(Tiere2!S$30:S$79,'Betriebe mit Separation'!AP36)","v":0},0,{"$f":"AG36*AV36-AG36*AJ36*AM36","v":0},{"$f":"AG36*AW36-AG36*AJ36*AN36","v":0},{"$f":"INDEX(Tiere2!P$30:P$79,'Betriebe mit Separation'!$AP36)","v":0},0,0,0,null,0,{"$f":"+Q36*(100-$H36)/100","v":0},0,0,0,0,0,0,0,1,1,1,{"$f":"INDEX(Tiere2!C$30:C$79,'Betriebe mit Separation'!$AP36)","v":0},"1",0,{"$f":"INDEX(Tiere2!D$30:D$79,'Betriebe mit Separation'!$AP36)","v":0},{"$f":"INDEX(Tiere2!E$30:E$79,'Betriebe mit Separation'!$AP36)","v":0},{"$f":"INDEX(Tiere2!F$30:F$79,'Betriebe mit Separation'!$AP36)","v":0},{"$f":"INDEX(Tiere2!J$30:J$79,'Betriebe mit Separation'!$AP36)","v":0},{"$f":"INDEX(Tiere2!R$30:R$79,'Betriebe mit Separation'!$AP36)","v":0},{"$f":"INDEX(Tiere2!M$30:M$79,'Betriebe mit Separation'!$AP36)","v":0},{"$f":"INDEX(Tiere2!N$30:N$79,'Betriebe mit Separation'!$AP36)","v":0},{"$f":"INDEX(Tiere2!O$30:O$79,'Betriebe mit Separation'!$AP36)","v":0},{"$f":"INDEX(Tiere2!T$30:T$79,'Betriebe mit Separation'!$AP36)","v":0},{"$f":"INDEX(Tiere2!U$30:U$79,'Betriebe mit Separation'!$AP36)","v":0},{"$f":"INDEX(Tiere2!V$30:V$79,'Betriebe mit Separation'!$AP36)","v":0},{"$f":"INDEX(Tiere2!W$30:W$79,'Betriebe mit Separation'!$AP36)","v":0},{"$f":"INDEX(Tiere2!X$30:X$79,'Betriebe mit Separation'!$AP36)","v":0},{"$f":"INDEX(Tiere2!Y$30:Y$79,'Betriebe mit Separation'!$AP36)","v":0},5,3,17,{"$f":"INDEX(Tiere2!Z$30:Z$79,'Betriebe mit Separation'!$AP36)","v":0},{"$f":"INDEX(Tiere2!AA$30:AA$79,'Betriebe mit Separation'!$AP36)","v":0},0,0,0,0,null,false]
[{"$f":"IF(M38+M39+M40>=1,\"Bitte Tierart im Arbeitsblatt Eigene Zahlen auswählen\",\"Eingabemöglichkeit für eigene Tierarten; siehe Arbeitsblatt Eigene Zahlen\")","v":"Eingabemöglichkeit für eigene Tierarten; siehe Arbeitsblatt Eigene Zahlen"},null,null,null,null,null,null,null,null," "]
[{"$f":"+'Abweichende Werte'!V7","v":" -- - "},null,null,null,null,null,null,null,{"$f":"IF(BS38=FALSE,\" \",IF(P38+Q38=0,\" \",IF(AF38*AX38+AG38*AJ38=0,\" \",AF38*AX38+AG38*AJ38)))","v":" "}," ",null,null,{"$f":"IF(D38+E38>1,IF(AO38=1,1,0),0)","v":0},{"$f":"IF(J38=\" \",\" \",(J38*(1/BE38)))","v":" "},null,{"$f":"IF(AX38=0,0,D38)","v":0},{"$f":"IF(AX38=0,D38+E38,E38)","v":0},{"$f":"+(AF38*AU38*(100-BC38)/100)+(AJ38*AL38*AG38*(100-BD38)/100)","v":0},{"$f":"IF(AO38=2,R38,0)","v":0},{"$f":"AF38*AV38+AG38*AJ38*AM38","v":0},{"$f":"AF38*AW38+AG38*AJ38*AN38","v":0},{"$f":"'Abweichende Werte'!L7","v":0},{"$f":"'Abweichende Werte'!M7","v":0},{"$f":"+(AG38*AU38*(100-BD38)/100)-AJ38*AG38*AL38*(100-BD38)/100","v":0},{"$f":"AG38*AV38-AG38*AJ38*AM38","v":0},{"$f":"AG38*AW38-AG38*AJ38*AN38","v":0},{"$f":"'Abweichende Werte'!N7","v":0},{"$f":"IF(AQ38=1,AG38*BF38*AS38*365/1000*BI38,IF(AQ38=2,AG38*BG38*AS38*365/1000*BI38,AG38*BH38*AS38*365/1000*BI38))","v":0},{"$f":"IF(AQ38=1,AG38*BF38*AS38*365/1000*BJ38,IF(AQ38=2,AG38*BG38*AS38*365/1000*BJ38,AG38*BH38*AS38*365/1000*BJ38))","v":0},{"$f":"IF(AQ38=1,AG38*BF38*AS38*365/1000*BK38,IF(AQ38=2,AG38*BG38*AS38*365/1000*BK38,AG38*BH38*AS38*365/1000*BK38))","v":0},null,{"$f":"+P38*(100-$H38)/100","v":0},0,{"$f":"+D38-(D38*((G38+H38)/2))/100","v":0},{"$f":"+E38+D38-AH38","v":0},{"$f":"IF(AQ38=1,AY38,IF(AQ38=2,AY38/2,0))","v":0},{"$f":"IF(AQ38=1,AZ38,IF(AQ38=2,BA38,BB38))","v":0},{"$f":"IF(AO38=2,3.2,IF(AO38=3,3.3,0))","v":0},{"$f":"IF(AO38=2,0,IF(AO38=3,0,0))","v":0},{"$f":"IF(AO38=2,7.9,IF(AO38=3,3.1,0))","v":0},{"$f":"'Abweichende Werte'!T7","v":1},null,1,{"$f":"'Abweichende Werte'!C7","v":0},{"$f":"IF(AR38>0.001,AR38,\"1\")","v":"1"},{"$f":"D38*AR38+E38*AR38","v":0},{"$f":"'Abweichende Werte'!D7","v":0},{"$f":"'Abweichende Werte'!E7","v":0},{"$f":"'Abweichende Werte'!F7","v":0},{"$f":"'Abweichende Werte'!G7","v":0},{"$f":"'Abweichende Werte'!H7","v":0},{"$f":"'Abweichende Werte'!I7","v":0},{"$f":"'Abweichende Werte'!J7","v":0},{"$f":"'Abweichende Werte'!K7","v":0},{"$f":"IF(AO38=2,15,IF(AO38=3,20,IF(AO38=4,40,IF(AO38=5,45,0))))","v":0},{"$f":"IF(AO38=2,30,IF(AO38=3,30,IF(AO38=4,40,IF(AO38=5,45,0))))","v":0},{"$f":"'Abweichende Werte'!R7","v":0},{"$f":"'Abweichende Werte'!O7","v":0},{"$f":"'Abweichende Werte'!P7","v":0},{"$f":"'Abweichende Werte'!Q7","v":0},5,3,17,{"$f":"IF(AO38=1,0,IF(AO38=2,1,IF(AO38=3,1,5)))","v":0},{"$f":"IF(AO38=1,0,IF(AO38=2,2,IF(AO38=3,2,5)))","v":0},{"$f":"IF(N38=\" \",0,BL38*N38)","v":0},{"$f":"IF(N38=\" \",0,BM38*N38)","v":0},{"$f":"AF38*AX38","v":0},{"$f":"AG38*AJ38","v":0},null,{"$f":"AND(AO38>1)","v":false}]
[{"$f":"+'Abweichende Werte'!V8","v":" -- - "},null,null,null,null,null,null,null,{"$f":"IF(BS39=FALSE,\" \",IF(P39+Q39=0,\" \",IF(AF39*AX39+AG39*AJ39=0,\" \",AF39*AX39+AG39*AJ39)))","v":" "}," ",null,null,{"$f":"IF(D39+E39>1,IF(AO39=1,1,0),0)","v":0}," ",null,0,{"$f":"IF(AX39=0,D39+E39,E39)","v":0},{"$f":"+(AF39*AU39*(100-BC39)/100)+(AJ39*AL39*AG39*(100-BD39)/100)","v":0},{"$f":"IF(AO39=2,R39,0)","v":0},{"$f":"AF39*AV39+AG39*AJ39*AM39","v":0},{"$f":"AF39*AW39+AG39*AJ39*AN39","v":0},{"$f":"'Abweichende Werte'!L8","v":0},{"$f":"'Abweichende Werte'!M8","v":0},{"$f":"+(AG39*AU39*(100-BD39)/100)-AJ39*AG39*AL39*(100-BD39)/100","v":0},{"$f":"AG39*AV39-AG39*AJ39*AM39","v":0},{"$f":"AG39*AW39-AG39*AJ39*AN39","v":0},{"$f":"'Abweichende Werte'!N8","v":0},{"$f":"IF(AQ39=1,AG39*BF39*AS39*365/1000*BI39,IF(AQ39=2,AG39*BG39*AS39*365/1000*BI39,AG39*BH39*AS39*365/1000*BI39))","v":0},{"$f":"IF(AQ39=1,AG39*BF39*AS39*365/1000*BJ39,IF(AQ39=2,AG39*BG39*AS39*365/1000*BJ39,AG39*BH39*AS39*365/1000*BJ39))","v":0},{"$f":"IF(AQ39=1,AG39*BF39*AS39*365/1000*BK39,IF(AQ39=2,AG39*BG39*AS39*365/1000*BK39,AG39*BH39*AS39*365/1000*BK39))","v":0},null,0,0,{"$f":"+D39-(D39*((G39+H39)/2))/100","v":0},{"$f":"+E39+D39-AH39","v":0},{"$f":"IF(AQ39=1,AY39,IF(AQ39=2,AY39/2,0))","v":0},{"$f":"IF(AQ39=1,AZ39,IF(AQ39=2,BA39,BB39))","v":0},{"$f":"IF(AO39=2,3.2,IF(AO39=3,3.3,0))","v":0},{"$f":"IF(AO39=2,0,IF(AO39=3,0,0))","v":0},{"$f":"IF(AO39=2,7.9,IF(AO39=3,3.1,0))","v":0},{"$f":"'Abweichende Werte'!T8","v":1},null,1,{"$f":"'Abweichende Werte'!C8","v":0},"1",{"$f":"D39*AR39+E39*AR39","v":0},{"$f":"'Abweichende Werte'!D8","v":0},{"$f":"'Abweichende Werte'!E8","v":0},{"$f":"'Abweichende Werte'!F8","v":0},{"$f":"'Abweichende Werte'!G8","v":0},{"$f":"'Abweichende Werte'!H8","v":0},{"$f":"'Abweichende Werte'!I8","v":0},{"$f":"'Abweichende Werte'!J8","v":0},{"$f":"'Abweichende Werte'!K8","v":0},{"$f":"IF(AO39=2,15,IF(AO39=3,20,IF(AO39=4,40,IF(AO39=5,45,0))))","v":0},{"$f":"IF(AO39=2,30,IF(AO39=3,30,IF(AO39=4,40,IF(AO39=5,45,0))))","v":0},{"$f":"'Abweichende Werte'!R8","v":0},{"$f":"'Abweichende Werte'!O8","v":0},{"$f":"'Abweichende Werte'!P8","v":0},{"$f":"'Abweichende Werte'!Q8","v":0},5,3,17,{"$f":"IF(AO39=1,0,IF(AO39=2,1,IF(AO39=3,1,5)))","v":0},{"$f":"IF(AO39=1,0,IF(AO39=2,2,IF(AO39=3,2,5)))","v":0},{"$f":"IF(N39=\" \",0,BL39*N39)","v":0},{"$f":"IF(N39=\" \",0,BM39*N39)","v":0},0,0,null,{"$f":"AND(AO39>1)","v":false}]
[{"$f":"+'Abweichende Werte'!V9","v":" -- - "},null,null,null,null,null,null,null,{"$f":"IF(BS40=FALSE,\" \",IF(P40+Q40=0,\" \",IF(AF40*AX40+AG40*AJ40=0,\" \",AF40*AX40+AG40*AJ40)))","v":" "}," ",null,null,{"$f":"IF(D40+E40>1,IF(AO40=1,1,0),0)","v":0}," ",null,0,{"$f":"IF(AX40=0,D40+E40,E40)","v":0},{"$f":"+(AF40*AU40*(100-BC40)/100)+(AJ40*AL40*AG40*(100-BD40)/100)","v":0},{"$f":"IF(AO40=2,R40,0)","v":0},{"$f":"AF40*AV40+AG40*AJ40*AM40","v":0},{"$f":"AF40*AW40+AG40*AJ40*AN40","v":0},{"$f":"'Abweichende Werte'!L9","v":0},{"$f":"'Abweichende Werte'!M9","v":0},{"$f":"+(AG40*AU40*(100-BD40)/100)-AJ40*AG40*AL40*(100-BD40)/100","v":0},{"$f":"AG40*AV40-AG40*AJ40*AM40","v":0},{"$f":"AG40*AW40-AG40*AJ40*AN40","v":0},{"$f":"'Abweichende Werte'!N9","v":0},{"$f":"IF(AQ40=1,AG40*BF40*AS40*365/1000*BI40,IF(AQ40=2,AG40*BG40*AS40*365/1000*BI40,AG40*BH40*AS40*365/1000*BI40))","v":0},{"$f":"IF(AQ40=1,AG40*BF40*AS40*365/1000*BJ40,IF(AQ40=2,AG40*BG40*AS40*365/1000*BJ40,AG40*BH40*AS40*365/1000*BJ40))","v":0},{"$f":"IF(AQ40=1,AG40*BF40*AS40*365/1000*BK40,IF(AQ40=2,AG40*BG40*AS40*365/1000*BK40,AG40*BH40*AS40*365/1000*BK40))","v":0},null,0,0,{"$f":"+D40-(D40*((G40+H40)/2))/100","v":0},{"$f":"+E40+D40-AH40","v":0},{"$f":"IF(AQ40=1,AY40,IF(AQ40=2,AY40/2,0))","v":0},{"$f":"IF(AQ40=1,AZ40,IF(AQ40=2,BA40,BB40))","v":0},{"$f":"IF(AO40=2,3.2,IF(AO40=3,3.3,0))","v":0},{"$f":"IF(AO40=2,0,IF(AO40=3,0,0))","v":0},{"$f":"IF(AO40=2,7.9,IF(AO40=3,3.1,0))","v":0},{"$f":"'Abweichende Werte'!T9","v":1},null,1,{"$f":"'Abweichende Werte'!C9","v":0},"1",{"$f":"D40*AR40+E40*AR40","v":0},{"$f":"'Abweichende Werte'!D9","v":0},{"$f":"'Abweichende Werte'!E9","v":0},{"$f":"'Abweichende Werte'!F9","v":0},{"$f":"'Abweichende Werte'!G9","v":0},{"$f":"'Abweichende Werte'!H9","v":0},{"$f":"'Abweichende Werte'!I9","v":0},{"$f":"'Abweichende Werte'!J9","v":0},{"$f":"'Abweichende Werte'!K9","v":0},{"$f":"IF(AO40=2,15,IF(AO40=3,20,IF(AO40=4,40,IF(AO40=5,45,0))))","v":0},{"$f":"IF(AO40=2,30,IF(AO40=3,30,IF(AO40=4,40,IF(AO40=5,45,0))))","v":0},{"$f":"'Abweichende Werte'!R9","v":0},{"$f":"'Abweichende Werte'!O9","v":0},{"$f":"'Abweichende Werte'!P9","v":0},{"$f":"'Abweichende Werte'!Q9","v":0},5,3,17,{"$f":"IF(AO40=1,0,IF(AO40=2,1,IF(AO40=3,1,5)))","v":0},{"$f":"IF(AO40=1,0,IF(AO40=2,2,IF(AO40=3,2,5)))","v":0},{"$f":"IF(N40=\" \",0,BL40*N40)","v":0},{"$f":"IF(N40=\" \",0,BM40*N40)","v":0},0,0,null,{"$f":"AND(AO40>1)","v":false}]
["Niederschlags- bzw. Oberflächenwasser und sonstige Abwässer",null,null,null,null,null,"Fläche",null,null,null,null,null,"Silosaft",null,null,null,null,null,null,null,null,null,null,null,null,null,null,null,null,null,null,null,null,null,null,null,null,null,null,null,null,{"$f":"IF(OR(AP25=2,AP26=2,AP27=2,AP28=2,AP29=2,AP30=2,AP31=2,AP32=2,AP33=2,AP34=2,AP35=2,AP36=2,),2,1)","v":1}]
["Oberflächen nicht abgedeckter Läger (Festmist, Gülle, Jauche)",null,null,null,null,null,null,"m²",{"$f":"IF(($B$14*G42*0.7)/1000=0,\" \",($B$14*G42*0.7)/1000)","v":" "},null,null,null,{"$f":"+M43+M44+M46","v":0},null,null,null,null,null,null,null,null,null,null,null,null,null,null,null,null,null,null,null,null,null,null,null,null,null,null,null,null,null,null,null,null,null,null,null,null,null,null,null,null,null,null,null,null,null,null,null,null,null,null,null,null,{"$f":"SUM(BN25:BN40)","v":0},{"$f":"SUM(BO25:BO40)","v":0},{"$f":"SUM(BP25:BP40)","v":0},{"$f":"SUM(BQ25:BQ40)","v":0}]
["verunreinigtes Wasser z.B. ungereinigte Silofläche o. Ladefläche (eingeleitet)",null,null,null,null,null,null,"m²",{"$f":"IF(($B$14*G43*0.7)/1000=0,\" \",($B$14*G43*0.7)/1000)","v":" "},null,null,null,{"$f":"IF(I43=\" \",0,I43)","v":0},null,null,null,null,null,null,null,null,null,null,null,null,null,null,null,null,null,null,null,null,null,null,null,null,null,null,null,null,null,null,null,null,null,null,null,null,null,null,null,null,null,null,null,null,null,null,null,null,null,null,null,null,{"$f":"IF(N49=0,0,BN42/N49)","v":0},{"$f":"IF(N49=0,0,BO42/N49)","v":0},{"$f":"IF(BP42=0,\"1\",SUM(BP25:BP40))","v":"1"},{"$f":"IF(BQ42=0,\"1\",SUM(BQ25:BQ40))","v":"1"}]
["nur Wasser z.B. gereinigte oder agedeckte Siloflächen (eingeleitet)",null,null,null,null,null,null,"m²",{"$f":"IF(($B$14*G44*0.7)/1000=0,\" \",($B$14*G44*0.7)/1000)","v":" "},null,null,null,{"$f":"IF(I44=\" \",0,I44)","v":0},null,null,null,null,null,null,null,null,null,null,null,null,null,null,null,null,null,null,null,null,null,null,null,null,null,null,null,null,null,{"$f":"SUM(G42:G44)","v":0}]
["Hausabwässer (wenn eingeleitet wird) Anzahl Personen",null,null,null,null,null,null,"Pers.",{"$f":"+IF(G45>0.1,G45*33.2,\" \")","v":" "}]
["Anfall Gärsaft im Jahr - wenn eingeleitet wird (mind. 3 % des größten Silos)",null,null,null,null,null,null,null,null,null,null,null,{"$f":"IF(I46=\" \",0,I46)","v":0}]
["Sonstige Wasserzugabe im Jahr (z. B. Dachrinnenwasser, Reinigungswasser)"]
["Anfall  Wirtschaftsdünger im Jahr in t",null,null,null,null,null,null,null,null,{"$f":"IF(N48=0,\" \",N48)","v":" "},null,null,{"$f":"SUM(I25:I47)","v":0},{"$f":"SUM(J25:J47)","v":0},null,null,null,{"$f":"SUM(R25:R47)","v":0},0,{"$f":"SUM(T25:T47)","v":0},0,null,null,{"$f":"SUM(X25:X47)","v":0},0,0,null,{"$f":"SUM(AB25:AB47)","v":0},{"$f":"SUM(AC25:AC47)","v":0},{"$f":"SUM(AD25:AD47)","v":0},null,null,null,null,null,null,null,null,null,null,null,null,null,null,null,{"$f":"SUM(AT25:AT40)","v":0}]
["Anfall  Wirtschaftsdünger im Jahr in m³",null,null,null,null,null,null,null,{"$f":"IF(M48=0,\" \",M48)","v":" "},{"$f":"IF(N49=0,\" \",N49)","v":" "},null,null,null,{"$f":"SUM(N25:N47)","v":0}]
[]
[null,null,"TS [%]","N","P2O5","K2O",null,null,null,null,null,null,null,{"$f":"C52","v":" "}]
["Nährstoffgehalt Gülle/Jauche in kg/m³",null,{"$f":"IF($M48=0,\" \",IF(V54+W54=0,\"0,00\",(V54*BP42+W54*BQ42)/(BP42+BQ42)))","v":" "},{"$f":"IF($M48=0,\" \",R54)","v":" "},{"$f":"IF($M48=0,\" \",T54)","v":" "},{"$f":"IF($M48=0,\" \",U54)","v":" "}]
["Nährstoffgehalt Stallmist in kg/t",null,{"$f":"IF(N48=0,\" \",AA54)","v":" "},{"$f":"IF($N48=0,\" \",X54)","v":" "},{"$f":"IF($N48=0,\" \",Y54)","v":" "},{"$f":"IF($N48=0,\" \",Z54)","v":" "}]
["© Bayerische Landesanstalt für Landwirtschaft, Institut für Agrarökologie - Düngung (Of, We, Hi, Ka, Br); Stand: 17.10.18",null,null,null,null,null,null,null,null,null,null,null,null,null,null,null,null,{"$f":"+R48/$M48","v":{"$error":"#DIV/0!"}},null,{"$f":"+T48/$M48","v":{"$error":"#DIV/0!"}},{"$f":"+U48/$M48","v":{"$error":"#DIV/0!"}},{"$f":"SUMPRODUCT(V25:V40,$BP25:$BP40)/BP43","v":0},{"$f":"SUMPRODUCT(W25:W40,$BQ25:$BQ40)/BQ43","v":0},{"$f":"+(X48+AB48)/$N48","v":{"$error":"#DIV/0!"}},{"$f":"+(Y48+AC48)/$N48","v":{"$error":"#DIV/0!"}},{"$f":"+(Z48+AD48)/$N48","v":{"$error":"#DIV/0!"}},{"$f":"SUMPRODUCT(AA25:AA40,$J25:$J40)/J48","v":{"$error":"#VALUE!"}},null,null,null,"Nährstoffgehalt/t"]
[]
["Separierung flüssiger Wirtschaftsdünger "]
[]
[null,"Menge","TS","N","P2O5","K2O"]
[null,"m³","%","kg/t bzw. m³"]
["org. Dünger",{"$f":"M48","v":0},{"$f":"IF(C52=\" \",0,C52)","v":0},{"$f":"IF(D52=\" \",0,D52)","v":0},{"$f":"IF(E52=\" \",0,E52)","v":0},{"$f":"IF(F52=\" \",0,F52)","v":0}]
[]
[]
[]
[null,null,{"$f":"100-D64","v":100},0,"welcher Anteil  wird separiert"]
[]
[]
[]
[]
[]
[]
[]
[]
[]
[]
[]
[]
["Menge in m³",{"$f":"M77","v":0},null,"Menge in m³",null,{"$f":"B60-B77-J77","v":0},null,"Menge in t",null,{"$f":"P77","v":"0"},null,null,{"$f":"B60*C64/100","v":0},{"$f":"B60-B77-J77","v":0},null,{"$f":"IF(F78+J78=0,\"0\",B60*D64/100*((C60-F78)/(J78-F78)))","v":"0"}]
["TS in %",{"$f":"C60","v":0},null,"TS in %",null,0,null,"TS in %",null,0]
[]
[]
[null,null,null,null,null,null,null,null,"Anfall Betrieb"]
[null,null,null,null,null,null,null,null,"flüssig","fest"]
[null,null,null,null,null,null,null,null,"pro Jahr","pro Jahr"]
["Anfall  Wirtschaftsdünger im Jahr in t",null,null,null,null,null,null,null,null,{"$f":"IF(N84=0,\" \",N84)","v":" "},null,null,{"$f":"B77+F77","v":0},{"$f":"N48+J77","v":0}]
["Anfall  Wirtschaftsdünger im Jahr in m³",null,null,null,null,null,null,null,{"$f":"IF(M84=0,\" \",M84)","v":" "},{"$f":"IF(N85=0,\" \",N85)","v":" "},null,null,null,{"$f":"N49+J77*(1/0.9)","v":0}]
[]
[]
[]
[]
[]
[]
[]
[]
[]
[]
[]
[]
[]
[]
[]
[]
[]
[]
[]
["© Bayerische Landesanstalt für Landwirtschaft, Institut für Agrarökologie - Düngung (Of, We, Hi, Ka, Br); Stand: 17.10.18"]
["Lagerbehälter im Betrieb für flüssige (Gülle, Jache) und feste (Mist) Wirtschaftsdünger"]
[]
["Runde Behälter (flüssig) ",null,"Lager",null,"Durchmesser",null,"Höhe2)",null,"Lagerraum m³"]
[null,null,"für Wirtschaftsdünger",null,"m",null,"m",null,"flüssig","fest"]
["Behälter 1",null,"flüssig",null,null,null,null,null,{"$f":"IF(M110=TRUE,E110/2*E110/2*3.1415926*G110,\" \")","v":" "},null,null,null,{"$f":"AND(E110>0.1,G110>0.1)","v":false}]
["Behälter 2",null,"flüssig",null,null,null,null,null,{"$f":"IF(M111=TRUE,E111/2*E111/2*3.1415926*G111,\" \")","v":" "},null,null,null,{"$f":"AND(E111>0.1,G111>0.1)","v":false}]
["Behälter 3",null,"flüssig",null,null,null,null,null,{"$f":"IF(M112=TRUE,E112/2*E112/2*3.1415926*G112,\" \")","v":" "},null,null,null,{"$f":"AND(E112>0.1,G112>0.1)","v":false}]
["Behälter 4",null,"flüssig",null,null,null,null,null,{"$f":"IF(M113=TRUE,E113/2*E113/2*3.1415926*G113,\" \")","v":" "},null,null,null,{"$f":"AND(E113>0.1,G113>0.1)","v":false}]
["Rechteckige Behälter (flüssig)",null,"Lager",null,"Länge","Breite","Höhe2)"]
["bzw. Lagerflächen (fest)",null,"für Wirtschaftsdünger",null,"m","m","m",null,null,null,null,null,null,null,null,null,null," --"]
["Behälter/Lagerfläche 1",null,null,null,null,null,null,null,{"$f":"IF(M116=TRUE,IF(U116=2,E116*F116*G116,\" \"),\" \")","v":" "},{"$f":"IF(M116=TRUE,IF(U116=3,E116*F116*G116,\" \"),\" \")","v":" "},null,null,{"$f":"AND(E116>0.1,F116>0.1,G116>0.1)","v":false},null,null,null,null,"flüssig",null,null,1]
["Behälter/Lagerfläche 2",null,null,null,null,null,null,null,{"$f":"IF(M117=TRUE,IF(U117=2,E117*F117*G117,\" \"),\" \")","v":" "},{"$f":"IF(M117=TRUE,IF(U117=3,E117*F117*G117,\" \"),\" \")","v":" "},null,null,{"$f":"AND(E117>0.1,F117>0.1,G117>0.1)","v":false},null,null,null,null,"fest",null,null,1]
["Behälter/Lagerfläche 3",null,null,null,null,null,null,null,{"$f":"IF(M118=TRUE,IF(U118=2,E118*F118*G118,\" \"),\" \")","v":" "},{"$f":"IF(M118=TRUE,IF(U118=3,E118*F118*G118,\" \"),\" \")","v":" "},null,null,{"$f":"AND(E118>0.1,F118>0.1,G118>0.1)","v":false},null,null,null,null,null,null,null,1]
["Behälter/Lagerfläche 4",null,null,null,null,null,null,null,{"$f":"IF(M119=TRUE,IF(U119=2,E119*F119*G119,\" \"),\" \")","v":" "},{"$f":"IF(M119=TRUE,IF(U119=3,E119*F119*G119,\" \"),\" \")","v":" "},null,null,{"$f":"AND(E119>0.1,F119>0.1,G119>0.1)","v":false},null,null,null,null,null,null,null,1]
["Sonstige Lagerkapazitäten im Betrieb "]
["Lager 1"]
["Lager 2"]
["Lager 3"]
["Lager 4"]
["Zu- und Verpacht von Lagerkapazität ",null,null,{"$f":"IF(X131>1,\"Verpacht mit Vorzeichen minus\",\" \")","v":" "}]
["Zu-/Verpacht","Adresse des Betriebes "]
[null,null,null,null,null,null,null,null,null,null,null,null,null,null,null,null,null," --",null,null,1,null,null,{"$f":"IF(U127=3,IF(I127>0,99,IF(J127>0,99,0)),0)","v":0}]
[null,null,null,null,null,null,null,null,null,null,null,null,null,null,null,null,null,"Zupacht",null,null,1,null,null,{"$f":"IF(U128=3,IF(I128>0,99,IF(J128>0,99,0)),0)","v":0}]
[null,null,null,null,null,null,null,null,null,null,null,null,null,null,null,null,null,"Verpacht",null,null,1,null,null,{"$f":"IF(U129=3,IF(I129>0,99,IF(J129>0,99,0)),0)","v":0}]
[null,null,null,null,null,null,null,null,null,null,null,null,null,null,null,null,null,null,null,null,1,null,null,{"$f":"IF(U130=3,IF(I130>0,99,IF(J130>0,99,0)),0)","v":0}]
["Lagerraum der dem Betrieb zur Verfüngung steht in m³",null,null,null,null,null,null,null,{"$f":"IF(M131=0,\" \",M131)","v":" "}," ",null,null,{"$f":"+M132+M133","v":0},{"$f":"+N132+N133","v":0},null,null,null,null,null,null,null,null,null,{"$f":"SUM(X127:X130)","v":0}]
["Summe Lagerbehälter im Betrieb für flüssige und feste Wirtschaftsdünger m³",null,null,null,null,null,null,null," "," ",null,null,{"$f":"SUM(I110:I124)","v":0},{"$f":"SUM(J110:J124)","v":0}]
["Menge Zu- und Verpacht m³",null,null,null,null,null,null,null," "," ",null,null,{"$f":"SUM(I127:I130)","v":0},{"$f":"SUM(J127:J130)","v":0},null,null,null,"rote Flächen",null,null,null,null,null,null,null,"grünes Gebiet",null,null,null,null,null,null,null,null,null,null,null,null,"bei Anteil"]
[]
[]
["Ergebnis 2018",null,null,null,null,null,null,null,"flüssig","fest",null,null,{"$f":"IF(I85=0,\"0\",6)","v":6},{"$f":"ROUND(N137,1)","v":0}]
["Notwendiger Lagerraum nach DüV in Monate:",null,null,null,null,null,null,null,{"$f":"CONCATENATE(M136,\" Mo.\")","v":"6 Mo."},{"$f":"CONCATENATE(N136,\" Mo.\")","v":"0 Mo."},null,null,6,{"$f":"+BN43","v":0},null,null,null,"LF","GV/ha","Gülle/Jauche notwendige ha","%6Mo",null,null,"%9Mo",null,"LF",null,null,null,null,"GV/ha","GL/ha","Rind ha 255","max. ha 255","Gülle Grünland Rinder","%6Mo","%9Mo",null,"%6Mo","%9Mo"]
["Anfall in dieser Zeit (bzw. mindestens benötigter Lagerraum) in m³",null,null,null,null,null,null,null,{"$f":"IF(M138=0,\" \",M138)","v":" "},{"$f":"IF(N138=0,\" \",N138)","v":" "},null,null,{"$f":"+M84/12*M137","v":0},{"$f":"+N85/12*N137","v":0}]
["Lagerraum der dem Betrieb zur Verfüngung steht in m³",null,null,null,null,null,null,null,{"$f":"IF(M139=0,\" \",M139)","v":" "},{"$f":"IF(N139=0,\" \",N139)","v":" "},null,null,{"$f":"+M131","v":0},{"$f":"+N131","v":0}]
["Mindestanforderung nach DüV wird eingehalten: ",null,null,null,null,null,null,null,{"$f":"IF(M138>0.1,IF(M138<M139,\"ja\",\"nein\"),\" \")","v":" "},{"$f":"IF(N138>0.1,IF(N138<N139,\"ja\",\"nein\"),\" \")","v":" "},null,null,null,null,null,"ja","nein"]
[]
["Notwendiger Lagerraum ab 2020 (bei den angegebenen Tieren und Flächen)",null,null,null,null,null,null,null,"flüssig","fest",null,null,{"$f":"IF(I85=0,\"0\",ROUND(M143,1))","v":9},{"$f":"ROUND(N143,1)","v":0}]
["Notwendiger Lagerraum nach DüV für Monate:",null,null,null,null,null,null,null,{"$f":"CONCATENATE(M142,\" Mo.\")","v":"9 Mo."},{"$f":"CONCATENATE(N142,\" Mo.\")","v":"0 Mo."},null,null,{"$f":"IF(R144=0,9,IF(S144>3,(6*AM144+9*AN144)/100,6))","v":9},{"$f":"+BO43","v":0}]
["Anfall in dieser Zeit bzw. notwendiger Lagerraum in m³:",null,null,null,null,null,null,null,{"$f":"IF(M144=0,\" \",M144)","v":" "},{"$f":"IF(N144=0,\" \",N144)","v":" "},null,null,{"$f":"+M84/12*M143","v":0},{"$f":"+N85/12*N143","v":0},null,null,null,{"$f":"+F6-G7+F8-G9","v":0},{"$f":"+AT48/R144","v":{"$error":"#DIV/0!"}},{"$f":"R48/170","v":0},{"$f":"IF(R144+F11>T144,100,(1-(T144-R144-F11)/T144)*100)","v":{"$error":"#DIV/0!"}},null,null,{"$f":"100-U144","v":{"$error":"#DIV/0!"}},null,{"$f":"+R144","v":0},null,null,null,null,{"$f":"+S144","v":{"$error":"#DIV/0!"}},{"$f":"+F8-G9","v":0},{"$f":"+S48/255","v":0},{"$f":"IF(AF144<AG144,AF144,AG144)","v":0},{"$f":"+AH144*255","v":0},{"$f":"+(AI144/R48)*100","v":{"$error":"#DIV/0!"}},{"$f":"100-AJ144","v":{"$error":"#DIV/0!"}},null,{"$f":"+(AJ144*T13+U144*(100-T13))/100","v":{"$error":"#DIV/0!"}},{"$f":"100-AM144","v":{"$error":"#DIV/0!"}}]
["GV/ha im Betrieb:",{"$f":"IF(F5=0,\"Betrieb ohne Fläche\",S144)","v":"Betrieb ohne Fläche"}]
[{"$f":"IF(M48=0,\" \",IF(M146=\" \",\" \",IF(M146<=10,\" \",IF(M146>10,\"Achtung: Anlagenverordnung beachten; Gärsaft + verunreinigtes Wasser > 10 % des Anfalls\"))))","v":" "},null,null,null,null,null,null,null,null,null,null,null,{"$f":"((M46+M43)/I49)*100","v":{"$error":"#VALUE!"}}]
["1) Bestandsschutz: Für Betriebe nach DüV § 12 Abs. 2 ohne Aufstockung des Tierbestandes können bis 31.12.2023 "]
["     zur Berechnung der Mindestlagerkapazität von flüssigen Wirtschaftsdünger das „Berechnungsprogramm 2017“ verwenden."]
["2) Bei offenen Behältern sind von der Höhe 20 cm (Freiraum) und bei geschlossenen Behältern 10 cm abzuziehen. "]
["    Zusätzlich sind für nicht abpumpfähige Mengen 10 cm zu berücksichtigen. "]
[]
[]
["© Bayerische Landesanstalt für Landwirtschaft, Institut für Agrarökologie - Düngung (Of, We, Hi, Ka, Br); Stand: 17.10.18"]
[null,null,null," Bei Fragen wenden Sie sich an Ihr zuständiges Amt für Ernährung, Landwirtschaft und Forsten."]

{"sheet":"Abweichende Werte","index":2,"n_rows":33,"n_cols":22,"rows_kept":33,"cut":false,"hidden":false,"merged":[[0,0,0,2],[2,2,2,10],[32,0,32,9],[5,6,5,7],[5,8,5,10],[3,14,3,16],[3,3,3,5],[3,6,3,7],[3,8,3,10],[5,14,5,16],[5,11,5,13],[3,11,3,13],[5,3,5,5]]}
["Eingabemöglichkeit für abweichende Werte"]
[]
[null,null,"je Tier und Jahr (365 Tage)"]
[null,null,null,"Nährstoffanfall",null,null,"Anfall",null,"Anfall Mist",null,null,"TS-Gehalt",null,null,"Einstreu ",null,null,"spez. Gew."]
["Tierart","Tierbezeichnung","GV","N","P2O5","K2O","Gülle","Jauche","gering","mittel","hoch","Gülle","Jauche","Mist","gering","mittel","hoch","Mist"]
[null,null,null,"kg",null,null,"m³",null,"t",null,null,"%",null,null,"kg/GV und Tag",null,null,"t/m³",null,"Tierart"]
[null,null,null,null,null,null,null,null,null,null,null,null,null,null,null,null,null,null,null,1,{"$f":"INDEX(Tiere!$D$83:$D$87,T7)","v":" --"},{"$f":"+CONCATENATE(U7,\" - \",+B7)","v":" -- - "}]
[null,null,null,null,null,null,null,null,null,null,null,null,null,null,null,null,null,null,null,1,{"$f":"INDEX(Tiere!$D$83:$D$87,T8)","v":" --"},{"$f":"+CONCATENATE(U8,\" - \",+B8)","v":" -- - "}]
[null,null,null,null,null,null,null,null,null,null,null,null,null,null,null,null,null,null,null,1,{"$f":"INDEX(Tiere!$D$83:$D$87,T9)","v":" --"},{"$f":"+CONCATENATE(U9,\" - \",+B9)","v":" -- - "}]
[]
[]
[]
[]
[]
[]
[]
[]
[]
[]
[]
[]
[]
[]
[]
[]
[]
[]
[]
[]
[]
[]
[]
["© Bayerische Landesanstalt für Landwirtschaft, Institut für Agrarökologie - Düngung (Of, We, Sp, Ka, Br); Stand: 13.12.19"]

{"sheet":"Zu- und Abgang","index":3,"n_rows":26,"n_cols":19,"rows_kept":26,"cut":false,"hidden":true,"merged":[[9,1,9,3],[10,1,10,3],[3,4,3,5],[2,17,2,18],[2,0,3,3],[2,6,2,8],[2,13,2,15],[7,1,7,3],[8,1,8,3]]}
["2. Zu- und Abgang organischer (und organisch-mineralische) Düngemittel"]
[]
["Organisch (und organisch-mineralische) Düngemittel ",null,null,null,"Zugang","Abgang","kg/t bzw. m³",null,null,null,null,null,null,"Nährstoffgehalt org. Dünger",null,null,"Art","Summe"]
[null,null,null,null,"t bzw. m³",null,"N","P2O5","K2O",null,null,null,null,"N","P2O5","K2O","flüssig/fest","flüssig m³","fest in t"]
[null,null,null,null,null,null,{"$f":"IF(N5>0.1,N5,\"\")","v":""},{"$f":"IF(O5>0.1,O5,\"\")","v":5},6,null,null,null,1,{"$f":"INDEX('org Dünger'!G$8:G$34,M5)","v":0},{"$f":"INDEX('org Dünger'!H$9:H$34,M5)","v":5},{"$f":"INDEX('org Dünger'!I$9:I$34,M5)","v":6},1,{"$f":"IF(Q5=2,E5-F5,0)","v":0},{"$f":"IF(Q5=3,E5-F5,0)","v":0}]
[null,null,null,null,null,null,{"$f":"IF(N6>0.1,N6,\"\")","v":""},5,6,null,null,null,1,{"$f":"INDEX('org Dünger'!G$8:G$34,M6)","v":0},{"$f":"INDEX('org Dünger'!H$9:H$34,M6)","v":5},{"$f":"INDEX('org Dünger'!I$9:I$34,M6)","v":6},1,{"$f":"IF(Q6=2,E6-F6,0)","v":0},{"$f":"IF(Q6=3,E6-F6,0)","v":0}]
[null,null,null,null,null,null,{"$f":"IF(N7>0.1,N7,\"\")","v":""},5,6,null,null,null,1,{"$f":"INDEX('org Dünger'!G$8:G$34,M7)","v":0},{"$f":"INDEX('org Dünger'!H$9:H$34,M7)","v":5},{"$f":"INDEX('org Dünger'!I$9:I$34,M7)","v":6},1,0,0]
[null,null,null,null,null,null,null,null,null,null,null,null,null,null,null,null,1,0,0]
[null,null,null,null,null,null,null,null,null,null,null,null,null,null,null,null,1,0,{"$f":"IF(Q9=3,E9-F9,0)","v":0}]
[null,null,null,null,null,null,null,null,null,null,null,null,null,null,null,null,1,0,0]
[null,null,null,null,null,null,null,null,null,null,null,null,null,null,null,null,1,0,0]
[null,null,null,null,null,null,null,null,null,null,null,null,null,null,null,null,null,{"$f":"SUM(R5:R11)","v":0},{"$f":"SUM(S5:S11)","v":0}]
[]
[]
[]
[]
[]
[null,null,null,null,null,null,null,null,null,null,null,null,null,{"$f":"IF(D96>0.1,D96*E96*H96,\"\")","v":""}]
[]
[]
[]
[]
[]
[null,null,null,null,null,null,null,null,null,null,null,null,null,null,null,null,"Dünger wählen"]
[null,null,null,null,null,null,null,null,null,null,null,null,null,null,null,null,"flüssig"]
[null,null,null,null,null,null,null,null,null,null,null,null,null,null,null,null,"fest"]

{"sheet":"Separierung","index":4,"n_rows":37,"n_cols":11,"rows_kept":37,"cut":false,"hidden":true,"merged":[[17,3,17,5],[0,0,0,7],[5,1,5,3],[6,1,6,3],[7,1,7,3],[8,1,8,3]]}
["Berechnung Lagerraum für Gülle/Jauche und Stallmist"]
[null,null,"für tierhaltende Betriebe (ohne Biogas, mit Separierung)"]
["Mindestanforderungen nach Düngeverordnung Entwurf Stand: 10.09.18"]
[]
["Betriebsnummer:",null,"Kalenderjahr:",2018,null,null,"ha LF"]
["Vorname/Name:",null,null,null,null,null,"ha gesamte Ackerfläche"]
["Straße:",null,null,null,null,null,null,"davon Stillleg. Acker"]
["PLZ/Ort:",null,null,null,null,null,"ha gesamte Grünlandfläche"]
["Telefon:",null,null,null,null,null,null,"davon Stillleg. GL"]
[null,null,null,null,null,{"$f":"IF(F6+F8<>F5,\"Flächenangaben nicht plausibel\",IF(G7>F6,\"Flächenangaben nicht plausibel\",IF(G9>F8,\"Flächenangaben nicht plausibel\",\" \")))","v":" "}]
[null,{"$f":"IF(AP47=2,IF(F5<0.1,\"Flächenangaben nicht plausibel\",\" \"),\" \")","v":" "},null,null,null,null,"zusätzliche Ausbringfläche"]
[null,{"$f":"IF(AP47=2,IF(B13<3000,\"Milchleistung nicht plausibel\",\" \"),\" \")","v":" "},null,null,null,null,"Fläche im grünen Gebiet (%) ab 2020"]
[]
[]
["Separierung flüssiger Wirtschftsdünger"]
[]
[null,"Menge","TS","N","P2O5","K2O","TM","Wasser","N","P2O5","K2O"]
[null,"t, m³","%","kg/t bzw. m³",null,null,"t im Betrieb"]
["org. Dünger",{"$f":"'Berech. Lagerraum flüssig+fest'!M46","v":0},{"$f":"'Berech. Lagerraum flüssig+fest'!C50","v":0},{"$f":"'Berech. Lagerraum flüssig+fest'!D50","v":0},{"$f":"'Berech. Lagerraum flüssig+fest'!F50","v":0},{"$f":"'Berech. Lagerraum flüssig+fest'!G50","v":0},{"$f":"IF(B19=0,\" \",B19*C19/100)","v":" "},{"$f":"IF(B19=0,\" \",B19-B19*B37/100)","v":" "},{"$f":"'Berech. Lagerraum flüssig+fest'!AA46","v":0},{"$f":"'Berech. Lagerraum flüssig+fest'!AC46","v":0},{"$f":"'Berech. Lagerraum flüssig+fest'!AD46","v":0}]
[]
[]
[]
[null,null,{"$f":"100-D23","v":100},0,"welcher Anteil des Gärrestanfalls wird separiert"]
[]
[]
[]
[]
[]
[]
[]
[]
[]
[]
[]
[]
["Menge in m³",{"$f":"B19*C23/100","v":0},null,"Menge in m³",null,{"$f":"IF(B19=0,\" \",B19-B36-J36)","v":" "},null,"Menge in t",null,{"$f":"IF(B19=0,\" \",B19*D23/100*((C19-F37)/(J37-F37)))","v":" "}]
["TS in %",{"$f":"C19","v":0},null,"TS in %",null,4,null,"TS in %",null,25]

{"sheet":"Tiere","index":5,"n_rows":90,"n_cols":30,"rows_kept":90,"cut":false,"hidden":true,"merged":[[4,27,4,29],[4,22,4,24],[5,22,5,24],[6,12,6,14],[4,6,4,9],[4,12,4,14],[4,19,4,20],[5,6,5,9],[5,12,5,14],[5,19,5,20]]}
["                     (Stand: Januar 2018)",null,"Im Programm hinterlegte Daten aus Tabelle 4a+b+c"]
[null,null,null,null,null,null,null,null,null,null,null,null,null,null,null,null,null,null,null,null,null,"t/m³"]
[null,"Tiere für Beech. Lagerraum flüssig+fest"]
[]
[null,null,"Großvieh-","Nährstoffausscheidung",null,null,"Gülleanfall in m3",null,null,null,"% TS","Einstreu ","Festmist (nach DüV) 5)",null,null,"% TS","Jaucheanfall","Jaucheanfall 4)","% TS","Verluste in %",null,"spez. Gewicht","Einstreu",null,null,"Lager in Monaten Stallmist",null,"NH4-N Anteil"]
[null,"Programmname","einheit","kg je mittl.",null,null,"je mittl. Jahresbestand 2)",null,null,null,"Gülle","gering","je mittl. Jahresbestand 2)",null,null,"Mist","in m3 je mittl. ","in m3 je mittl. ","Jauche","Stall- und Lager",null,"Mist","kg je GV und Tag",null,null,"bis 2020","ab 2020","Gülle","Jauche ","Mist"]
[null,"49 Tierartengruppen","nach DüV","Jahresbestand 2)",null,null,null,"TM",null,"nach","nach DüV","(nach DüV)","Anfall in t/Jahr",null,null,"nach DüV","Jahresbest.²)","Jahresbest.²)",null,null,"Mist,","t/m³"]
[null,null,null,"N","P2O5","K2O",0.05,7.4999999999999997E-2,0.1,"DüV 3)","Anfall","kg/Tag","gering","mittel","hoch","Anfall","LfL","nach DüV ",null,"Gülle","Jauche"]
["Rinder"]
[null,"Ackerbetrieb 1), Stallhaltung",null,null," "]
[null,"Weibliche Rinder über 6 Monate bis 1 Jahr ",0.3,37,11,46,12.5,8.3000000000000007,6.2,7.6,8.1999999999999993,2.5,4.5,7.4,8.9,32.200000000000003,2.8,2,1.8,15,30,null,8.1999999999999993,7,12]
[null,"Weibliche Rinder über 1 Jahr bis 2 Jahre",0.7,56,18,69,18.899999999999999,12.6,9.4,11.5,8.1999999999999993,3.7,6.8,11.8,14.6,31.1,4.3,3,1.8,15,30,null,5.3,7,12]
[null,"Andere weibliche Rinder über 2 Jahre",1,64,21,78,21.5,14.3,10.7,13.1,8.1999999999999993,4.2,7.8,14,17.5,32.1,4.8,3.4,1.8,15,30,null,4.2,7,12]
[null,"Milchkuh (6000 kg Milch)",1,100,36,104,33.799999999999997,22.5,16.899999999999999,19,8.9,4,15,18.600000000000001,23.4,21.7,7.3,6,1.8,15,30,null,4,7,12]
[null,"Milchkuh (8000 kg Milch)",1,115,42,116,37.299999999999997,24.9,18.600000000000001,20,9.3000000000000007,4,16,19.399999999999999,24.4,21.3,8,6.4,1.8,15,30,null,4,7,12]
[null,"Milchkuh (10000 kg Milch)",1,133,47,125,39.299999999999997,26.2,19.600000000000001,21,9.4,5,17,20.2,25.4,23.6,7.7,6.8,1.8,15,30,null,5,7,12]
[null,"Milchkuh (12000 kg Milch)",1,152,52,135,45.3,30.2,22.7,22,10.3,6,17,21,26.4,29.4,7.5,7.2,1.8,15,30,null,6,7,12]
[null,"Grünlandbetrieb 1), konventionell",null,null," "]
[null,"Weibliche Rinder über 6 Monate bis 1 Jahr ",0.3,47,14,58,12.4,8.3000000000000007,6.2,7.6,8.1999999999999993,2.5,4.5,7.4,8.9,32.200000000000003,3.5,2,1.8,15,30,null,8.1999999999999993,7,12]
[null,"Weibliche Rinder über 1 Jahr bis 2 Jahre",0.7,72,21,94,19,12.7,9.5,11.7,8.1,3.8,6.9,12,14.8,31.1,5.4,3,1.8,15,30,null,5.4,7,12]
[null,"Andere weibliche Rinder über 2 Jahre",1,84,23,100,22.2,14.8,11.1,13.7,8.1,4.4000000000000004,8.1,14.5,18.100000000000001,32.1,6.3,3.5,1.8,15,30,null,4.4000000000000004,7,12]
[null,"Milchkuh (6000 kg Milch)",1,109,37,129,36.5,24.3,18.2,19,9.6,4,14.4,18.600000000000001,23.4,24.9,9.6,6,1.8,15,30,null,4,7,12]
[null,"Milchkuh (8000 kg Milch)",1,124,43,134,38.1,25.4,19,20,9.5,4,15,19.399999999999999,24.4,23.4,9.6999999999999993,6.4,1.8,15,30,null,4,7,12]
[null,"Milchkuh (10000 kg Milch)",1,141,48,143,40.4,26.9,20.2,21,9.6,5,16,20.2,25.4,26,9.5,6.8,1.8,15,30,null,5,7,12]
[]
[null,"Grünlandanteil in %",{"$f":"+'Berech. Lagerraum flüssig+fest'!BD11","v":0},{"$f":"+C26","v":0},0,0,0,0,0,0,0,{"$f":"+J26","v":0},{"$f":"+L26","v":0},{"$f":"+M26","v":0},{"$f":"+N26","v":0},{"$f":"+O26","v":0},{"$f":"+O26","v":0},{"$f":"+Q26","v":0},{"$f":"+R26","v":0},{"$f":"+R26","v":0},{"$f":"+T26","v":0},null,{"$f":"S26","v":0},0,0]
[null,"Milchleistung",{"$f":"+'Berech. Lagerraum flüssig+fest'!B11","v":0},{"$f":"+C27","v":0},{"$f":"+D27","v":0},0,0,0,{"$f":"+H27","v":0},{"$f":"+I27","v":0},0,{"$f":"+J27","v":0},0,0,0,0,{"$f":"+O27","v":0},{"$f":"+Q27","v":0},{"$f":"+R27","v":0},{"$f":"+R27","v":0},0,null,0,0,0]
[null,"Milchkuh Acker",{"$f":"IF(C27<=6000,C14,IF(AND(C27>6000,C27<=8000),C14+(C15-C14)/2000*(C27-6000),IF(AND(C27>8000,C27<=10000),C15+(C16-C15)/2000*(C27-8000),IF(AND(C27>10000,C27<=12000),C16+(C17-C16)/2000*(C27-10000),C17))))","v":1},{"$f":"IF(D27<=6000,D14,IF(AND(D27>6000,D27<=8000),D14+(D15-D14)/2000*(D27-6000),IF(AND(D27>8000,D27<=10000),D15+(D16-D15)/2000*(D27-8000),IF(AND(D27>10000,D27<=12000),D16+(D17-D16)/2000*(D27-10000),D17))))","v":100},{"$f":"IF(E27<=6000,E14,IF(AND(E27>6000,E27<=8000),E14+(E15-E14)/2000*(E27-6000),IF(AND(E27>8000,E27<=10000),E15+(E16-E15)/2000*(E27-8000),IF(AND(E27>10000,E27<=12000),E16+(E17-E16)/2000*(E27-10000),E17))))","v":36},{"$f":"IF(F27<=6000,F14,IF(AND(F27>6000,F27<=8000),F14+(F15-F14)/2000*(F27-6000),IF(AND(F27>8000,F27<=10000),F15+(F16-F15)/2000*(F27-8000),IF(AND(F27>10000,F27<=12000),F16+(F17-F16)/2000*(F27-10000),F17))))","v":104},{"$f":"IF(G27<=6000,G14,IF(AND(G27>6000,G27<=8000),G14+(G15-G14)/2000*(G27-6000),IF(AND(G27>8000,G27<=10000),G15+(G16-G15)/2000*(G27-8000),IF(AND(G27>10000,G27<=12000),G16+(G17-G16)/2000*(G27-10000),G17))))","v":33.799999999999997},22.5,16.899999999999999,{"$f":"IF(J27<=6000,J14,IF(AND(J27>6000,J27<=8000),J14+(J15-J14)/2000*(J27-6000),IF(AND(J27>8000,J27<=10000),J15+(J16-J15)/2000*(J27-8000),IF(AND(J27>10000,J27<=12000),J16+(J17-J16)/2000*(J27-10000),J17))))","v":19},{"$f":"IF(K27<=6000,K14,IF(AND(K27>6000,K27<=8000),K14+(K15-K14)/2000*(K27-6000),IF(AND(K27>8000,K27<=10000),K15+(K16-K15)/2000*(K27-8000),IF(AND(K27>10000,K27<=12000),K16+(K17-K16)/2000*(K27-10000),K17))))","v":8.9},4,15,18.600000000000001,23.4,21.7,7.3,{"$f":"IF(R27<=6000,R14,IF(AND(R27>6000,R27<=8000),R14+(R15-R14)/2000*(R27-6000),IF(AND(R27>8000,R27<=10000),R15+(R16-R15)/2000*(R27-8000),IF(AND(R27>10000,R27<=12000),R16+(R17-R16)/2000*(R27-10000),R17))))","v":6},{"$f":"IF(S27<=6000,S14,IF(AND(S27>6000,S27<=8000),S14+(S15-S14)/2000*(S27-6000),IF(AND(S27>8000,S27<=10000),S15+(S16-S15)/2000*(S27-8000),IF(AND(S27>10000,S27<=12000),S16+(S17-S16)/2000*(S27-10000),S17))))","v":1.8},15,{"$f":"IF(U27<=6000,U14,IF(AND(U27>6000,U27<=8000),U14+(U15-U14)/2000*(U27-6000),IF(AND(U27>8000,U27<=10000),U15+(U16-U15)/2000*(U27-8000),IF(AND(U27>10000,U27<=12000),U16+(U17-U16)/2000*(U27-10000),U17))))","v":30},null,{"$f":"IF(W27<=6000,W14,IF(AND(W27>6000,W27<=8000),W14+(W15-W14)/2000*(W27-6000),IF(AND(W27>8000,W27<=10000),W15+(W16-W15)/2000*(W27-8000),IF(AND(W27>10000,W27<=12000),W16+(W17-W16)/2000*(W27-10000),W17))))","v":4},{"$f":"IF(X27<=6000,X14,IF(AND(X27>6000,X27<=8000),X14+(X15-X14)/2000*(X27-6000),IF(AND(X27>8000,X27<=10000),X15+(X16-X15)/2000*(X27-8000),IF(AND(X27>10000,X27<=12000),X16+(X17-X16)/2000*(X27-10000),X17))))","v":7},{"$f":"IF(Y27<=6000,Y14,IF(AND(Y27>6000,Y27<=8000),Y14+(Y15-Y14)/2000*(Y27-6000),IF(AND(Y27>8000,Y27<=10000),Y15+(Y16-Y15)/2000*(Y27-8000),IF(AND(Y27>10000,Y27<=12000),Y16+(Y17-Y16)/2000*(Y27-10000),Y17))))","v":12}]
[null,"Milchkuh GL",{"$f":"IF(C27<=6000,C22,IF(AND(C27>6000,C27<=8000),C22+(C23-C22)/2000*(C27-6000),IF(AND(C27>8000,C27<=10000),C23+(C24-C23)/2000*(C27-8000),C24)))","v":1},{"$f":"IF(D27<=6000,D22,IF(AND(D27>6000,D27<=8000),D22+(D23-D22)/2000*(D27-6000),IF(AND(D27>8000,D27<=10000),D23+(D24-D23)/2000*(D27-8000),D24)))","v":109},{"$f":"IF(E27<=6000,E22,IF(AND(E27>6000,E27<=8000),E22+(E23-E22)/2000*(E27-6000),IF(AND(E27>8000,E27<=10000),E23+(E24-E23)/2000*(E27-8000),E24)))","v":37},129,36.5,24.3,18.2,19,{"$f":"IF(K27<=6000,K22,IF(AND(K27>6000,K27<=8000),K22+(K23-K22)/2000*(K27-6000),IF(AND(K27>8000,K27<=10000),K23+(K24-K23)/2000*(K27-8000),K24)))","v":9.6},4,14.4,18.600000000000001,23.4,24.9,9.6,6,1.8,15,30,null,{"$f":"IF(W27<=6000,W22,IF(AND(W27>6000,W27<=8000),W22+(W23-W22)/2000*(W27-6000),IF(AND(W27>8000,W27<=10000),W23+(W24-W23)/2000*(W27-8000),W24)))","v":4},{"$f":"IF(X27<=6000,X22,IF(AND(X27>6000,X27<=8000),X22+(X23-X22)/2000*(X27-6000),IF(AND(X27>8000,X27<=10000),X23+(X24-X23)/2000*(X27-8000),X24)))","v":7},{"$f":"IF(Y27<=6000,Y22,IF(AND(Y27>6000,Y27<=8000),Y22+(Y23-Y22)/2000*(Y27-6000),IF(AND(Y27>8000,Y27<=10000),Y23+(Y24-Y23)/2000*(Y27-8000),Y24)))","v":12}]
[]
[null,"Milchkuh ohne Kalb",{"$f":"IF(C$26<=0.65,C28,IF(C$26>=0.85,C29,((0.85-C$26)*5*C28)+((C$26-0.65)*5*C29)))","v":1},{"$f":"IF(D$26<=0.65,D28,IF(D$26>=0.85,D29,((0.85-D$26)*5*D28)+((D$26-0.65)*5*D29)))","v":100},{"$f":"IF(E$26<=0.65,E28,IF(E$26>=0.85,E29,((0.85-E$26)*5*E28)+((E$26-0.65)*5*E29)))","v":36},104,33.799999999999997,22.5,{"$f":"IF(I$26<=0.65,I28,IF(I$26>=0.85,I29,((0.85-I$26)*5*I28)+((I$26-0.65)*5*I29)))","v":16.899999999999999},{"$f":"IF(J$26<=0.65,J28,IF(J$26>=0.85,J29,((0.85-J$26)*5*J28)+((J$26-0.65)*5*J29)))","v":19},{"$f":"IF(K$26<=0.65,K28,IF(K$26>=0.85,K29,((0.85-K$26)*5*K28)+((K$26-0.65)*5*K29)))","v":8.9},4,15,18.600000000000001,23.4,21.7,{"$f":"IF(Q$26<=0.65,Q28,IF(Q$26>=0.85,Q29,((0.85-Q$26)*5*Q28)+((Q$26-0.65)*5*Q29)))","v":7.3},6,{"$f":"IF(S$26<=0.65,S28,IF(S$26>=0.85,S29,((0.85-S$26)*5*S28)+((S$26-0.65)*5*S29)))","v":1.8},15,30,0.9,{"$f":"IF(W$26<=0.65,W28,IF(W$26>=0.85,W29,((0.85-W$26)*5*W28)+((W$26-0.65)*5*W29)))","v":4},7,12,1,2,50,90,10]
[null,"Kälber (Zucht/Mast) bis 6 Monate ",0.3,22,7.6,22.6,7.5,5,3.7,3.3,11.4,1.5,2.7,3.5,4.5999999999999996,38,1.7,1.2,1.8,15,30,0.9,5,7,12,1,2,50,90,10]
[null,"Weibliche Rinder über 6 Monate bis 1 Jahr ",{"$f":"IF(C$26<=0.65,C11,IF(C$26>=0.85,C19,((0.85-C$26)*5*C11)+((C$26-0.65)*5*C19)))","v":0.3},{"$f":"IF(D$26<=0.65,D11,IF(D$26>=0.85,D19,((0.85-D$26)*5*D11)+((D$26-0.65)*5*D19)))","v":37},{"$f":"IF(E$26<=0.65,E11,IF(E$26>=0.85,E19,((0.85-E$26)*5*E11)+((E$26-0.65)*5*E19)))","v":11},46,12.5,8.3000000000000007,6.2,7.6,{"$f":"IF(K$26<=0.65,K11,IF(K$26>=0.85,K19,((0.85-K$26)*5*K11)+((K$26-0.65)*5*K19)))","v":8.1999999999999993},2.5,4.5,7.4,8.9,{"$f":"IF(P$26<=0.65,P11,IF(P$26>=0.85,P19,((0.85-P$26)*5*P11)+((P$26-0.65)*5*P19)))","v":32.200000000000003},2.8,2,{"$f":"IF(S$26<=0.65,S11,IF(S$26>=0.85,S19,((0.85-S$26)*5*S11)+((S$26-0.65)*5*S19)))","v":1.8},15,30,0.9,{"$f":"IF(W$26<=0.65,W11,IF(W$26>=0.85,W19,((0.85-W$26)*5*W11)+((W$26-0.65)*5*W19)))","v":8.1999999999999993},7,12,1,2,50,90,10]
[null,"Weibliche Rinder über 1 Jahr bis 2 Jahre",{"$f":"IF(C$26<=0.65,C12,IF(C$26>=0.85,C20,((0.85-C$26)*5*C12)+((C$26-0.65)*5*C20)))","v":0.7},56,18,69,18.899999999999999,12.6,9.4,11.5,{"$f":"IF(K$26<=0.65,K12,IF(K$26>=0.85,K20,((0.85-K$26)*5*K12)+((K$26-0.65)*5*K20)))","v":8.1999999999999993},3.7,6.8,11.8,14.6,{"$f":"IF(P$26<=0.65,P12,IF(P$26>=0.85,P20,((0.85-P$26)*5*P12)+((P$26-0.65)*5*P20)))","v":31.1},4.3,3,{"$f":"IF(S$26<=0.65,S12,IF(S$26>=0.85,S20,((0.85-S$26)*5*S12)+((S$26-0.65)*5*S20)))","v":1.8},15,30,0.9,5.3,7,12,1,2,50,90,10]
[null,"Andere weibliche Rinder über 2 Jahre",{"$f":"IF(C$26<=0.65,C13,IF(C$26>=0.85,C21,((0.85-C$26)*5*C13)+((C$26-0.65)*5*C21)))","v":1},64,21,78,21.5,14.3,10.7,13.1,{"$f":"IF(K$26<=0.65,K13,IF(K$26>=0.85,K21,((0.85-K$26)*5*K13)+((K$26-0.65)*5*K21)))","v":8.1999999999999993},4.2,7.8,14,17.5,{"$f":"IF(P$26<=0.65,P13,IF(P$26>=0.85,P21,((0.85-P$26)*5*P13)+((P$26-0.65)*5*P21)))","v":32.1},4.8,{"$f":"IF(R$26<=0.65,R13,IF(R$26>=0.85,R21,((0.85-R$26)*5*R13)+((R$26-0.65)*5*R21)))","v":3.4},{"$f":"IF(S$26<=0.65,S13,IF(S$26>=0.85,S21,((0.85-S$26)*5*S13)+((S$26-0.65)*5*S21)))","v":1.8},15,30,0.9,4.2,7,12,1,2,50,90,10]
[null,"Männl. Rinder über 6 Monate bis 1 Jahr",0.3,37.5,14.9,31.3,11.7,7.8,5.9,7,8.3000000000000007,1,2.9,6.4,8.3000000000000007,31.3,2.2999999999999998,2.7,1.8,15,30,0.9,3.3,7,12,1,2,50,90,10]
[null,"Männl. Rinder über 1 Jahr bis zwei Jahre (Mast)",0.7,54.5,20.5,45.5,17.100000000000001,11.4,8.6,9.6999999999999993,8.8000000000000007,1.4,4.2,9.5,12.7,35,3.4,3.9,1.8,15,30,0.9,2.1,7,12,1,2,50,90,10]
[null,"Männliche Rinder über 2 Jahre, Zuchtbullen ",1,64,21,78,21.5,14.3,10.7,13.1,8.1999999999999993,4.2,7.8,14,17.5,32.1,4.8,3.4,1.8,15,30,0.9,4.2,7,12,1,2,50,90,10]
[null,"Mutterkuh mit Kalb bis 6 Monate",1,105,31,129,32.200000000000003,21.4,16.100000000000001,20,8,4,15.8,19.600000000000001,24.4,18.899999999999999,7.6,6,1.8,15,30,0.9,4,7,12,1,2,50,90,10]
[null,"Zuchtsauen mit 25 Ferkel bis 8 kg, Standard",0.3,27.3,12.6,12.8,8.1,5.7,3.8,4.2,5.5,2,3.6,4.3,5.5,25.4,1.2,1.3,1.8,20,30,0.9,6.7,7,12,1,2,60,90,10]
[null,"Zuchtsauen mit 25 Ferkel bis 8 kg, N-/P-reduziert",0.3,24.1,11.2,11.6,7.2,5,3.4,4.2,5.5,2,3.6,4.3,5.5,24.4,1.2,1.3,1.8,20,30,0.9,6.7,7,12,1,2,60,90,10]
[null,"Zuchtsauen mit 28 Ferkel bis 8 kg, Standard",0.3,27.5,12.8,13.1,8.1999999999999993,5.8,3.8,4.4000000000000004,5.5,2,3.7,4.5,5.7,25.5,1.2,1.4,1.8,20,30,0.9,6.7,7,12,1,2,60,90,10]
[null,"Zuchtsauen mit 28 Ferkel bis 8 kg, N-/P-reduziert",0.3,24.2,11.2,11.8,7.4,5.2,3.4,4.4000000000000004,5.5,2,3.7,4.5,5.7,24.6,1.2,1.4,1.8,20,30,0.9,6.7,7,12,1,2,60,90,10]
[null,"Zuchtsauen mit 25 Ferkel bis 28 kg, Standard",0.3,41.1,17.899999999999999,21.1,11.9,8.3000000000000007,5.5,6.5,5.5,3,5.2,6.1,7.8,26,1.2,2.4,1.8,20,30,0.9,10,7,12,1,2,60,90,10]
[null,"Zuchtsauen mit 25 Ferkel bis 28 kg, N-/P-reduziert",0.3,36.799999999999997,16,19.5,10.9,7.6,5.0999999999999996,6.5,5.5,3,5.2,6.1,7.8,25.2,1.2,2.4,1.8,20,30,0.9,10,7,12,1,2,60,90,10]
[null,"Zuchtsauen mit 28 Ferkel bis 28 kg, Standard",0.3,42.9,18.600000000000001,21.3,12.5,8.6999999999999993,5.8,7,5.5,3,5.5,6.5,8.3000000000000007,25.9,1.2,2.6,1.8,20,30,0.9,10,7,12,1,2,60,90,10]
[null,"Zuchtsauen mit 28 Ferkel bis 28 kg, N-/P-reduziert",0.3,38.4,16.7,20.7,11.5,8,5.3,7,5.5,3,5.5,6.5,8.3000000000000007,25.1,1.2,2.6,1.8,20,30,0.9,10,7,12,1,2,60,90,10]
[null,"Ferkel von 8 bis 28 kg, Standard",0.02,4.5,1.64,2.7,1.3,0.9,0.6,0.7,5.5,0.2,0.4,0.6,0.8,25.6,0.15,0.4,1.8,20,30,0.9,10,7,12,1,2,60,90,10]
[null,"Ferkel von 8 bis 28 kg, N-/P-reduziert",0.02,4.2,1.61,2.6,1.2,0.8,0.6,0.7,5.5,0.2,0.4,0.6,0.8,25.1,0.15,0.4,1.8,20,30,0.9,10,7,12,1,2,60,90,10]
[null,"Mastschweine (750 g TZ), Jungsauenaufzucht, Standard",0.16,14.1,6,7,3.8,2.7,1.8,1.8,5.5,0.5,1.3,1.9,2.6,22.9,0.7,0.7,1.8,20,30,0.9,3.1,7,12,1,2,60,90,10]
[null,"Mastschweine (750 g TZ), Jungsauenaufzucht, N-/P-reduziert",0.16,13.4,5.0999999999999996,6.8,3.9,2.7,1.8,1.8,5.5,0.5,1.3,1.9,2.6,23,0.7,0.7,1.8,20,30,0.9,3.1,7,12,1,2,60,90,10]
[null,"Mastschweine (850 g TZ), Standard",0.16,15.4,6.3,7.5,4.0999999999999996,2.9,1.9,1.9,5.5,0.5,1.4,1.9,2.6,22.1,0.7,0.8,1.8,20,30,0.9,3.1,7,12,1,2,60,90,10]
[null,"Mastschweine (850 g TZ), N-/P-reduziert",0.16,14.8,5.4,7.3,4.2,2.9,1.9,1.9,5.5,0.5,1.4,1.9,2.6,22.2,0.7,0.8,1.8,20,30,0.9,3.1,7,12,1,2,60,90,10]
[null,"Zuchteber",0.3,22.1,9.6,8.8000000000000007,4.5,3.2,2.1,3.6,5.5,1,2.5,3.6,4.9000000000000004,19.8,1,1.5,1.8,20,30,0.9,3.3,7,12,1,2,60,90,10]
[null,"Legehennen über 16 Wochen, Standard",4.0000000000000001E-3,0.85,0.44,0.38,null,null,null,null,null,3.7,{"$f":"24.4817073170732/1000","v":2.4481707317073203E-2},2.4481707317073203E-2,2.4481707317073203E-2,50,0,0,null,40,40,0.7,0.93,0.93,0.93,5,5,50,90,45]
[null,"Legehennen über 16 Wochen, N-/P-reduziert",4.0000000000000001E-3,0.81,0.39,0.38,null,null,null,null,null,3.7,2.4481707317073203E-2,2.4481707317073203E-2,2.4481707317073203E-2,50,0,0,null,40,40,0.7,0.93,0.93,0.93,5,5,50,90,45]
[null,"Junghennen bis 16 Wochen, Standard",4.0000000000000001E-3,0.32,0.21,0.15,null,null,null,null,null,2.2999999999999998,{"$f":"8.44907407407407/1000","v":8.4490740740740707E-3},8.4490740740740707E-3,8.4490740740740707E-3,50,0,0,null,40,40,0.7,0.59,0.59,0.59,5,5,50,90,45]
[null,"Junghennen bis 16 Wochen, N-/P-reduziert",4.0000000000000001E-3,0.3,0.18,0.15,null,null,null,null,null,2.2999999999999998,8.4490740740740707E-3,8.4490740740740707E-3,8.4490740740740707E-3,50,0,0,null,40,40,0.7,0.59,0.59,0.59,5,5,50,90,45]
[null,"Masthähnchen, Standard",4.0000000000000001E-3,0.52,0.25,0.28000000000000003,null,null,null,null,null,1.8,{"$f":"14.8081140350877/1000","v":1.4808114035087699E-2},1.4808114035087699E-2,1.4808114035087699E-2,60,0,0,null,40,40,0.7,0.46,0.46,0.46,5,5,50,90,45]
[null,"Masthähnchen, N-/P-reduziert",4.0000000000000001E-3,0.48,0.23,0.28000000000000003,null,null,null,null,null,1.8,1.4808114035087699E-2,1.4808114035087699E-2,1.4808114035087699E-2,60,0,0,null,40,40,0.7,0.46,0.46,0.46,5,5,50,90,45]
[null,"Putenhähne bis 21 Wochen Mast, Standard",4.0000000000000001E-3,2.42,1.36,1.17,null,null,null,null,null,21.6,{"$f":"54.625850340136/1000","v":5.4625850340135999E-2},5.4625850340135999E-2,5.4625850340135999E-2,50,0,0,null,40,40,0.7,5.41,5.41,5.41,5,5,50,90,45]
[null,"Putenhähne bis 21 Wochen Mast, N-/P-reduziert",4.0000000000000001E-3,2.25,1.06,1.1100000000000001,null,null,null,null,null,21.6,5.4625850340135999E-2,5.4625850340135999E-2,5.4625850340135999E-2,50,0,0,null,40,40,0.7,5.41,5.41,5.41,5,5,50,90,45]
[null,"Putenhennen bis 16 Wochen Mast, Standard",4.0000000000000001E-3,1.71,0.93,0.96,null,null,null,null,null,17.399999999999999,{"$f":"60.8333333333333/1000","v":6.0833333333333302E-2},6.0833333333333302E-2,6.0833333333333302E-2,50,0,0,null,40,40,0.7,4.34,4.34,4.34,5,5,50,90,45]
[null,"Putenhennen bis 16 Wochen Mast, N-/P-reduziert",4.0000000000000001E-3,1.62,0.66,0.92,null,null,null,null,null,17.399999999999999,6.0833333333333302E-2,6.0833333333333302E-2,6.0833333333333302E-2,50,0,0,null,40,40,0.7,4.34,4.34,4.34,5,5,50,90,45]
[null,"Gänse Spätmast/Weidemast",4.0000000000000001E-3,1.87,0.57999999999999996,1.79,null,null,null,null,null,53.3,{"$f":"105.328571428571/1000","v":0.10532857142857099},{"$f":"105.328571428571/1000","v":0.10532857142857099},{"$f":"105.328571428571/1000","v":0.10532857142857099},30,0,0,null,40,40,0.7,13.33,13.33,13.33,5,5,50,90,45]
[null,"Pekingenten",4.0000000000000001E-3,0.71,0.4,0.38,null,null,null,null,null,6.4,{"$f":"67.3846153846154/1000","v":6.7384615384615404E-2},{"$f":"67.3846153846154/1000","v":6.7384615384615404E-2},{"$f":"67.3846153846154/1000","v":6.7384615384615404E-2},30,0,0,null,40,40,0.7,1.6,1.6,1.6,5,5,50,90,45]
[null,"Flugenten",4.0000000000000001E-3,0.63,0.4,0.31,null,null,null,null,null,6,{"$f":"49.9702380952381/1000","v":4.9970238095238102E-2},{"$f":"49.9702380952381/1000","v":4.9970238095238102E-2},{"$f":"49.9702380952381/1000","v":4.9970238095238102E-2},30,0,0,null,40,40,0.7,1.49,1.49,1.49,5,5,50,90,45]
[null,"Perlhuhn",3.0000000000000001E-3,0.64,0.28000000000000003,0.21,null,null,null,null,null,1,{"$f":"9.4/1000","v":9.4000000000000004E-3},{"$f":"9.4/1000","v":9.4000000000000004E-3},{"$f":"9.4/1000","v":9.4000000000000004E-3},30,0,0,null,40,40,0.7,0.33,0.33,0.33,5,5,50,90,45]
[null,"Lämmer, Schafe bis 1 Jahr",0.1,5.9,1.9,6.5,null,null,null,null,null,0.2,0.4,0.4,0.4,30,0,0,null,45,45,0.9,4,4,4,1,2,50,90,10]
[null,"Mutterschafe (ohne Lamm), andere Schafe",0.1,14.2,4.3,15.5,null,null,null,null,null,0.4,1.1000000000000001,1.1000000000000001,1.1000000000000001,30,0,0,null,45,45,0.9,4,4,4,1,2,50,90,10]
[null,"Milchziegen mit Lämmer, andere Ziegen",0.1,15.2,5.7,18,null,null,null,null,null,0.6,1,1,1,30,0,0,null,45,45,0.9,6,6,6,1,2,50,90,10]
[null,"Pferde bis ein Jahr, Ponys und Kleinpferde",0.7,33.4,15.3,51,null,null,null,null,null,4,6.8,6.8,6.8,30,0,0,null,45,45,0.7,5.7,5.7,5.7,1,2,50,90,10]
[null,"Pferde über ein Jahr",0.7,53.6,23.4,67,null,null,null,null,null,6,11.2,11.2,11.2,30,0,0,null,45,45,0.7,8.6,8.6,8.6,1,2,50,90,10]
[null,"Kaninchenaufz. bis 3 kg (Häsin + 52 Jungtiere je Jahr)",3.0000000000000001E-3,9.6999999999999993,5.4,8.3000000000000007,null,null,null,null,null,0.3,0.8,0.8,0.8,30,0,0,null,45,45,0.9,106.7,106.7,106.7,5,5,50,90,10]
[null,"Damwild Alttier",0.15,15.8,4.5,17.600000000000001,null,null,null,null,null,null,null,null,null,null,0,0,null,45,45,0.9,null,null,null,1,2,50,90,10]
[null,"Damwild Kalb",0.05,5.8,1.7,6.4,null,null,null,null,null,null,null,null,null,null,null,null,null,45,45,0.9,null,null,null,1,2,50,90,10]
[null,"Rotwild Alttier",0.3,22.7,7.2,27,null,null,null,null,null,null,null,null,null,null,0,0,null,45,45,0.9,null,null,null,1,2,50,90,10]
[null,"Rotwild Kalb",0.1,8.3000000000000007,2.7,9.9,null,null,null,null,null,null,null,null,null,null,null,null,null,45,45,0.9,null,null,null,1,2,50,90,10]
[null,"Lama/Alpaka",0.3,22.7,7.2,27,null,null,null,null,null,2,3.4,3.4,3.4,30,0,0,null,45,45,0.9,6.7,6.7,6.7,1,2,50,90,10]
[]
[null,null,null,null,null,null,"NH4-Gehalt"]
[null,null,null,null,null,"Gülle","Jauche","Mist"]
[null,null,null," --"]
[null,null,null,"Rinder",null,50,90,10]
[null,null,null,"Schweine",null,60,90,10]
[null,null,null,"Geflügel",null,50,90,45]
[null,null,null,"andere Tiere ",null,50,90,10]
[]
[]
[null,null,null,"Tierart wählen"]

{"sheet":"Tiere orginal","index":6,"n_rows":72,"n_cols":18,"rows_kept":72,"cut":false,"hidden":true,"merged":[[6,11,6,13],[4,6,4,9],[4,11,4,13],[4,16,4,17],[5,6,5,9],[5,11,5,13],[5,16,5,17]]}
["                     (Stand: Januar 2018)",null,"Im Programm hinterlegte Daten aus Tabelle 4a+b+c"]
[]
[]
[]
[null,null,"Großvieh-","Nährstoffausscheidung",null,null,"Gülleanfall in m3",null,null,null,"Einstreu ","Festmist (nach DüV) 5)",null,null,"Jaucheanfall","Jaucheanfall 4)","Verluste in %"]
[null,"Programmname","einheit","kg je mittl.",null,null,"je mittl. Jahresbestand 2)",null,null,null,"gering","je mittl. Jahresbestand 2)",null,null,"in m3 je mittl. ","in m3 je mittl. ","Stall- und Lager"]
[null,"49 Tierartengruppen","nach DüV","Jahresbestand 2)",null,null,null,"TM",null,"nach","(nach DüV)","Anfall in t/Jahr",null,null,"Jahresbest.²)","Jahresbest.²)",null,"Mist,"]
[null,null,null,"N","P2O5","K2O",0.05,7.4999999999999997E-2,0.1,"DüV 3)","kg/Tag","gering","mittel","hoch","LfL","nach DüV ","Gülle","Jauche"]
["Rinder"]
[null,"Kälber (Zucht/Mast) bis 6 Monate ",0.3,22,7.6,22.6,7.5,5,3.7,3.3,1.5,2.7,3.5,4.5999999999999996,1.7,1.2,15,30]
[null,"Männl. Rinder über 6 Monate bis 1 Jahr",0.3,37.5,14.9,31.3,11.7,7.8,5.9,7,1,2.9,6.4,8.3000000000000007,2.2999999999999998,2.7,15,30]
[null,"Männl. Rinder über 1 Jahr bis zwei Jahre (Mast)",0.7,54.5,20.5,45.5,17.100000000000001,11.4,8.6,9.6999999999999993,1.4,4.2,9.5,12.7,3.4,3.9,15,30]
[null,"Männliche Rinder über 2 Jahre, Zuchtbullen ",1,64,21,78,21.5,14.3,10.7,13.1,4.2,7.8,14,17.5,4.8,3.4,15,30]
[null,"Ackerbetrieb 1), Stallhaltung",null,null," "]
[null,"Weibliche Rinder über 6 Monate bis 1 Jahr ",0.3,37,11,46,12.5,8.3000000000000007,6.2,7.6,2.5,4.5,7.4,8.9,2.8,2,15,30]
[null,"Weibliche Rinder über 1 Jahr bis 2 Jahre",0.7,56,18,69,18.899999999999999,12.6,9.4,11.5,3.7,6.8,11.8,14.6,4.3,3,15,30]
[null,"Andere weibliche Rinder über 2 Jahre",1,64,21,78,21.5,14.3,10.7,13.1,4.2,7.8,14,17.5,4.8,3.4,15,30]
[null,"Milchkuh (6000 kg Milch)",1,100,36,104,33.799999999999997,22.5,16.899999999999999,19,4,15,18.600000000000001,23.4,7.3,6,15,30]
[null,"Milchkuh (8000 kg Milch)",1,115,42,116,37.299999999999997,24.9,18.600000000000001,20,4,16,19.399999999999999,24.4,8,6.4,15,30]
[null,"Milchkuh (10000 kg Milch)",1,133,47,125,39.299999999999997,26.2,19.600000000000001,21,5,17,20.2,25.4,7.7,6.8,15,30]
[null,"Milchkuh (12000 kg Milch)",1,152,52,135,45.3,30.2,22.7,22,6,17,21,26.4,7.5,7.2,15,30]
[null,"Grünlandbetrieb 1), konventionell",null,null," "]
[null,"Weibliche Rinder über 6 Monate bis 1 Jahr ",0.3,47,14,58,12.4,8.3000000000000007,6.2,7.6,2.5,4.5,7.4,8.9,3.5,2,15,30]
[null,"Weibliche Rinder über 1 Jahr bis 2 Jahre",0.7,72,21,94,19,12.7,9.5,11.7,3.8,6.9,12,14.8,5.4,3,15,30]
[null,"Andere weibliche Rinder über 2 Jahre",1,84,23,100,22.2,14.8,11.1,13.7,4.4000000000000004,8.1,14.5,18.100000000000001,6.3,3.5,15,30]
[null,"Milchkuh (6000 kg Milch)",1,109,37,129,36.5,24.3,18.2,19,4,14.4,18.600000000000001,23.4,9.6,6,15,30]
[null,"Milchkuh (8000 kg Milch)",1,124,43,134,38.1,25.4,19,20,4,15,19.399999999999999,24.4,9.6999999999999993,6.4,15,30]
[null,"Milchkuh (10000 kg Milch)",1,141,48,143,40.4,26.9,20.2,21,5,16,20.2,25.4,9.5,6.8,15,30]
[null,"Mutterkuh mit Kalb bis 6 Monate",1,105,31,129,32.200000000000003,21.4,16.100000000000001,20,4,15.8,19.600000000000001,24.4,7.6,6,15,30]
["Schweine",null,null,null,null,null,3.5000000000000003E-2,0.05,7.4999999999999997E-2]
[null,"Zuchtsauen mit 25 Ferkel bis 8 kg, Standard",0.3,27.3,12.6,12.8,8.1,5.7,3.8,4.2,2,3.6,4.3,5.5,1.2,1.3,20,30]
[null,"Zuchtsauen mit 25 Ferkel bis 8 kg, N-/P-reduziert",0.3,24.1,11.2,11.6,7.2,5,3.4,4.2,2,3.6,4.3,5.5,1.2,1.3,20,30]
[null,"Zuchtsauen mit 28 Ferkel bis 8 kg, Standard",0.3,27.5,12.8,13.1,8.1999999999999993,5.8,3.8,4.4000000000000004,2,3.7,4.5,5.7,1.2,1.4,20,30]
[null,"Zuchtsauen mit 28 Ferkel bis 8 kg, N-/P-reduziert",0.3,24.2,11.2,11.8,7.4,5.2,3.4,4.4000000000000004,2,3.7,4.5,5.7,1.2,1.4,20,30]
[null,"Zuchtsauen mit 25 Ferkel bis 28 kg, Standard",0.3,41.1,17.899999999999999,21.1,11.9,8.3000000000000007,5.5,6.5,3,5.2,6.1,7.8,1.2,2.4,20,30]
[null,"Zuchtsauen mit 25 Ferkel bis 28 kg, N-/P-reduziert",0.3,36.799999999999997,16,19.5,10.9,7.6,5.0999999999999996,6.5,3,5.2,6.1,7.8,1.2,2.4,20,30]
[null,"Zuchtsauen mit 28 Ferkel bis 28 kg, Standard",0.3,42.9,18.600000000000001,21.3,12.5,8.6999999999999993,5.8,7,3,5.5,6.5,8.3000000000000007,1.2,2.6,20,30]
[null,"Zuchtsauen mit 28 Ferkel bis 28 kg, N-/P-reduziert",0.3,38.4,16.7,20.7,11.5,8,5.3,7,3,5.5,6.5,8.3000000000000007,1.2,2.6,20,30]
[null,"Ferkel von 8 bis 28 kg, Standard",0.02,4.5,1.64,2.7,1.3,0.9,0.6,0.7,0.2,0.4,0.6,0.8,0.15,0.4,20,30]
[null,"Ferkel von 8 bis 28 kg, N-/P-reduziert",0.02,4.2,1.61,2.6,1.2,0.8,0.6,0.7,0.2,0.4,0.6,0.8,0.15,0.4,20,30]
[null,"Mastschweine (750 g TZ), Jungsauenaufzucht, Standard",0.16,14.1,6,7,3.8,2.7,1.8,1.8,0.5,1.3,1.9,2.6,0.7,0.7,20,30]
[null,"Mastschweine (750 g TZ), Jungsauenaufzucht, N-/P-reduziert",0.16,13.4,5.0999999999999996,6.8,3.9,2.7,1.8,1.8,0.5,1.3,1.9,2.6,0.7,0.7,20,30]
[null,"Mastschweine (850 g TZ), Standard",0.16,15.4,6.3,7.5,4.0999999999999996,2.9,1.9,1.9,0.5,1.4,1.9,2.6,0.7,0.8,20,30]
[null,"Mastschweine (850 g TZ), N-/P-reduziert",0.16,14.78,5.4,7.3,4.2,2.9,1.9,1.9,0.5,1.4,1.9,2.6,0.7,0.8,20,30]
[null,"Zuchteber",0.3,22.1,9.6,8.8000000000000007,4.5,3.2,2.1,3.6,1,2.5,3.6,4.9000000000000004,1,1.5,20,30]
["Geflügel",null,null,null,null,null,null,null,null,null,"je 1000 Tiere",null,"je 1000 Tiere"]
[null,"Legehennen über 16 Wochen, Standard",4.0000000000000001E-3,0.85,0.44,0.38,null,null,null,null,3.7,null,null,24.5,0,0,40,40]
[null,"Legehennen über 16 Wochen, N-/P-reduziert",4.0000000000000001E-3,0.81,0.39,0.38,null,null,null,null,3.7,null,null,24.5,0,0,40,40]
[null,"Junghennen bis 16 Wochen, Standard",4.0000000000000001E-3,0.32,0.21,0.15,null,null,null,0.1,2.2999999999999998,null,null,8.4,0,0,40,40]
[null,"Junghennen bis 16 Wochen, N-/P-reduziert",4.0000000000000001E-3,0.3,0.18,0.15,null,null,null,0.1,2.2999999999999998,null,null,8.4,0,0,40,40]
[null,"Masthähnchen, Standard",4.0000000000000001E-3,0.52,0.25,0.28000000000000003,null,null,null,null,1.8,null,null,14.8,0,0,40,40]
[null,"Masthähnchen, N-/P-reduziert",4.0000000000000001E-3,0.48,0.23,0.28000000000000003,null,null,null,null,1.8,null,null,14.8,0,0,40,40]
[null,"Putenhähne bis 21 Wochen Mast, Standard",4.0000000000000001E-3,2.42,1.36,1.17,null,null,null,0.3,21.6,null,null,54.6,0,0,40,40]
[null,"Putenhähne bis 21 Wochen Mast, N-/P-reduziert",4.0000000000000001E-3,2.25,1.06,1.1100000000000001,null,null,null,0.3,21.6,null,null,54.6,0,0,40,40]
[null,"Putenhennen bis 16 Wochen Mast, Standard",4.0000000000000001E-3,1.71,0.93,0.96,null,null,null,null,17.399999999999999,null,null,60.8,0,0,40,40]
[null,"Putenhennen bis 16 Wochen Mast, N-/P-reduziert",4.0000000000000001E-3,1.62,0.66,0.92,null,null,null,null,17.399999999999999,null,null,60.8,0,0,40,40]
[null,"Gänse Spätmast/Weidemast",4.0000000000000001E-3,1.87,0.57999999999999996,1.79,null,null,null,null,53.3,null,null,105.3,0,0,40,40]
[null,"Pekingenten",4.0000000000000001E-3,0.71,0.4,0.38,null,null,null,null,6.4,null,null,67.400000000000006,0,0,40,40]
[null,"Flugenten",4.0000000000000001E-3,0.63,0.4,0.31,null,null,null,null,6,null,null,50,0,0,40,40]
[null,"Perlhuhn",3.0000000000000001E-3,0.64,0.28000000000000003,0.21,null,null,null,null,1,null,null,9.4,0,0,40,40]
["Sonstige",null,null,null,null,null,null,null,null,null,"je Tier",null,"je Tier"]
[null,"Lämmer, Schafe bis 1 Jahr, konventionell",0.1,5.9,1.9,6.5,null,null,null,null,0.2,null,null,0.4,0,0,45,45]
[null,"Mutterschafe (ohne Lamm), andere Schafe, konventionell",0.1,14.2,4.3,15.5,null,null,null,null,0.4,null,null,1.1000000000000001,0,0,45,45]
[null,"Milchziegen mit Lämmer, andere Ziegen",0.1,15.2,5.7,18,null,null,null,null,0.6,null,null,1,0,0,45,45]
[null,"Pferde bis ein Jahr, Ponys und Kleinpferde",0.7,33.4,15.3,51,null,null,null,null,4,null,null,6.8,0,0,45,45]
[null,"Pferde über ein Jahr",0.7,53.6,23.4,67,null,null,null,null,6,null,null,11.2,0,0,45,45]
[null,"Kaninchenaufz. bis 3 kg (Häsin + 52 Jungtiere je Jahr)",3.0000000000000001E-3,9.6999999999999993,5.4,8.3000000000000007,null,null,null,0.6,0.3,null,null,0.8,0,0,45,45]
[null,"Damwild Alttier",0.15,15.8,4.5,17.600000000000001,null,null,null,null,null,null,null,null,0,0,45,45]
[null,"Damwild Kalb",0.05,5.8,1.7,6.4,null,null,null,null,null,null,null,null,null,null,45,45]
[null,"Rotwild Alttier",0.3,22.7,7.2,27,null,null,null,null,null,null,null,null,0,0,45,45]
[null,"Rotwild Kalb",0.1,8.3000000000000007,2.7,9.9,null,null,null,null,null,null,null,null,null,null,45,45]
[null,"Lama/Alpaka",0.3,22.7,7.2,27,null,null,null,null,2,null,null,3.4,0,0,45,45]

{"sheet":"org Dünger","index":7,"n_rows":34,"n_cols":9,"rows_kept":34,"cut":false,"hidden":true,"merged":[[4,4,6,4],[5,0,5,1]]}
["Tabelle 5:  Nährstoffgehalte organischer Dünger zum Zeitpunkt der Ausbringung,",null,null,null,null,null,null,null,"Im Programm hinterlegte Daten"]
["                  die anrechenbaren Stall- und Lagerungsverluste sind berücksichtigt"]
["                  (Stand: März 2018)"]
[" "]
[null,null,null,null,"Einheit","TM"]
["Organischer Dünger mit Code-Nr.",null,"Art 2","Art 3",null,"in"]
[null,null,null,null,null,"%","Ngesamt","P2O5","K2O"]
["Rind"]
[11,"Milchviehgülle (Grünland, 6 % TM)",1,1,"m3",6,3.3,5,6]
[12,"Milchviehgülle (Grünland, 7,5 % TM)",1,1,"m3",7.5,4.2,5,8]
[14,"Milchviehgülle (Acker, 6 % TM)",1,1,"m3",6,3.1,5,5]
[15,"Milchviehgülle (Acker, 7,5 % TM)",1,1,"m3",7.5,3.9,5,5]
[16,"Mastbullengülle (7,5 % TM)",1,1,"m3",7.5,4.0999999999999996,5,5]
[17,"Rindermist, Kurz-, Mittellangstand (18,5 % TM)",1,2,"t",18.5,4.2,5,5]
[18,"Rindermist, Tiefstall (23 % TM)",1,2,"t",23.1,4.2,5,5]
[19,"Rinderjauche (1,8 % TM)",1,1,"m3",1.8,3.2,5,5]
["Schwein"]
[21,"Mastschweinegülle (5 % TM), Standardfutter",2,1,"m3",5,4.2,5,5]
[22,"Mastschweinegülle (5 % TM), N-/P-red. Fütterung",2,1,"m3",5,4,5,5]
[24,"Zuchtsauengülle (mit Ferkel, 5 % TM), Standardfutter",2,1,"m3",5,4,5,5]
[25,"Zuchtsauengülle (mit Ferkel, 5 % TM), N-/P-red. Fütterung",2,1,"m3",5,3.9,5,5]
[27,"Schweinemist (21 % TM)",2,2,"t",21.1,6.4,5,5]
[28,"Schweinejauche (1,8 % TM)",2,1,"m3",1.8,3.3,5,5]
["Geflügel"]
[31,"Hühnermist (50 % TM)",3,2,"t",50,21.1,5,5]
[32,"Hühnerkot (50 % TM) ",3,2,"t",50,22,5,5]
[33,"Putenmist (50 % TM)",3,2,"t",50,22.1,5,5]
[34,"Masthähnchenmist (60 % TM)",3,2,"t",60,21.3,5,5]
[35,"Pekingentenmist (30 % TM)",3,2,"t",30,6.5,5,5]
[36,"Flugentenmist (30 % TM)",3,2,"t",30,7.8,5,5]
["sonstige tierische Herkunft"]
[41,"Pferdemist (30 % TM)",4,2,"t",30,3.6,5,5]
[42,"Schaf- und Ziegenmist (30 % TM)",4,2,"t",30,5.5,5,5]
[43,"Kaninchenmist (30 % TM)",4,2,"t",30,7.4,5,5]

{"sheet":"Stroh","index":8,"n_rows":4,"n_cols":2,"rows_kept":4,"cut":false,"hidden":true,"merged":[]}
[]
[1,"gering"]
[2,"mittel"]
[3,"hoch"]

{"sheet":"Erläuterungen","index":9,"n_rows":77,"n_cols":5,"rows_kept":77,"cut":false,"hidden":true,"merged":[[2,0,2,1],[15,0,16,0],[15,1,16,1],[18,4,19,4],[23,4,24,4],[29,0,30,0],[29,1,30,1],[35,0,36,0],[35,1,36,1],[47,0,48,0],[47,1,48,1],[50,0,51,0],[50,1,51,1],[68,0,69,0],[68,1,69,1],[71,0,72,0],[71,1,72,1],[53,0,54,0],[53,1,54,1],[56,0,57,0],[56,1,57,1],[62,0,63,0],[62,1,63,1]]}
["Erläuterung zur Zuordnung der Tiergruppen vom Mehrfachantrag zum 170 kg Programm"]
[]
["Mehrfachantrag",null,null,null,"Excel Programm 170 kg"]
["Code","Viehverzeichnis",null,null,"Tierauswahl"]
[]
["01","  Kälber (Zucht/Mast) bis 6 Monate",null,null,"  Kälber (Zucht/Mast) bis 6 Monate "]
[]
["04","  Männliche Rinder über 6 Monate bis 1 Jahr",null,null,"  Männliche Rinder über 6 Monate bis 1 Jahr"]
["05","  Männliche Rinder über 1 Jahr bis 2 Jahre",null,null,"  Männliche Rinder über 1 Jahr bis zwei Jahre (Mast)"]
["06","  Männliche Rinder über 2 Jahre, Zuchtbullen",null,null,"  Männliche Rinder über 2 Jahre, Zuchtbullen "]
[]
["07","  Weibliche Rinder über 6 Monate bis 1 Jahr",null,null,"  Weibliche Rinder über 6 Monate bis 1 Jahr "]
["10","  Weibliche Rinder über 1 Jahr bis 2 Jahre",null,null,"  Weibliche Rinder über 1 Jahr bis 2 Jahre"]
["13","  Andere weibliche Rinder über 2 Jahre",null,null,"  Andere weibliche Rinder über 2 Jahre"]
[]
[18,"  Kühe (Milch-, Mutter- und Ammenkühe)",null,null,"  Milchkuh "]
[null,null,null,null,"  Mutterkuh mit Kalb bis 6 Monate"]
[]
["21","  Lämmer, Schafe bis 1 Jahr",null,null,"  Lämmer, Schafe bis 1 Jahr, konventionell"]
["22","  Mutterschafe"]
["23","  Andere Schafe über 1 Jahr, einschl. Hammel",null,null,"  Mutterschafe (ohne Lamm), andere Schafe, konvent."]
["24","  Schafböcke"]
[]
["31","  Mutterziegen, einschl. gedeckte Jungziegen",null,null,"  Milchziegen mit Lämmer, andere Ziegen"]
["32","  Andere Ziegen über 1 Jahr"]
[]
["41","  Pferde bis 1 Jahr, Ponys und Kleinpferde",null,null,"  Pferde bis ein Jahr, Ponys und Kleinpferde"]
["42","  Pferde über 1 Jahr",null,null,"  Pferde über ein Jahr"]
[]
["50","  Ferkel bis unter 30 kg",null,null,"  Ferkel von 8 bis 28 kg, Standard"]
[null,null,null,null,"  Ferkel von 8 bis 28 kg, N-/P-reduziert"]
[]
[null,null,null,null,"  Zuchtsauen mit 25 Ferkel bis 8 kg, Standard"]
[null,null,null,null,"  Zuchtsauen mit 25 Ferkel bis 8 kg, N-/P-reduziert"]
[null,null,null,null,"  Zuchtsauen mit 28 Ferkel bis 8 kg, Standard"]
["51"," Zuchtsauen ab erstem Abferkeln, Jungsauen trächtig",null,null,"  Zuchtsauen mit 28 Ferkel bis 8 kg, N-/P-reduziert"]
[null,null,null,null,"  Zuchtsauen mit 25 Ferkel bis 28 kg, Standard"]
[null,null,null,null,"  Zuchtsauen mit 25 Ferkel bis 28 kg, N-/P-reduziert"]
[null,null,null,null,"  Zuchtsauen mit 28 Ferkel bis 28 kg, Standard"]
[null,null,null,null,"  Zuchtsauen mit 28 Ferkel bis 28 kg, N-/P-reduziert"]
[]
[null,null,null,null,"  Mastschweine (750 g TZ), Jungsauenaufzucht, Standard"]
["53","  Andere Zuchtschweine (ohne Eber) ab 50 kg",null,null,"  Mastschweine (750 g TZ), Jungsauenaufzucht, N-/P-red."]
["54","  Jungschweine (Zucht/Mast) 30 kg bis unter 50 kg",null,null,"  Mastschweine (850 g TZ), Standard"]
["55","  Mastschweine (einschl. Eber) ab 50 kg",null,null,"  Mastschweine (850 g TZ), N-/P-reduziert"]
[null,null,null,null,"  Zuchteber"]
[]
["61","  Legehennen über 6 Monate",null,null,"  Legehennen über 16 Wochen, Standard"]
[null,null,null,null,"  Legehennen über 16 Wochen, N-/P-reduziert"]
[]
["62","  Küken und Junghennen bis 6 Monate zur Aufzucht",null,null,"  Junghennen bis 16 Wochen, Standard"]
[null,null,null,null,"  Junghennen bis 16 Wochen, N-/P-reduziert"]
[]
["63","  Masthühner/-hähne und übrige Küken",null,null,"  Masthähnchen, Standard"]
[null,null,null,null,"  Masthähnchen, N-/P-reduziert"]
[]
["64","  Enten",null,null,"  Pekingenten"]
[null,null,null,null,"  Flugenten"]
[]
["65","  Gänse",null,null,"  Gänse Spätmast/Weidemast"]
[]
[null,null,null,null,"  Putenhähne bis 21 Wochen Mast, Standard"]
["66","  Puten",null,null,"  Putenhähne bis 21 Wochen Mast, N-/P-reduziert"]
[null,null,null,null,"  Putenhennen bis 16 Wochen Mast, Standard"]
[null,null,null,null,"  Putenhennen bis 16 Wochen Mast, N-/P-reduziert"]
[]
["72","  Kaninchen",null,null,"  Kaninchenaufz. bis 3 kg (Häsin + 52 Jungtiere je Jahr)"]
[]
["73","  Damwild",null,null,"  Damwild Alttier"]
[null,null,null,null,"  Damwild Kalb"]
[]
["74","  Rotwild",null,null,"  Rotwild Alttier"]
[null,null,null,null,"  Rotwild Kalb"]
[]
["82","  Neuweltkameliden (Lama/Alpaka)",null,null,"  Lama/Alpaka"]
[]
["85","  Perlhühner",null,null,"  Perlhuhn"]

{"sheet":"alt Tiere","index":10,"n_rows":84,"n_cols":14,"rows_kept":84,"cut":false,"hidden":true,"merged":[[23,3,23,5],[23,8,23,9],[24,3,24,5],[24,8,24,9],[25,3,25,5]]}
[]
[null,null,"Milchleistung"]
[null,null,6555,null,"Acker",null,null,"Milchkuh (6000 kg Milch,0,9 Kalb)",null,100,null,null,{"$f":"IF(C3<=6000,J3,IF(AND(C3>6000,C3<=8000),J3+L4*(C3-6000),IF(AND(C3>8000,C3<=10000),J4+L5*(C3-8000),IF(AND(C3>10000,C3<=12000),J5+L6*(C3-10000),J6))))","v":104.16249999999999}]
[null,null,null,null,null,null,null,"Milchkuh (8000 kg Milch, 0,9 Kalb)",null,115,null,{"$f":"+(J4-J3)/2000","v":7.4999999999999997E-3}]
[null,null,null,null,null,null,null,"Milchkuh (10000 kg Milch, 0,9 Kalb)",null,133,null,{"$f":"+(J5-J4)/2000","v":8.9999999999999993E-3}]
[null,null,"Grünlandanteil %",null,null,null,null,"Milchkuh (12000 kg Milch, 0,9 Kalb)",null,152,null,{"$f":"+(J6-J5)/2000","v":9.4999999999999998E-3}]
[null,null,{"$f":"+'Berech. Lagerraum flüssig+fest'!BD11","v":0}]
[null,null,null,null,"Grünland",null,null,"Milchkuh (6000 kg Milch, 0,9 Kalb)",null,109,null,null,{"$f":"IF(C3<=6000,J8,IF(AND(C3>6000,C3<=8000),J8+L9*(C3-6000),IF(AND(C3>8000,C3<=10000),J9+L10*(C3-8000),J10)))","v":113.16249999999999}]
[null,null,null,null,null,null,null,"Milchkuh (8000 kg Milch, 0,9 Kalb)",null,124,null,{"$f":"+(J9-J8)/2000","v":7.4999999999999997E-3}]
[null,null,null,null,null,null,null,"Milchkuh (10000 kg Milch, 0,9 Kalb)",null,141,null,{"$f":"+(J10-J9)/2000","v":8.5000000000000006E-3}]
[]
[]
[null,null,null,null,"Acker",null,null,"Weibliche Rinder über 6 Monate bis 1 Jahr",null,null,37]
[null,null,null,null,null,null,null,"Weibliche Rinder über 1 bis 2 Jahre",null,null,56]
[null,null,null,null,null,null,null,"Andere weibliche Rinder über 2 Jahre",null,null,64]
[]
[null,null,null,null,"Grünland",null,null,"Weibliche Rinder über 6 Monate bis 1 Jahr",null,null,47]
[null,null,null,null,null,null,null,"Weibliche Rinder über 1 bis 2 Jahre",null,null,72]
[null,null,null,null,null,null,null,"Andere weibliche Rinder über 2 Jahre",null,null,84]
[]
["Tabelle 4a:  Nährstoffausscheidung und Grundfutteraufnahme verschiedener Tierarten in kg pro"]
["                   mittlerem Jahresbestand in Abhängigkeit von Leistung und Fütterung"]
["                   (Stand: November 2017)"]
[null,null,null,"Ausscheidung",null,null,null,null,"Verslust"]
[null,"Produktionsverfahren","Programmname","kg pro mittl.",null,null,null,null,"Stall/Lager"]
[null,null,null,"Jahresbestand 2)",null,null,null,null,"Gülle","Mist",null,null,"gering"]
[null,null,null,"N","P2O5","K2O","MgO","S","%","%","GV","Gülle","Stallmist","Jauch"]
[null,null,null,null,null,null,"K*0,25","N*0,08"]
["Rinder",null," --",null,null,null,null,null,15,30]
[null,"Milchkuh ohne Kalb","Milchkuh ohne Kalb",{"$f":"IF(C7<=0.65,M3,IF(C7>=0.85,M8,((0.85-C7)*5*M3)+((C7-0.65)*5*M8)))","v":104.16249999999999},null,null,null,null,15,30]
[null,"Kälber (Zucht/Mast) bis 6 Monate","Kälber (Zucht/Mast) bis 6 Monate",22,null,null,null,null,15,30]
[null,"Weibliche Rinder über 6 Monate bis 1 Jahr","Weibliche Rinder über 6 Monate bis 1 Jahr",{"$f":"IF(C7<=0.65,K13,IF(C7>=0.85,K17,((0.85-C7)*5*K13)+((C7-0.65)*5*K17)))","v":37},null,null,null,null,15,30]
[null,"Weibliche Rinder über 1 bis 2 Jahre","Weibliche Rinder über 1 bis 2 Jahre",{"$f":"IF(C7<=0.65,K14,IF(C7>=0.85,K18,((0.85-C7)*5*K14)+((C7-0.65)*5*K18)))","v":56},null,null,null,null,15,30]
[null,"Andere weibliche Rinder über 2 Jahre","Andere weibliche Rinder über 2 Jahre",{"$f":"IF(C7<=0.65,K15,IF(C7>=0.85,K19,((0.85-C7)*5*K15)+((C7-0.65)*5*K19)))","v":64},null,null,null,null,15,30]
[null,"Männl. Rinder über 6 Monate bis 1 Jahr","Männl. Rinder über 6 Monate bis 1 Jahr",37.5,14.9,31.3,7.8,3,15,30]
[null,"Männl. Rinder über 1 Jahr bis zwei Jahre (Mast)","Männl. Rinder über 1 Jahr bis zwei Jahre (Mast)",54.5,20.5,45.5,11.4,4.4000000000000004,15,30]
[null,"Männliche Rinder über 2 Jahre, Zuchtbullen ","Männliche Rinder über 2 Jahre, Zuchtbullen ",64,21,78,19.5,5.0999999999999996,15,30]
[null,"Mutterkuh 700 kg, mit Kalb (6 Mon., 230 kg Absetzgewicht)","Mutterkuh mit Kalb bis 6 Monate",105,31,129,32.299999999999997,8.4,15,30]
[null,"Zuchtsauen (ab Belegen) mit 25 Ferkel bis 8 kg, Standard","Zuchtsauen mit 25 Ferkel bis 8 kg, Standard",27.3,12.7,12.8,4.5,2.2000000000000002,20,30]
[null,"Zuchtsauen (ab Belegen) mit 25 Ferkel bis 8 kg, N-/P-red.","Zuchtsauen mit 25 Ferkel bis 8 kg, N-/P-reduziert",24.1,11.2,11.6,4.0999999999999996,1.9,20,30]
[null,"Zuchtsauen (ab Belegen) mit 28 Ferkel bis 8 kg, Standard","Zuchtsauen mit 28 Ferkel bis 8 kg, Standard",27.5,12.8,13.1,4.5999999999999996,2.2000000000000002,20,30]
[null,"Zuchtsauen (ab Belegen) mit 28 Ferkel bis 8 kg, N-/P-red.","Zuchtsauen mit 28 Ferkel bis 8 kg, N-/P-reduziert",24.2,11.2,11.8,4.0999999999999996,1.9,20,30]
[null,"Zuchtsauen (ab Belegen) mit 25 Ferkel bis 28 kg, Standard","Zuchtsauen mit 25 Ferkel bis 28 kg, Standard",41.1,17.8,21.1,7.4,3.3,20,30]
[null,"Zuchtsauen (ab Belegen) mit 25 Ferkel bis 28 kg, N-/P-red.","Zuchtsauen mit 25 Ferkel bis 28 kg, N-/P-reduziert",36.799999999999997,16.100000000000001,19.5,6.8,2.9,20,30]
[null,"Zuchtsauen (ab Belegen) mit 28 Ferkel bis 28 kg, Standard","Zuchtsauen mit 28 Ferkel bis 28 kg, Standard",42.9,18.600000000000001,21.3,7.5,3.4,20,30]
[null,"Zuchtsauen (ab Belegen) mit 28 Ferkel bis 28 kg, N-/P-red.","Zuchtsauen mit 28 Ferkel bis 28 kg, N-/P-reduziert",38.4,16.7,20.7,7.3,3.1,20,30]
[null,"Ferkel von 8 bis 28 kg, 450 g TZ, Standard","Ferkel von 8 bis 28 kg, Standard",4.5,1.6,2.7,1,0.4,20,30]
[null,"Ferkel von 8 bis 28 kg, 450 g TZ, N-/P-red.","Ferkel von 8 bis 28 kg, N-/P-reduziert",4.2,1.6,2.6,0.9,0.3,20,30]
[null,"Mastschweine (750 g TZ), Standard","Mastschweine (750 g TZ), Jungsauenaufzucht, Standard",14.1,6,7,2.4,1.1000000000000001,20,30]
[null,"Mastschweine (750 g TZ), N-/P-red.","Mastschweine (750 g TZ), Jungsauenaufzucht, N-/P-reduziert",13.4,5.0999999999999996,6.8,2.4,1.1000000000000001,20,30]
[null,"Mastschweine (850 g TZ), Standard","Mastschweine (850 g TZ), Standard",15.4,6.3,7.5,2.6,1.2,20,30]
[null,"Mastschweine (850 g TZ), N-/P-red.","Mastschweine (850 g TZ), N-/P-reduziert",14.8,5.4,7.3,2.5,1.2,20,30]
[null,"Zuchteber","Zuchteber",22.1,9.6,8.8000000000000007,3.1,1.8,20,30]
[null,"Legehennen über 16 Wochen, 17,6 kg Eimasse, Standard","Legehennen über 16 Wochen, Standard",0.85,0.44,0.38,0.15,7.0000000000000007E-2,40,40]
[null,"Legehennen über 16 Wochen, 17,6 kg Eimasse, N-/P-reduziert","Legehennen über 16 Wochen, N-/P-reduziert",0.81,0.39,0.38,0.15,7.0000000000000007E-2,40,40]
[null,"Junghennen bis 16 Wochen, 3,5 kg Zuw., Standard","Junghennen bis 16 Wochen, Standard",0.32,0.21,0.15,0.06,0.03,40,40]
[null,"Junghennen bis 16 Wochen, 3,5 kg Zuw., N-/P-reduziert","Junghennen bis 16 Wochen, N-/P-reduziert",0.3,0.18,0.15,0.06,0.02,40,40]
[null,"Masthähnchen 34-38 Tage, 2,3 kg Zuw., Standard","Masthähnchen, Standard",0.52,0.25,0.28000000000000003,0.11,0.04,40,40]
[null,"Masthähnchen 34-38 Tage, 2,3 kg Zuw., N-/P-reduziert","Masthähnchen, N-/P-reduziert",0.48,0.23,0.28000000000000003,0.11,0.04,40,40]
[null,"Putenhähne bis 21 Wochen Mast, 22,1 kg Zuw.,Standard","Putenhähne bis 21 Wochen Mast, Standard",2.42,1.36,1.17,0.47,0.19,40,40]
[null,"Putenhähne bis 21 Wochen Mast, 22,1 kg Zuw., N-/P-reduziert","Putenhähne bis 21 Wochen Mast, N-/P-reduziert",2.25,1.06,1.1100000000000001,0.44,0.18,40,40]
[null,"Putenhennen 16 Wochen Mast, 10,9 kg Zuw., Standard","Putenhennen bis 16 Wochen Mast, Standard",1.71,0.93,0.96,0.38,0.14000000000000001,40,40]
[null,"Putenhennen 16 Wochen Mast, 10,9 kg Zuw., N-/P-reduziert","Putenhennen bis 16 Wochen Mast, N-/P-reduziert",1.62,0.66,0.92,0.37,0.13,40,40]
[null,"Gänse Spätmast/Weidemast","Gänse Spätmast/Weidemast",1.87,0.57999999999999996,1.79,0.72,0.15,40,40]
[null,"Pekingenten, 3,0 kg Zuw.,  6,5 Durchgänge ","Pekingenten",0.71,0.4,0.38,0.15,0.06,40,40]
[null,"Flugenten (w:m=1:1), 4 Durchgänge","Flugenten",0.63,0.4,0.31,0.13,0.05,40,40]
[null,"Perlhuhn","Perlhuhn",0.64,0.28000000000000003,0.21,0.08,0.05,40,40]
[null,"Lämmer, Schafe bis 1 Jahr, konventionell","Lämmer, Schafe bis 1 Jahr, konventionell",5.9,1.9,6.5,1.6,0.5,45,45]
[null,"Mutterschafe (ohne Lamm), andere Schafe, konventionell","Mutterschafe (ohne Lamm), andere Schafe, konventionell",14.2,4.3,15.5,3.9,1.1000000000000001,45,45]
[null,"Mutterziegen (mit 1,5 Lämmer), 800 kg Milch; andere Ziegen","Milchziegen mit Lämmer, andere Ziegen",15.2,5.7,18,4.5,1.2,45,45]
[null,"Ponys, Pferde bis ein Jahr, 300 kg LM, Stall-/Weidehaltung","Pferde bis ein Jahr, Ponys und Kleinpferde",33.4,15.3,51,10.199999999999999,2.7,45,45]
[null,"Pferde über ein Jahr, 500-600 kg LM, Stall-/Weidehaltung","Pferde über ein Jahr",53.6,23.4,67,13.4,4.3,45,45]
[null,"Kaninchenaufz. bis 3 kg (Häsin + 52 Jungtiere je Häsin u. Jahr)","Kaninchenaufz. bis 3 kg (Häsin + 52 Jungtiere je Jahr)",9.6999999999999993,5.4,8.3000000000000007,2.08,0.8,45,45]
[null,"Damwild Alttier","Damwild Alttier",15.8,4.5,17.600000000000001,3.5,1.3,45,45]
[null,"Damwild Kalb","Damwild Kalb",5.8,1.7,6.4,1.3,0.5,45,45]
[null,"Rotwild Alttier","Rotwild Alttier",22.7,7.2,27,5.4,1.8,45,45]
[null,"Rotwild Kalb","Rotwild Kalb",8.3000000000000007,2.7,9.9,2,0.7,45,45]
[null,"Lama/Alpaka","Lama/Alpaka",22.7,7.2,27,5.4,1.8,45,45]
[]
[null," --"]
[null,"Rinder",null,null,null,null,null,null,15,30]
[null,"Schweine",null,null,null,null,null,null,20,30]
[null,"Geflügel",null,null,null,null,null,null,40,40]
[null,"andere Tiere ",null,null,null,null,null,null,45,45]

{"sheet":"Tabelle1","index":11,"n_rows":3,"n_cols":3,"rows_kept":3,"cut":false,"hidden":true,"merged":[]}
["Weidestunden in % bezieht sich auf die Gesamtzahl der Tiere einer Haltungsart und gibt die durchschnittlichen Weidestunden eines Jahres gesehen auf alle Tiere wieder. Wenn nur ein Teil der Tiere Zugang zur Weide hat, reduzieren sich die durchschnittlichen Weidestunden je Tier, obwohl einzelne Tiere mehr Weidestunden haben."]
[null,"Beispiel: 30 % bedeutet, dass die Tiere durchschnittlich in 30 % der Stunden eines Jahres auf der Weide stehen und 70 % im Stall. "]
[null,null,"Berechnung: Anzahl Tiere mit Weidezugang * Ø tägliche Weidestunden * Anzahl Tage mit Weidestunden/24 Stunden/365 Tage/Gesamtzahl Tiere der Haltungsart= % Weidestunden eines Jahres“"]

{"sheet":"Tabelle2","index":12,"n_rows":0,"n_cols":0,"rows_kept":0,"cut":false,"hidden":true,"merged":[]}

{"sheet":"Hinweise zum Programm","index":13,"n_rows":12,"n_cols":7,"rows_kept":12,"cut":false,"hidden":true,"merged":[[7,6,8,10]]}
[]
["2018-09-11","mit Lichti","für Biogas wird es eine Zeile \"sonstige Einsatzstoffe\" geben/ diese sonstigen Einsatzstoffe dürfen bis zu 5% der FM betragen"]
["2018-09-11","mit Lichti","Eigenstromanteil: wird mit 9% angesetzt"]
["2018-09-11","mit Lichti","basisdaten werden von der Landtechnik ergänzt"]
[null,null,"mit Gasertrag L / kg org TS"]
[null,null,"Methangehalt "]
[null,null,"org TS"]
[null,null,"Methangewicht ",null,null,null,"kann von Gasertrag und Methangehalt abgeleitet werden"]
[null,null,"CO2 Gewicht"]
[null,null,"Wasser in TS (Gewicht)"]
[null,null,"mittlere Verweildauer in Tagen"]
["2018-09-11","mit Lichti","Abbaurate wird mit verkaufen Gasertrag korrigiert"]

{"sheet":"Tiere2","index":14,"n_rows":90,"n_cols":27,"rows_kept":90,"cut":false,"hidden":true,"merged":[[6,12,6,14],[4,6,4,9],[4,12,4,14],[4,19,4,20],[4,22,4,24],[5,6,5,9],[5,12,5,14],[5,19,5,20],[5,22,5,24]]}
["                     (Stand: Januar 2018)",null,"Im Programm hinterlegte Daten aus Tabelle 4a+b+c"]
[null,null,null,null,null,null,null,null,null,null,null,null,null,null,null,null,null,null,null,null,null,"t/m³"]
[null,"Tiere für Betriebe mit Separation"]
[]
[null,null,"Großvieh-","Nährstoffausscheidung",null,null,"Gülleanfall in m3",null,null,null,"% TS","Einstreu ","Festmist (nach DüV) 5)",null,null,"% TS","Jaucheanfall","Jaucheanfall 4)","% TS","Verluste in %",null,"spez. Gewicht","Einstreu",null,null,"Lager in Monaten Stallmist"]
[null,"Programmname","einheit","kg je mittl.",null,null,"je mittl. Jahresbestand 2)",null,null,null,"Gülle","gering","je mittl. Jahresbestand 2)",null,null,"Mist","in m3 je mittl. ","in m3 je mittl. ","Jauche","Stall- und Lager",null,"Mist","kg je GV und Tag",null,null,"bis 2020","ab 2020"]
[null,"49 Tierartengruppen","nach DüV","Jahresbestand 2)",null,null,null,"TM",null,"nach","nach DüV","(nach DüV)","Anfall in t/Jahr",null,null,"nach DüV","Jahresbest.²)","Jahresbest.²)",null,null,"Mist,","t/m³"]
[null,null,null,"N","P2O5","K2O",0.05,7.4999999999999997E-2,0.1,"DüV 3)","Anfall","kg/Tag","gering","mittel","hoch","Anfall","LfL","nach DüV ",null,"Gülle","Jauche"]
["Rinder"]
[null,"Ackerbetrieb 1), Stallhaltung",null,null," "]
[null,"Weibliche Rinder über 6 Monate bis 1 Jahr ",0.3,37,11,46,12.5,8.3000000000000007,6.2,7.6,8.1999999999999993,2.5,4.5,7.4,8.9,32.200000000000003,2.8,2,1.8,15,30]
[null,"Weibliche Rinder über 1 Jahr bis 2 Jahre",0.7,56,18,69,18.899999999999999,12.6,9.4,11.5,8.1999999999999993,3.7,6.8,11.8,14.6,31.1,4.3,3,1.8,15,30]
[null,"Andere weibliche Rinder über 2 Jahre",1,64,21,78,21.5,14.3,10.7,13.1,8.1999999999999993,4.2,7.8,14,17.5,32.1,4.8,3.4,1.8,15,30]
[null,"Milchkuh (6000 kg Milch)",1,100,36,104,33.799999999999997,22.5,16.899999999999999,19,8.9,4,15,18.600000000000001,23.4,21.7,7.3,6,1.8,15,30]
[null,"Milchkuh (8000 kg Milch)",1,115,42,116,37.299999999999997,24.9,18.600000000000001,20,9.3000000000000007,4,16,19.399999999999999,24.4,21.3,8,6.4,1.8,15,30]
[null,"Milchkuh (10000 kg Milch)",1,133,47,125,39.299999999999997,26.2,19.600000000000001,21,9.4,5,17,20.2,25.4,23.6,7.7,6.8,1.8,15,30]
[null,"Milchkuh (12000 kg Milch)",1,152,52,135,45.3,30.2,22.7,22,10.3,6,17,21,26.4,29.4,7.5,7.2,1.8,15,30]
[null,"Grünlandbetrieb 1), konventionell",null,null," "]
[null,"Weibliche Rinder über 6 Monate bis 1 Jahr ",0.3,47,14,58,12.4,8.3000000000000007,6.2,7.6,8.1999999999999993,2.5,4.5,7.4,8.9,32.200000000000003,3.5,2,1.8,15,30]
[null,"Weibliche Rinder über 1 Jahr bis 2 Jahre",0.7,72,21,94,19,12.7,9.5,11.7,8.1,3.8,6.9,12,14.8,31.1,5.4,3,1.8,15,30]
[null,"Andere weibliche Rinder über 2 Jahre",1,84,23,100,22.2,14.8,11.1,13.7,8.1,4.4000000000000004,8.1,14.5,18.100000000000001,32.1,6.3,3.5,1.8,15,30]
[null,"Milchkuh (6000 kg Milch)",1,109,37,129,36.5,24.3,18.2,19,9.6,4,14.4,18.600000000000001,23.4,24.9,9.6,6,1.8,15,30]
[null,"Milchkuh (8000 kg Milch)",1,124,43,134,38.1,25.4,19,20,9.5,4,15,19.399999999999999,24.4,23.4,9.6999999999999993,6.4,1.8,15,30]
[null,"Milchkuh (10000 kg Milch)",1,141,48,143,40.4,26.9,20.2,21,9.6,5,16,20.2,25.4,26,9.5,6.8,1.8,15,30]
[]
[null,"Grünlandanteil in %",{"$f":"'Betriebe mit Separation'!AU13","v":0},{"$f":"+C26","v":0},{"$f":"+D26","v":0},{"$f":"+E26","v":0},0,{"$f":"+G26","v":0},0,{"$f":"+I26","v":0},{"$f":"+J26","v":0},{"$f":"+J26","v":0},0,0,0,0,{"$f":"+O26","v":0},{"$f":"+Q26","v":0},null,{"$f":"+R26","v":0},0]
[null,"Milchleistung",{"$f":"'Betriebe mit Separation'!B13","v":10000},{"$f":"+C27","v":10000},{"$f":"+D27","v":10000},10000,10000,10000,{"$f":"+H27","v":10000},{"$f":"+I27","v":10000},10000,{"$f":"+J27","v":10000},10000,10000,10000,10000,{"$f":"+O27","v":10000},{"$f":"+Q27","v":10000},null,{"$f":"+R27","v":10000},10000]
[null,"Milchkuh Acker",{"$f":"IF(C27<=6000,C14,IF(AND(C27>6000,C27<=8000),C14+(C15-C14)/2000*(C27-6000),IF(AND(C27>8000,C27<=10000),C15+(C16-C15)/2000*(C27-8000),IF(AND(C27>10000,C27<=12000),C16+(C17-C16)/2000*(C27-10000),C17))))","v":1},{"$f":"IF(D27<=6000,D14,IF(AND(D27>6000,D27<=8000),D14+(D15-D14)/2000*(D27-6000),IF(AND(D27>8000,D27<=10000),D15+(D16-D15)/2000*(D27-8000),IF(AND(D27>10000,D27<=12000),D16+(D17-D16)/2000*(D27-10000),D17))))","v":133},{"$f":"IF(E27<=6000,E14,IF(AND(E27>6000,E27<=8000),E14+(E15-E14)/2000*(E27-6000),IF(AND(E27>8000,E27<=10000),E15+(E16-E15)/2000*(E27-8000),IF(AND(E27>10000,E27<=12000),E16+(E17-E16)/2000*(E27-10000),E17))))","v":47},{"$f":"IF(F27<=6000,F14,IF(AND(F27>6000,F27<=8000),F14+(F15-F14)/2000*(F27-6000),IF(AND(F27>8000,F27<=10000),F15+(F16-F15)/2000*(F27-8000),IF(AND(F27>10000,F27<=12000),F16+(F17-F16)/2000*(F27-10000),F17))))","v":125},{"$f":"IF(G27<=6000,G14,IF(AND(G27>6000,G27<=8000),G14+(G15-G14)/2000*(G27-6000),IF(AND(G27>8000,G27<=10000),G15+(G16-G15)/2000*(G27-8000),IF(AND(G27>10000,G27<=12000),G16+(G17-G16)/2000*(G27-10000),G17))))","v":39.299999999999997},26.2,19.600000000000001,{"$f":"IF(J27<=6000,J14,IF(AND(J27>6000,J27<=8000),J14+(J15-J14)/2000*(J27-6000),IF(AND(J27>8000,J27<=10000),J15+(J16-J15)/2000*(J27-8000),IF(AND(J27>10000,J27<=12000),J16+(J17-J16)/2000*(J27-10000),J17))))","v":21},{"$f":"IF(K27<=6000,K14,IF(AND(K27>6000,K27<=8000),K14+(K15-K14)/2000*(K27-6000),IF(AND(K27>8000,K27<=10000),K15+(K16-K15)/2000*(K27-8000),IF(AND(K27>10000,K27<=12000),K16+(K17-K16)/2000*(K27-10000),K17))))","v":9.4},5,17,20.2,25.4,23.6,7.7,{"$f":"IF(R27<=6000,R14,IF(AND(R27>6000,R27<=8000),R14+(R15-R14)/2000*(R27-6000),IF(AND(R27>8000,R27<=10000),R15+(R16-R15)/2000*(R27-8000),IF(AND(R27>10000,R27<=12000),R16+(R17-R16)/2000*(R27-10000),R17))))","v":6.8},{"$f":"IF(S27<=6000,S14,IF(AND(S27>6000,S27<=8000),S14+(S15-S14)/2000*(S27-6000),IF(AND(S27>8000,S27<=10000),S15+(S16-S15)/2000*(S27-8000),IF(AND(S27>10000,S27<=12000),S16+(S17-S16)/2000*(S27-10000),S17))))","v":1.8},15,{"$f":"IF(U27<=6000,U14,IF(AND(U27>6000,U27<=8000),U14+(U15-U14)/2000*(U27-6000),IF(AND(U27>8000,U27<=10000),U15+(U16-U15)/2000*(U27-8000),IF(AND(U27>10000,U27<=12000),U16+(U17-U16)/2000*(U27-10000),U17))))","v":30}]
[null,"Milchkuh GL",{"$f":"IF(C27<=6000,C22,IF(AND(C27>6000,C27<=8000),C22+(C23-C22)/2000*(C27-6000),IF(AND(C27>8000,C27<=10000),C23+(C24-C23)/2000*(C27-8000),C24)))","v":1},{"$f":"IF(D27<=6000,D22,IF(AND(D27>6000,D27<=8000),D22+(D23-D22)/2000*(D27-6000),IF(AND(D27>8000,D27<=10000),D23+(D24-D23)/2000*(D27-8000),D24)))","v":141},{"$f":"IF(E27<=6000,E22,IF(AND(E27>6000,E27<=8000),E22+(E23-E22)/2000*(E27-6000),IF(AND(E27>8000,E27<=10000),E23+(E24-E23)/2000*(E27-8000),E24)))","v":48},143,40.4,26.9,20.2,21,{"$f":"IF(K27<=6000,K22,IF(AND(K27>6000,K27<=8000),K22+(K23-K22)/2000*(K27-6000),IF(AND(K27>8000,K27<=10000),K23+(K24-K23)/2000*(K27-8000),K24)))","v":9.6},5,16,20.2,25.4,26,9.5,6.8,1.8,15,30]
[]
[null,"Milchkuh ohne Kalb",{"$f":"IF(C$26<=0.65,C28,IF(C$26>=0.85,C29,((0.85-C$26)*5*C28)+((C$26-0.65)*5*C29)))","v":1},{"$f":"IF(D$26<=0.65,D28,IF(D$26>=0.85,D29,((0.85-D$26)*5*D28)+((D$26-0.65)*5*D29)))","v":133},{"$f":"IF(E$26<=0.65,E28,IF(E$26>=0.85,E29,((0.85-E$26)*5*E28)+((E$26-0.65)*5*E29)))","v":47},125,39.299999999999997,26.2,{"$f":"IF(I$26<=0.65,I28,IF(I$26>=0.85,I29,((0.85-I$26)*5*I28)+((I$26-0.65)*5*I29)))","v":19.600000000000001},{"$f":"IF(J$26<=0.65,J28,IF(J$26>=0.85,J29,((0.85-J$26)*5*J28)+((J$26-0.65)*5*J29)))","v":21},{"$f":"IF(K$26<=0.65,K28,IF(K$26>=0.85,K29,((0.85-K$26)*5*K28)+((K$26-0.65)*5*K29)))","v":9.4},5,17,20.2,25.4,23.6,{"$f":"IF(Q$26<=0.65,Q28,IF(Q$26>=0.85,Q29,((0.85-Q$26)*5*Q28)+((Q$26-0.65)*5*Q29)))","v":7.7},6.8,1.8,15,30,0.9,4,7,12,1,2]
[null,"Kälber (Zucht/Mast) bis 6 Monate ",0.3,22,7.6,22.6,7.5,5,3.7,3.3,11.4,1.5,2.7,3.5,4.5999999999999996,38,1.7,1.2,1.8,15,30,0.9,5,7,12,1,2]
[null,"Weibliche Rinder über 6 Monate bis 1 Jahr ",{"$f":"IF(C$26<=0.65,C11,IF(C$26>=0.85,C19,((0.85-C$26)*5*C11)+((C$26-0.65)*5*C19)))","v":0.3},{"$f":"IF(D$26<=0.65,D11,IF(D$26>=0.85,D19,((0.85-D$26)*5*D11)+((D$26-0.65)*5*D19)))","v":37},{"$f":"IF(E$26<=0.65,E11,IF(E$26>=0.85,E19,((0.85-E$26)*5*E11)+((E$26-0.65)*5*E19)))","v":11},46,12.5,8.3000000000000007,6.2,7.6,{"$f":"IF(K$26<=0.65,K11,IF(K$26>=0.85,K19,((0.85-K$26)*5*K11)+((K$26-0.65)*5*K19)))","v":8.1999999999999993},2.5,4.5,7.4,8.9,{"$f":"IF(P$26<=0.65,P11,IF(P$26>=0.85,P19,((0.85-P$26)*5*P11)+((P$26-0.65)*5*P19)))","v":32.200000000000003},2.8,2,1.8,15,30,0.9,8.1999999999999993,7,12,1,2]
[null,"Weibliche Rinder über 1 Jahr bis 2 Jahre",{"$f":"IF(C$26<=0.65,C12,IF(C$26>=0.85,C20,((0.85-C$26)*5*C12)+((C$26-0.65)*5*C20)))","v":0.7},56,18,69,18.899999999999999,12.6,9.4,11.5,{"$f":"IF(K$26<=0.65,K12,IF(K$26>=0.85,K20,((0.85-K$26)*5*K12)+((K$26-0.65)*5*K20)))","v":8.1999999999999993},3.7,6.8,11.8,14.6,{"$f":"IF(P$26<=0.65,P12,IF(P$26>=0.85,P20,((0.85-P$26)*5*P12)+((P$26-0.65)*5*P20)))","v":31.1},4.3,3,1.8,15,30,0.9,5.3,7,12,1,2]
[null,"Andere weibliche Rinder über 2 Jahre",1,64,21,78,21.5,14.3,10.7,13.1,{"$f":"IF(K$26<=0.65,K13,IF(K$26>=0.85,K21,((0.85-K$26)*5*K13)+((K$26-0.65)*5*K21)))","v":8.1999999999999993},4.2,7.8,14,17.5,{"$f":"IF(P$26<=0.65,P13,IF(P$26>=0.85,P21,((0.85-P$26)*5*P13)+((P$26-0.65)*5*P21)))","v":32.1},4.8,{"$f":"IF(R$26<=0.65,R13,IF(R$26>=0.85,R21,((0.85-R$26)*5*R13)+((R$26-0.65)*5*R21)))","v":3.4},{"$f":"IF(S$26<=0.65,S13,IF(S$26>=0.85,S21,((0.85-S$26)*5*S13)+((S$26-0.65)*5*S21)))","v":1.8},15,30,0.9,4.2,7,12,1,2]
[null,"Männl. Rinder über 6 Monate bis 1 Jahr",0.3,37.5,14.9,31.3,11.7,7.8,5.9,7,8.3000000000000007,1,2.9,6.4,8.3000000000000007,31.3,2.2999999999999998,2.7,1,15,30,0.9,3.3,7,12,1,2]
[null,"Männl. Rinder über 1 Jahr bis zwei Jahre (Mast)",0.7,54.5,20.5,45.5,17.100000000000001,11.4,8.6,9.6999999999999993,8.8000000000000007,1.4,4.2,9.5,12.7,35,3.4,3.9,1.8,15,30,0.9,2.1,7,12,1,2]
[null,"Männliche Rinder über 2 Jahre, Zuchtbullen ",1,64,21,78,21.5,14.3,10.7,13.1,8.1999999999999993,4.2,7.8,14,17.5,32.1,4.8,3.4,1.8,15,30,0.9,4.2,7,12,1,2]
[null,"Mutterkuh mit Kalb bis 6 Monate",1,105,31,129,32.200000000000003,21.4,16.100000000000001,20,8,4,15.8,19.600000000000001,24.4,18.899999999999999,7.6,6,1.8,15,30,0.9,4,7,12,1,2]
[null,"Zuchtsauen mit 25 Ferkel bis 8 kg, Standard",0.3,27.3,12.6,12.8,8.1,5.7,3.8,4.2,5.5,2,3.6,4.3,5.5,25.4,1.2,1.3,1.8,20,30,0.9,6.7,7,12,1,2]
[null,"Zuchtsauen mit 25 Ferkel bis 8 kg, N-/P-reduziert",0.3,24.1,11.2,11.6,7.2,5,3.4,4.2,5.5,2,3.6,4.3,5.5,24.4,1.2,1.3,1.8,20,30,0.9,6.7,7,12,1,2]
[null,"Zuchtsauen mit 28 Ferkel bis 8 kg, Standard",0.3,27.5,12.8,13.1,8.1999999999999993,5.8,3.8,4.4000000000000004,5.5,2,3.7,4.5,5.7,25.5,1.2,1.4,1.8,20,30,0.9,6.7,7,12,1,2]
[null,"Zuchtsauen mit 28 Ferkel bis 8 kg, N-/P-reduziert",0.3,24.2,11.2,11.8,7.4,5.2,3.4,4.4000000000000004,5.5,2,3.7,4.5,5.7,24.6,1.2,1.4,1.8,20,30,0.9,6.7,7,12,1,2]
[null,"Zuchtsauen mit 25 Ferkel bis 28 kg, Standard",0.3,41.1,17.899999999999999,21.1,11.9,8.3000000000000007,5.5,6.5,5.5,3,5.2,6.1,7.8,26,1.2,2.4,1.8,20,30,0.9,10,7,12,1,2]
[null,"Zuchtsauen mit 25 Ferkel bis 28 kg, N-/P-reduziert",0.3,36.799999999999997,16,19.5,10.9,7.6,5.0999999999999996,6.5,5.5,3,5.2,6.1,7.8,25.2,1.2,2.4,1.8,20,30,0.9,10,7,12,1,2]
[null,"Zuchtsauen mit 28 Ferkel bis 28 kg, Standard",0.3,42.9,18.600000000000001,21.3,12.5,8.6999999999999993,5.8,7,5.5,3,5.5,6.5,8.3000000000000007,25.9,1.2,2.6,1.8,20,30,0.9,10,7,12,1,2]
[null,"Zuchtsauen mit 28 Ferkel bis 28 kg, N-/P-reduziert",0.3,38.4,16.7,20.7,11.5,8,5.3,7,5.5,3,5.5,6.5,8.3000000000000007,25.1,1.2,2.6,1.8,20,30,0.9,10,7,12,1,2]
[null,"Ferkel von 8 bis 28 kg, Standard",0.02,4.5,1.64,2.7,1.3,0.9,0.6,0.7,5.5,0.2,0.4,0.6,0.8,25.6,0.15,0.4,1.8,20,30,0.9,10,7,12,1,2]
[null,"Ferkel von 8 bis 28 kg, N-/P-reduziert",0.02,4.2,1.61,2.6,1.2,0.8,0.6,0.7,5.5,0.2,0.4,0.6,0.8,25.1,0.15,0.4,1.8,20,30,0.9,10,7,12,1,2]
[null,"Mastschweine (750 g TZ), Jungsauenaufzucht, Standard",0.16,14.1,6,7,3.8,2.7,1.8,1.8,5.5,0.5,1.3,1.9,2.6,22.9,0.7,0.7,1.8,20,30,0.9,3.1,7,12,1,2]
[null,"Mastschweine (750 g TZ), Jungsauenaufzucht, N-/P-reduziert",0.16,13.4,5.0999999999999996,6.8,3.9,2.7,1.8,1.8,5.5,0.5,1.3,1.9,2.6,23,0.7,0.7,1.8,20,30,0.9,3.1,7,12,1,2]
[null,"Mastschweine (850 g TZ), Standard",0.16,15.4,6.3,7.5,4.0999999999999996,2.9,1.9,1.9,5.5,0.5,1.4,1.9,2.6,22.1,0.7,0.8,1.8,20,30,0.9,3.1,7,12,1,2]
[null,"Mastschweine (850 g TZ), N-/P-reduziert",0.16,14.78,5.4,7.3,4.2,2.9,1.9,1.9,5.5,0.5,1.4,1.9,2.6,22.2,0.7,0.8,1.8,20,30,0.9,3.1,7,12,1,2]
[null,"Zuchteber",0.3,22.1,9.6,8.8000000000000007,4.5,3.2,2.1,3.6,5.5,1,2.5,3.6,4.9000000000000004,19.8,1,1.5,1.8,20,30,0.9,3.3,7,12,1,2]
[null,"Legehennen über 16 Wochen, Standard",4.0000000000000001E-3,0.85,0.44,0.38,null,null,null,null,null,3.7,{"$f":"24.4817073170732/1000","v":2.4481707317073203E-2},2.4481707317073203E-2,2.4481707317073203E-2,50,0,0,null,40,40,0.7,0.93,0.93,0.93,5,5]
[null,"Legehennen über 16 Wochen, N-/P-reduziert",4.0000000000000001E-3,0.81,0.39,0.38,null,null,null,null,null,3.7,2.4481707317073203E-2,2.4481707317073203E-2,2.4481707317073203E-2,50,0,0,null,40,40,0.7,0.93,0.93,0.93,5,5]
[null,"Junghennen bis 16 Wochen, Standard",4.0000000000000001E-3,0.32,0.21,0.15,null,null,null,null,null,2.2999999999999998,{"$f":"8.44907407407407/1000","v":8.4490740740740707E-3},8.4490740740740707E-3,8.4490740740740707E-3,50,0,0,null,40,40,0.7,0.59,0.59,0.59,5,5]
[null,"Junghennen bis 16 Wochen, N-/P-reduziert",4.0000000000000001E-3,0.3,0.18,0.15,null,null,null,null,null,2.2999999999999998,8.4490740740740707E-3,8.4490740740740707E-3,8.4490740740740707E-3,50,0,0,null,40,40,0.7,0.59,0.59,0.59,5,5]
[null,"Masthähnchen, Standard",4.0000000000000001E-3,0.52,0.25,0.28000000000000003,null,null,null,null,null,1.8,{"$f":"14.8081140350877/1000","v":1.4808114035087699E-2},1.4808114035087699E-2,1.4808114035087699E-2,60,0,0,null,40,40,0.7,0.46,0.46,0.46,5,5]
[null,"Masthähnchen, N-/P-reduziert",4.0000000000000001E-3,0.48,0.23,0.28000000000000003,null,null,null,null,null,1.8,1.4808114035087699E-2,1.4808114035087699E-2,1.4808114035087699E-2,60,0,0,null,40,40,0.7,0.46,0.46,0.46,5,5]
[null,"Putenhähne bis 21 Wochen Mast, Standard",4.0000000000000001E-3,2.42,1.36,1.17,null,null,null,null,null,21.6,{"$f":"54.625850340136/1000","v":5.4625850340135999E-2},5.4625850340135999E-2,5.4625850340135999E-2,50,0,0,null,40,40,0.7,5.41,5.41,5.41,5,5]
[null,"Putenhähne bis 21 Wochen Mast, N-/P-reduziert",4.0000000000000001E-3,2.25,1.06,1.1100000000000001,null,null,null,null,null,21.6,5.4625850340135999E-2,5.4625850340135999E-2,5.4625850340135999E-2,50,0,0,null,40,40,0.7,5.41,5.41,5.41,5,5]
[null,"Putenhennen bis 16 Wochen Mast, Standard",4.0000000000000001E-3,1.71,0.93,0.96,null,null,null,null,null,17.399999999999999,{"$f":"60.8333333333333/1000","v":6.0833333333333302E-2},6.0833333333333302E-2,6.0833333333333302E-2,50,0,0,null,40,40,0.7,4.34,4.34,4.34,5,5]
[null,"Putenhennen bis 16 Wochen Mast, N-/P-reduziert",4.0000000000000001E-3,1.62,0.66,0.92,null,null,null,null,null,17.399999999999999,6.0833333333333302E-2,6.0833333333333302E-2,6.0833333333333302E-2,50,0,0,null,40,40,0.7,4.34,4.34,4.34,5,5]
[null,"Gänse Spätmast/Weidemast",4.0000000000000001E-3,1.87,0.57999999999999996,1.79,null,null,null,null,null,53.3,{"$f":"105.328571428571/1000","v":0.10532857142857099},{"$f":"105.328571428571/1000","v":0.10532857142857099},{"$f":"105.328571428571/1000","v":0.10532857142857099},30,0,0,null,40,40,0.7,13.33,13.33,13.33,5,5]
[null,"Pekingenten",4.0000000000000001E-3,0.71,0.4,0.38,null,null,null,null,null,6.4,{"$f":"67.3846153846154/1000","v":6.7384615384615404E-2},{"$f":"67.3846153846154/1000","v":6.7384615384615404E-2},{"$f":"67.3846153846154/1000","v":6.7384615384615404E-2},30,0,0,null,40,40,0.7,1.6,1.6,1.6,5,5]
[null,"Flugenten",4.0000000000000001E-3,0.63,0.4,0.31,null,null,null,null,null,6,{"$f":"49.9702380952381/1000","v":4.9970238095238102E-2},{"$f":"49.9702380952381/1000","v":4.9970238095238102E-2},{"$f":"49.9702380952381/1000","v":4.9970238095238102E-2},30,0,0,null,40,40,0.7,1.49,1.49,1.49,5,5]
[null,"Perlhuhn",3.0000000000000001E-3,0.64,0.28000000000000003,0.21,null,null,null,null,null,1,{"$f":"9.4/1000","v":9.4000000000000004E-3},{"$f":"9.4/1000","v":9.4000000000000004E-3},{"$f":"9.4/1000","v":9.4000000000000004E-3},30,0,0,null,40,40,0.7,0.33,0.33,0.33,5,5]
[null,"Lämmer, Schafe bis 1 Jahr, konventionell",0.1,5.9,1.9,6.5,null,null,null,null,null,0.2,0.4,0.4,0.4,30,0,0,null,45,45,0.9,4,4,4,1,2]
[null,"Mutterschafe (ohne Lamm), andere Schafe, konventionell",0.1,14.2,4.3,15.5,null,null,null,null,null,0.4,1.1000000000000001,1.1000000000000001,1.1000000000000001,30,0,0,null,45,45,0.9,4,4,4,1,2]
[null,"Milchziegen mit Lämmer, andere Ziegen",0.1,15.2,5.7,18,null,null,null,null,null,0.6,1,1,1,30,0,0,null,45,45,0.9,6,6,6,1,2]
[null,"Pferde bis ein Jahr, Ponys und Kleinpferde",0.7,33.4,15.3,51,null,null,null,null,null,4,6.8,6.8,6.8,30,0,0,null,45,45,0.7,5.7,5.7,5.7,1,2]
[null,"Pferde über ein Jahr",0.7,53.6,23.4,67,null,null,null,null,null,6,11.2,11.2,11.2,30,0,0,null,45,45,0.7,8.6,8.6,8.6,1,2]
[null,"Kaninchenaufz. bis 3 kg (Häsin + 52 Jungtiere je Jahr)",3.0000000000000001E-3,9.6999999999999993,5.4,8.3000000000000007,null,null,null,null,null,0.3,0.8,0.8,0.8,30,0,0,null,45,45,0.9,106.7,106.7,106.7,5,5]
[null,"Damwild Alttier",0.15,15.8,4.5,17.600000000000001,null,null,null,null,null,null,null,null,null,null,0,0,null,45,45,0.9,null,null,null,1,2]
[null,"Damwild Kalb",0.05,5.8,1.7,6.4,null,null,null,null,null,null,null,null,null,null,null,null,null,45,45,0.9,null,null,null,1,2]
[null,"Rotwild Alttier",0.3,22.7,7.2,27,null,null,null,null,null,null,null,null,null,null,0,0,null,45,45,0.9,null,null,null,1,2]
[null,"Rotwild Kalb",0.1,8.3000000000000007,2.7,9.9,null,null,null,null,null,null,null,null,null,null,null,null,null,45,45,0.9,null,null,null,1,2]
[null,"Lama/Alpaka",0.3,22.7,7.2,27,null,null,null,null,null,2,3.4,3.4,3.4,30,0,0,null,45,45,0.9,6.7,6.7,6.7,1,2]
[]
[]
[]
[null,null,null," --"]
[null,null,null,"Rinder"]
[null,null,null,"Schweine"]
[null,null,null,"Geflügel"]
[null,null,null,"andere Tiere "]
[]
[]
[null,null,null,"Tierart wählen"]

{"sheet":"Lagerr. GL. rote Gebiete","index":15,"n_rows":42,"n_cols":29,"rows_kept":42,"cut":false,"hidden":true,"merged":[[5,3,5,6]]}
["Güllelager"]
[]
[null,null,null,null,null,null,null,null,null,null,null,null,"Anfall/Jahr",null,"Monat"]
[null,null,null,null,null,null,null,null,null,null,null,null,"je ha in kg N",null,1,2,3,4,5,6,7,8,9,10,11,12,"Summe","%"]
[null,null,null,null,null,null,null,null,null,null,null,null,170,null,{"$f":"+M5/12","v":14.166666666666666},{"$f":"+O5","v":14.166666666666666},{"$f":"+P5","v":14.166666666666666},14.166666666666666,14.166666666666666,14.166666666666666,14.166666666666666,14.166666666666666,14.166666666666666,14.166666666666666,14.166666666666666,14.166666666666666,{"$f":"SUM(O5:Z5)","v":170},100]
[null,null,null,"Düngung flüssiger org. Dünger"]
[null,null,null,"optimale Düngung","je nach Fruchtfolge","Acker nicht","keine Düngung",null,null,null,null,null,"Acker","Lager",{"$f":"+O5","v":14.166666666666666},{"$f":"+P5","v":14.166666666666666},null,null,null,{"$f":"+T5","v":14.166666666666666},14.166666666666666,14.166666666666666,14.166666666666666,14.166666666666666,14.166666666666666,14.166666666666666,{"$f":"SUM(O7:Z7)","v":127.50000000000001},{"$f":"+AA7/AA$5*100","v":75.000000000000014}]
[null,null,null,"Acker und GL","Acker/GL","GL ggf. möglich","möglich",null,null,null,null,null,null,"Ausgebracht",null,null,14.2,14.2,14.2]
[null,null,"Monate",3,3,1.5,4.5]
[null,null,null,null,null,null,null,null,null,null,null,null,"Grünland","Lager",{"$f":"+O7","v":14.166666666666666},{"$f":"+P7","v":14.166666666666666},null,null,null,null,null,null,null,null,{"$f":"+Y7","v":14.166666666666666},{"$f":"+Z7","v":14.166666666666666},{"$f":"SUM(O10:Z10)","v":56.666666666666664},{"$f":"+AA10/AA$5*100","v":33.333333333333329}]
[null,null,"Acker",null,null,null,null,null,null,null,null,null,null,"Ausgebracht",null,null,14.2,14.2,14.2,14.2,14.2,14.2,14.2,14.2]
[null,null,"Grünland"]
[]
[]
[]
[null,null,"Gülleabgabe",null,null,null,null,null," --> 9 Monate Lagerraum",null,null,null,"Anfall/Jahr",null,"Monat"]
[null,null,"Acker eigene Ausbringflächen",null,null,null,null,null," --> 6 Monate Lagerraum",null,null,null,"je ha",null,1,2,3,4,5,6,7,8,9,10,11,12,"Summe","%"]
[null,null,"Grünland eigene Ausbringflächen",null,null,null,null,null," --> 4,5 Monate Lagerraum",null,null,null,340,null,{"$f":"+M18/12","v":28.333333333333332},{"$f":"+O18","v":28.333333333333332},{"$f":"+P18","v":28.333333333333332},28.333333333333332,28.333333333333332,28.333333333333332,28.333333333333332,28.333333333333332,28.333333333333332,28.333333333333332,28.333333333333332,28.333333333333332,{"$f":"SUM(O18:Z18)","v":340},100]
[]
[null,null,null,null,"Monate","%"]
[null,null,"Anfall Betrieb",340,null,100,null,null,null,null,null,null,"Acker","Lager",{"$f":"+O18","v":28.333333333333332},{"$f":"+P18","v":28.333333333333332},null,null,null,{"$f":"+T18","v":28.333333333333332},28.333333333333332,28.333333333333332,28.333333333333332,28.333333333333332,28.333333333333332,28.333333333333332,{"$f":"SUM(O21:Z21)","v":255.00000000000003},{"$f":"+AA21/AA$18*100","v":75.000000000000014}]
[null,null,"Gülleabgabe",170,9,{"$f":"+D22/D$21","v":0.5},null,null,null,null,null,null,null,"Ausgebracht",null,null,28.3,28.3,28.3,null,null,null,null,null,null,null,{"$f":"SUM(O22:Z22)","v":84.9}]
[null,null,"Acker eigene Ausbringflächen",0,6,{"$f":"+D23/D$21","v":0}]
[null,null,"Grünland eigene Ausbringflächen",{"$f":"+D21-D22-D23","v":170},4.5,{"$f":"+D24/D$21","v":0.5}]
[null,null,null,{"$f":"IF((D22+D23+D24)=D21,\" \",\"Fehler\")","v":" "},{"$f":"+F22*E22+F23*E23+F24*E24","v":6.75},null,null,null,null,null,null,null,"Grünland","Lager",{"$f":"+O21","v":28.333333333333332},{"$f":"+P21","v":28.333333333333332},{"$f":"IF(Q18>(170/8),Q18-(170/8),0)","v":7.0833333333333321},7.0833333333333321,7.0833333333333321,7.0833333333333321,7.0833333333333321,7.0833333333333321,7.0833333333333321,7.0833333333333321,{"$f":"+Y21","v":28.333333333333332},{"$f":"+Z21","v":28.333333333333332},{"$f":"SUM(O25:Z25)","v":169.99999999999997},{"$f":"+AA25/AA$18*100","v":49.999999999999986}]
[null,null,null,null,null,null,null,null,null,null,null,null,null,"Ausgebracht",null,null,{"$f":"+Q18-Q25","v":21.25},{"$f":"+R18-R25","v":21.25},21.25,21.25,21.25,21.25,21.25,21.25,null,null,{"$f":"SUM(O26:Z26)","v":170}]
[]
[]
[]
[]
[null,null,null,null,null,null,null,null,null,null,null,null,"Anfall/Jahr",null,"Monat"]
[null,null,null,null,null,null,null,null,null,null,null,null,"je ha",null,1,2,3,4,5,6,7,8,9,10,11,12,"Summe","%","Monate"]
[null,null,null,null,null,null,null,null,null,null,null,null,170,null,{"$f":"+M33/12","v":14.166666666666666},{"$f":"+O33","v":14.166666666666666},14.166666666666666,14.166666666666666,14.166666666666666,14.166666666666666,14.166666666666666,14.166666666666666,14.166666666666666,14.166666666666666,14.166666666666666,14.166666666666666,{"$f":"SUM(O33:Z33)","v":170},100]
[]
[]
[null,null,null,null,null,null,null,null,null,null,0,null,null,"Lager",{"$f":"+O33+Z36-O38","v":-14.166666666666442},{"$f":"+P33+O36-P38","v":2.2382096176443156E-13},{"$f":"+Q33+K36-Q38","v":-28.333333333333286},{"$f":"+R33+Q36-R38","v":-56.666666666666572},-84.999999999999858,-84.999999999999829,-84.999999999999801,-84.999999999999773,-70.833333333333101,-56.666666666666437,-42.499999999999773,-28.333333333333108,{"$f":"MIN(O36:Z36)","v":-84.999999999999858}]
[null,null,null,null,null,null,null,null,null,null,null,null,"Lager",{"$f":"+AA36*-1","v":84.999999999999858},{"$f":"+O36+$N$37","v":70.833333333333414},{"$f":"+P36+$N$37","v":85.000000000000085},56.666666666666572,28.333333333333286,0,0,0,0,14.166666666666757,28.333333333333421,42.500000000000085,56.66666666666675,{"$f":"MAX(O37:Z37)","v":85.000000000000085},{"$f":"+AA37/M33","v":0.50000000000000056},{"$f":"12*AB37","v":6.0000000000000071}]
[null,null,null,null,null,null,null,null,null,null,null,null,null,"Ausgebracht/Verkauf",{"$f":"SUM(O40:O42)","v":0},{"$f":"SUM(P40:P42)","v":0},42.49999999999995,42.49999999999995,42.49999999999995,14.16666666666665,14.16666666666665,14.16666666666665,0,0,0,0,{"$f":"SUM(O38:Z38)","v":169.99999999999983}]
[]
[null,null,null,null,null,null,null,null,null,null,null,null,null,"Verkauf",null,null,{"$f":"+K36/3","v":0},{"$f":"+Q40","v":0},{"$f":"+R40","v":0}]
[null,null,null,null,null,null,null,null,null,null,null,"Fläche",1,"Acker",null,null,{"$f":"28.3333333333333*1.5*$M$41","v":42.49999999999995},{"$f":"28.3333333333333*1.5*$M$41","v":42.49999999999995},{"$f":"28.3333333333333*1.5*$M$41","v":42.49999999999995},{"$f":"28.3333333333333/2*$M$41","v":14.16666666666665},{"$f":"28.3333333333333/2*$M$41","v":14.16666666666665},{"$f":"28.3333333333333/2*$M$41","v":14.16666666666665},null,null,null,null,{"$f":"SUM(O41:Z41)","v":169.99999999999983}]
[null,null,null,null,null,null,null,null,null,null,null,null,0,"GL",null,null,{"$f":"35*$M$42","v":0},{"$f":"36*$M$42","v":0},{"$f":"35*$M$42","v":0},{"$f":"22.5*$M$42","v":0},{"$f":"17.5*$M$42","v":0},{"$f":"10*$M$42","v":0},{"$f":"9*$M$42","v":0},{"$f":"5*$M$42","v":0},0,null,{"$f":"SUM(O42:Z42)","v":0}]

{"sheet":"Tabelle3","index":16,"n_rows":0,"n_cols":0,"rows_kept":0,"cut":false,"hidden":true,"merged":[]}

{"sheet":"Niederschläge","index":17,"n_rows":98,"n_cols":12,"rows_kept":98,"cut":false,"hidden":true,"merged":[]}
["LKR_txt","lkrname",null,"MEAN","mm"]
[161,"Ingolstadt","Ingolstadt",709.29411764700001,"mm",null,{"$f":"LEFT('Berech. Lagerraum flüssig+fest'!$P$9,3)","v":"0"},{"$f":"+G2","v":"0"},{"$f":"VALUE(H2)","v":0},{"$f":"IF(I2=A2,1,0)","v":0},{"$f":"IF(J2>0,D2,0)","v":0}]
[162,"M┬ünchen","München",993.33224755699996,"mm",null,{"$f":"LEFT('Berech. Lagerraum flüssig+fest'!$P$9,3)","v":"0"},{"$f":"+G3","v":"0"},{"$f":"VALUE(H3)","v":0},{"$f":"IF(I3=A3,1,0)","v":0},{"$f":"IF(J3>0,D3,0)","v":0}]
[163,"Rosenheim","Rosenheim",1146.28571429,"mm",null,{"$f":"LEFT('Berech. Lagerraum flüssig+fest'!$P$9,3)","v":"0"},"0",0,0,0]
[171,"AltÔÇØtting","Altötting",956.47879858700003,"mm",null,{"$f":"LEFT('Berech. Lagerraum flüssig+fest'!$P$9,3)","v":"0"},"0",0,0,0]
[172,"Berchtesgadener Land","Berchtesgadener Land",1877.54655381,"mm",null,{"$f":"LEFT('Berech. Lagerraum flüssig+fest'!$P$9,3)","v":"0"},"0",0,0,0]
[173,"Bad TÔÇØlz-Wolfratshausen","Bad Tölz-Wolfratshausen",1624.00090662,"mm",null,{"$f":"LEFT('Berech. Lagerraum flüssig+fest'!$P$9,3)","v":"0"},"0",0,0,0]
[174,"Dachau","Dachau",900.56325823199995,"mm",null,{"$f":"LEFT('Berech. Lagerraum flüssig+fest'!$P$9,3)","v":"0"},"0",0,0,0]
[175,"Ebersberg","Ebersberg",1074.52432432,"mm",null,{"$f":"LEFT('Berech. Lagerraum flüssig+fest'!$P$9,3)","v":"0"},"0",0,0,0]
[176,"EichstÔÇ×tt","Eichstätt",790.45349794200001,"mm",null,{"$f":"LEFT('Berech. Lagerraum flüssig+fest'!$P$9,3)","v":"0"},"0",0,0,0]
[177,"Erding","Erding",925.05214368500003,"mm",null,{"$f":"LEFT('Berech. Lagerraum flüssig+fest'!$P$9,3)","v":"0"},"0",0,0,0]
[178,"Freising","Freising",853.45375000000001,"mm",null,{"$f":"LEFT('Berech. Lagerraum flüssig+fest'!$P$9,3)","v":"0"},"0",0,0,0]
[179,"F┬ürstenfeldbruck","Fürstenfeldbruck",970.38268792700001,"mm",null,{"$f":"LEFT('Berech. Lagerraum flüssig+fest'!$P$9,3)","v":"0"},"0",0,0,0]
[180,"Garmisch-Partenkirchen","Garmisch-Partenkirchen",1685.7917505,"mm",null,{"$f":"LEFT('Berech. Lagerraum flüssig+fest'!$P$9,3)","v":"0"},"0",0,0,0]
[181,"Landsberg am Lech","Landsberg am Lech",1040.00625782,"mm",null,{"$f":"LEFT('Berech. Lagerraum flüssig+fest'!$P$9,3)","v":"0"},"0",0,0,0]
[182,"Miesbach","Miesbach",1732.1895953799999,"mm",null,{"$f":"LEFT('Berech. Lagerraum flüssig+fest'!$P$9,3)","v":"0"},"0",0,0,0]
[183,"M┬ühldorf a.Inn","Mühldorf a.Inn",947.93034825899997,"mm",null,{"$f":"LEFT('Berech. Lagerraum flüssig+fest'!$P$9,3)","v":"0"},"0",0,0,0]
[184,"M┬ünchen","München",1087.5848214299999,"mm",null,{"$f":"LEFT('Berech. Lagerraum flüssig+fest'!$P$9,3)","v":"0"},"0",0,0,0]
[185,"Neuburg-Schrobenhausen","Neuburg-Schrobenhausen",767.98501362399998,"mm",null,{"$f":"LEFT('Berech. Lagerraum flüssig+fest'!$P$9,3)","v":"0"},"0",0,0,0]
[186,"Pfaffenhofen a.d.Ilm","Pfaffenhofen a.d.Ilm",829.53289473699999,"mm",null,{"$f":"LEFT('Berech. Lagerraum flüssig+fest'!$P$9,3)","v":"0"},"0",0,0,0]
[187,"Rosenheim","Rosenheim",1283.69386332,"mm",null,{"$f":"LEFT('Berech. Lagerraum flüssig+fest'!$P$9,3)","v":"0"},"0",0,0,0]
[188,"Starnberg","Starnberg",1092.4613821099999,"mm",null,{"$f":"LEFT('Berech. Lagerraum flüssig+fest'!$P$9,3)","v":"0"},"0",0,0,0]
[189,"Traunstein","Traunstein",1453.22996743,"mm",null,{"$f":"LEFT('Berech. Lagerraum flüssig+fest'!$P$9,3)","v":"0"},"0",0,0,0]
[190,"Weilheim-Schongau","Weilheim-Schongau",1219.59400826,"mm",null,{"$f":"LEFT('Berech. Lagerraum flüssig+fest'!$P$9,3)","v":"0"},"0",0,0,0]
[261,"Landshut","Landshut",808.28125,"mm",null,{"$f":"LEFT('Berech. Lagerraum flüssig+fest'!$P$9,3)","v":"0"},"0",0,0,0]
[262,"Passau","Passau",921.73134328399999,"mm",null,{"$f":"LEFT('Berech. Lagerraum flüssig+fest'!$P$9,3)","v":"0"},"0",0,0,0]
[263,"Straubing","Straubing",751.43283582100003,"mm",null,{"$f":"LEFT('Berech. Lagerraum flüssig+fest'!$P$9,3)","v":"0"},"0",0,0,0]
[271,"Deggendorf","Deggendorf",1020.38183935,"mm",null,{"$f":"LEFT('Berech. Lagerraum flüssig+fest'!$P$9,3)","v":"0"},"0",0,0,0]
[272,"Freyung-Grafenau","Freyung-Grafenau",1187.78389399,"mm",null,{"$f":"LEFT('Berech. Lagerraum flüssig+fest'!$P$9,3)","v":"0"},"0",0,0,0]
[273,"Kelheim","Kelheim",786.32429906499999,"mm",null,{"$f":"LEFT('Berech. Lagerraum flüssig+fest'!$P$9,3)","v":"0"},"0",0,0,0]
[274,"Landshut","Landshut",839.50480413900004,"mm",null,{"$f":"LEFT('Berech. Lagerraum flüssig+fest'!$P$9,3)","v":"0"},"0",0,0,0]
[275,"Passau","Passau",963.59004584199999,"mm",null,{"$f":"LEFT('Berech. Lagerraum flüssig+fest'!$P$9,3)","v":"0"},"0",0,0,0]
[276,"Regen","Regen",1219.77663934,"mm",null,{"$f":"LEFT('Berech. Lagerraum flüssig+fest'!$P$9,3)","v":"0"},"0",0,0,0]
[277,"Rottal-Inn","Rottal-Inn",917.35803432099999,"mm",null,{"$f":"LEFT('Berech. Lagerraum flüssig+fest'!$P$9,3)","v":"0"},"0",0,0,0]
[278,"Straubing-Bogen","Straubing-Bogen",852.15544472199997,"mm",null,{"$f":"LEFT('Berech. Lagerraum flüssig+fest'!$P$9,3)","v":"0"},"0",0,0,0]
[279,"Dingolfing-Landau","Dingolfing-Landau",828.14431818200001,"mm",null,{"$f":"LEFT('Berech. Lagerraum flüssig+fest'!$P$9,3)","v":"0"},"0",0,0,0]
[361,"Amberg","Amberg",737.17307692300005,"mm",null,{"$f":"LEFT('Berech. Lagerraum flüssig+fest'!$P$9,3)","v":"0"},"0",0,0,0]
[362,"Regensburg","Regensburg",694.45679012300002,"mm",null,{"$f":"LEFT('Berech. Lagerraum flüssig+fest'!$P$9,3)","v":"0"},"0",0,0,0]
[363,"Weiden i.d.OPf.","Weiden i.d.OPf.",756.59154929600004,"mm",null,{"$f":"LEFT('Berech. Lagerraum flüssig+fest'!$P$9,3)","v":"0"},"0",0,0,0]
[371,"Amberg-Sulzbach","Amberg-Sulzbach",831.51269841299995,"mm",null,{"$f":"LEFT('Berech. Lagerraum flüssig+fest'!$P$9,3)","v":"0"},"0",0,0,0]
[372,"Cham","Cham",884.47173620499996,"mm",null,{"$f":"LEFT('Berech. Lagerraum flüssig+fest'!$P$9,3)","v":"0"},"0",0,0,0]
[373,"Neumarkt i.d.OPf.","Neumarkt i.d.OPf.",866.47803425200004,"mm",null,{"$f":"LEFT('Berech. Lagerraum flüssig+fest'!$P$9,3)","v":"0"},"0",0,0,0]
[374,"Neustadt a.d.Waldnaab","Neustadt a.d.Waldnaab",824.30959097300001,"mm",null,{"$f":"LEFT('Berech. Lagerraum flüssig+fest'!$P$9,3)","v":"0"},"0",0,0,0]
[375,"Regensburg","Regensburg",765.89771101600002,"mm",null,{"$f":"LEFT('Berech. Lagerraum flüssig+fest'!$P$9,3)","v":"0"},"0",0,0,0]
[376,"Schwandorf","Schwandorf",783.60286103500005,"mm",null,{"$f":"LEFT('Berech. Lagerraum flüssig+fest'!$P$9,3)","v":"0"},"0",0,0,0]
[377,"Tirschenreuth","Tirschenreuth",859.69237918199997,"mm",null,{"$f":"LEFT('Berech. Lagerraum flüssig+fest'!$P$9,3)","v":"0"},"0",0,0,0]
[461,"Bamberg","Bamberg",682.375,"mm",null,{"$f":"LEFT('Berech. Lagerraum flüssig+fest'!$P$9,3)","v":"0"},"0",0,0,0]
[462,"Bayreuth","Bayreuth",810.65671641799997,"mm",null,{"$f":"LEFT('Berech. Lagerraum flüssig+fest'!$P$9,3)","v":"0"},"0",0,0,0]
[463,"Coburg","Coburg",802.47826086999999,"mm",null,{"$f":"LEFT('Berech. Lagerraum flüssig+fest'!$P$9,3)","v":"0"},"0",0,0,0]
[464,"Hof","Hof",774.92857142900004,"mm",null,{"$f":"LEFT('Berech. Lagerraum flüssig+fest'!$P$9,3)","v":"0"},"0",0,0,0]
[471,"Bamberg","Bamberg",777.24615384599997,"mm",null,{"$f":"LEFT('Berech. Lagerraum flüssig+fest'!$P$9,3)","v":"0"},"0",0,0,0]
[472,"Bayreuth","Bayreuth",943.99216300900002,"mm",null,{"$f":"LEFT('Berech. Lagerraum flüssig+fest'!$P$9,3)","v":"0"},"0",0,0,0]
[473,"Coburg","Coburg",785.29881154500004,"mm",null,{"$f":"LEFT('Berech. Lagerraum flüssig+fest'!$P$9,3)","v":"0"},"0",0,0,0]
[474,"Forchheim","Forchheim",871.32192845999998,"mm",null,{"$f":"LEFT('Berech. Lagerraum flüssig+fest'!$P$9,3)","v":"0"},"0",0,0,0]
[475,"Hof","Hof",900.19620958799999,"mm",null,{"$f":"LEFT('Berech. Lagerraum flüssig+fest'!$P$9,3)","v":"0"},"0",0,0,0]
[476,"Kronach","Kronach",984.27846153799999,"mm",null,{"$f":"LEFT('Berech. Lagerraum flüssig+fest'!$P$9,3)","v":"0"},"0",0,0,0]
[477,"Kulmbach","Kulmbach",888.51060606099998,"mm",null,{"$f":"LEFT('Berech. Lagerraum flüssig+fest'!$P$9,3)","v":"0"},"0",0,0,0]
[478,"Lichtenfels","Lichtenfels",788.10617760599996,"mm",null,{"$f":"LEFT('Berech. Lagerraum flüssig+fest'!$P$9,3)","v":"0"},"0",0,0,0]
[479,"Wunsiedel i.Fichtelgebirge","Wunsiedel i.Fichtelgebirge",875.27287853600001,"mm",null,{"$f":"LEFT('Berech. Lagerraum flüssig+fest'!$P$9,3)","v":"0"},"0",0,0,0]
[561,"Ansbach","Ansbach",735.12121212099999,"mm",null,{"$f":"LEFT('Berech. Lagerraum flüssig+fest'!$P$9,3)","v":"0"},"0",0,0,0]
[562,"Erlangen","Erlangen",711.83333333300004,"mm",null,{"$f":"LEFT('Berech. Lagerraum flüssig+fest'!$P$9,3)","v":"0"},"0",0,0,0]
[563,"F┬ürth","Fürth",667.75806451599999,"mm",null,{"$f":"LEFT('Berech. Lagerraum flüssig+fest'!$P$9,3)","v":"0"},"0",0,0,0]
[564,"N┬ürnberg","Nürnberg",690,"mm",null,{"$f":"LEFT('Berech. Lagerraum flüssig+fest'!$P$9,3)","v":"0"},"0",0,0,0]
[565,"Schwabach","Schwabach",703.60975609800005,"mm",null,{"$f":"LEFT('Berech. Lagerraum flüssig+fest'!$P$9,3)","v":"0"},"0",0,0,0]
[571,"Ansbach","Ansbach",760.88793103399996,"mm",null,{"$f":"LEFT('Berech. Lagerraum flüssig+fest'!$P$9,3)","v":"0"},"0",0,0,0]
[572,"Erlangen-HÔÇØchstadt","Erlangen-Höchstadt",732.97142857100005,"mm",null,{"$f":"LEFT('Berech. Lagerraum flüssig+fest'!$P$9,3)","v":"0"},"0",0,0,0]
[573,"F┬ürth","Fürth",688.34193548400003,"mm",null,{"$f":"LEFT('Berech. Lagerraum flüssig+fest'!$P$9,3)","v":"0"},{"$f":"+G67","v":"0"},{"$f":"VALUE(H67)","v":0},{"$f":"IF(I67=A67,1,0)","v":0},{"$f":"IF(J67>0,D67,0)","v":0}]
[574,"N┬ürnberger Land","Nürnberger Land",925.00501882100002,"mm",null,{"$f":"LEFT('Berech. Lagerraum flüssig+fest'!$P$9,3)","v":"0"},"0",0,0,0]
[575,"Neustadt a.d.Aisch-Bad Windsheim","Neustadt a.d.Aisch-Bad Windsheim",714.79779700999995,"mm",null,{"$f":"LEFT('Berech. Lagerraum flüssig+fest'!$P$9,3)","v":"0"},"0",0,0,0]
[576,"Roth","Roth",770.43687150799997,"mm",null,{"$f":"LEFT('Berech. Lagerraum flüssig+fest'!$P$9,3)","v":"0"},"0",0,0,0]
[577,"Wei├íenburg-Gunzenhausen","Weißenburg-Gunzenhausen",807.52156057499997,"mm",null,{"$f":"LEFT('Berech. Lagerraum flüssig+fest'!$P$9,3)","v":"0"},"0",0,0,0]
[661,"Aschaffenburg","Aschaffenburg",751.01612903199998,"mm",null,{"$f":"LEFT('Berech. Lagerraum flüssig+fest'!$P$9,3)","v":"0"},"0",0,0,0]
[662,"Schweinfurt","Schweinfurt",631.34285714299995,"mm",null,{"$f":"LEFT('Berech. Lagerraum flüssig+fest'!$P$9,3)","v":"0"},"0",0,0,0]
[663,"W┬ürzburg","Würzburg",664.505494505,"mm",null,{"$f":"LEFT('Berech. Lagerraum flüssig+fest'!$P$9,3)","v":"0"},"0",0,0,0]
[671,"Aschaffenburg","Aschaffenburg",927.23165467599995,"mm",null,{"$f":"LEFT('Berech. Lagerraum flüssig+fest'!$P$9,3)","v":"0"},"0",0,0,0]
[672,"Bad Kissingen","Bad Kissingen",826.74142480199998,"mm",null,{"$f":"LEFT('Berech. Lagerraum flüssig+fest'!$P$9,3)","v":"0"},"0",0,0,0]
[673,"RhÔÇØn-Grabfeld","Rhön-Grabfeld",772.52325581399998,"mm",null,{"$f":"LEFT('Berech. Lagerraum flüssig+fest'!$P$9,3)","v":"0"},"0",0,0,0]
[674,"Ha├íberge","Haßberge",738.38293444299995,"mm",null,{"$f":"LEFT('Berech. Lagerraum flüssig+fest'!$P$9,3)","v":"0"},"0",0,0,0]
[675,"Kitzingen","Kitzingen",653.52992700699997,"mm",null,{"$f":"LEFT('Berech. Lagerraum flüssig+fest'!$P$9,3)","v":"0"},"0",0,0,0]
[676,"Miltenberg","Miltenberg",850.1,"mm",null,{"$f":"LEFT('Berech. Lagerraum flüssig+fest'!$P$9,3)","v":"0"},"0",0,0,0]
[677,"Main-Spessart","Main-Spessart",856.44168547799995,"mm",null,{"$f":"LEFT('Berech. Lagerraum flüssig+fest'!$P$9,3)","v":"0"},"0",0,0,0]
[678,"Schweinfurt","Schweinfurt",681.91456076999998,"mm",null,{"$f":"LEFT('Berech. Lagerraum flüssig+fest'!$P$9,3)","v":"0"},"0",0,0,0]
[679,"W┬ürzburg","Würzburg",694.79645093900001,"mm",null,{"$f":"LEFT('Berech. Lagerraum flüssig+fest'!$P$9,3)","v":"0"},"0",0,0,0]
[761,"Augsburg","Augsburg",863.95890411000005,"mm",null,{"$f":"LEFT('Berech. Lagerraum flüssig+fest'!$P$9,3)","v":"0"},"0",0,0,0]
[762,"Kaufbeuren","Kaufbeuren",1189.2619047600001,"mm",null,{"$f":"LEFT('Berech. Lagerraum flüssig+fest'!$P$9,3)","v":"0"},"0",0,0,0]
[763,"Kempten (AllgÔÇ×u)","Kempten (Allgäu)",1377.79104478,"mm",null,{"$f":"LEFT('Berech. Lagerraum flüssig+fest'!$P$9,3)","v":"0"},"0",0,0,0]
[764,"Memmingen","Memmingen",1037.5999999999999,"mm",null,{"$f":"LEFT('Berech. Lagerraum flüssig+fest'!$P$9,3)","v":"0"},"0",0,0,0]
[771,"Aichach-Friedberg","Aichach-Friedberg",870.97051282100006,"mm",null,{"$f":"LEFT('Berech. Lagerraum flüssig+fest'!$P$9,3)","v":"0"},"0",0,0,0]
[772,"Augsburg","Augsburg",898.268337976,"mm",null,{"$f":"LEFT('Berech. Lagerraum flüssig+fest'!$P$9,3)","v":"0"},"0",0,0,0]
[773,"Dillingen a.d.Donau","Dillingen a.d.Donau",776.56872635599996,"mm",null,{"$f":"LEFT('Berech. Lagerraum flüssig+fest'!$P$9,3)","v":"0"},"0",0,0,0]
[774,"G┬ünzburg","Günzburg",873.01056803200004,"mm",null,{"$f":"LEFT('Berech. Lagerraum flüssig+fest'!$P$9,3)","v":"0"},"0",0,0,0]
[775,"Neu-Ulm","Neu-Ulm",878.83141762499997,"mm",null,{"$f":"LEFT('Berech. Lagerraum flüssig+fest'!$P$9,3)","v":"0"},"0",0,0,0]
[776,"Lindau (Bodensee)","Lindau (Bodensee)",1688.91131498,"mm",null,{"$f":"LEFT('Berech. Lagerraum flüssig+fest'!$P$9,3)","v":"0"},"0",0,0,0]
[777,"OstallgÔÇ×u","Ostallgäu",1367.76169906,"mm",null,{"$f":"LEFT('Berech. Lagerraum flüssig+fest'!$P$9,3)","v":"0"},"0",0,0,0]
[778,"UnterallgÔÇ×u","Unterallgäu",1046,"mm",null,{"$f":"LEFT('Berech. Lagerraum flüssig+fest'!$P$9,3)","v":"0"},"0",0,0,0]
[779,"Donau-Ries","Donau-Ries",765.40517241400005,"mm",null,{"$f":"LEFT('Berech. Lagerraum flüssig+fest'!$P$9,3)","v":"0"},"0",0,0,0]
[780,"OberallgÔÇ×u","Oberallgäu",1920.4324147,"mm",null,{"$f":"LEFT('Berech. Lagerraum flüssig+fest'!$P$9,3)","v":"0"},"0",0,0,0]
[null,null,null,null,null,null,null,null,null,null,{"$f":"SUM(K2:K97)","v":0},{"$f":"IF(K98>0,K98,0)","v":0}]